{"text_format":"2","workbook":"xlsx","n_sheets":5,"sheets":["원가계산서","공종별집계표","공종별내역서","일위대가목록","Sheet1"],"not_rendered":{"charts":0,"images":0,"macros":0,"external_links":0,"defined_names":7,"comments":0,"pivot_tables":0},"unopened":[],"bounds":{"document_bytes":16777216,"sheet_cells":100000,"run_cost":"one","rows_first":2000,"rows_last":500,"rows_between":2000,"halvings":0,"cell_chars":16384,"cell_head_chars":4096},"cells_cut":0,"cells_raw":0,"read":"whole","date_system":"1900"}

{"sheet":"원가계산서","index":0,"n_rows":26,"n_cols":7,"rows_kept":26,"cut":false,"hidden":false,"merged":[[25,1,25,3],[19,1,19,3],[20,1,20,3],[21,1,21,3],[22,1,22,3],[23,1,23,3],[24,1,24,3],[0,1,0,6],[1,1,1,4],[1,5,1,6],[2,1,2,3],[3,1,18,1],[3,2,6,2],[7,2,9,2],[10,2,18,2]]}
[null,"공 사 원 가 계 산 서"]
[null,"공사명 : 다릿골시험장 경비실증축공사"]
[null,"비        목",null,null,"금      액","구        성        비","비      고"]
["A1","순   공   사   원   가","재   료   비","직  접  재  료  비",{"$f":"TRUNC(공종별집계표!F5, 0)","v":0},"",""]
["A2",null,null,"간  접  재  료  비",0,"",""]
["A3",null,null,"작업설, 부산물(△)",0,"",""]
["AS",null,null,"[ 소          계 ]",{"$f":"TRUNC(E4+E5-E6, 0)","v":0},"",""]
["B1",null,"노   무   비","직  접  노  무  비",{"$f":"TRUNC(공종별집계표!H5, 0)","v":0},"",""]
["B2",null,null,"간  접  노  무  비",{"$f":"TRUNC(E8*0.122, 0)","v":0},"직접노무비 * 12.2%",""]
["BS",null,null,"[ 소          계 ]",{"$f":"TRUNC(E8+E9, 0)","v":0},"",""]
["C2",null,"경        비","경              비",{"$f":"TRUNC(공종별집계표!J5, 0)","v":0},"",""]
["C4",null,null,"산  재  보  험  료",{"$f":"TRUNC(E10*0.037, 0)","v":0},"노무비 * 3.7%","모든건설공사에 적용"]
["C5",null,null,"고  용  보  험  료",{"$f":"TRUNC(E10*0.0101, 0)","v":0},"노무비 * 1.01%","모든건설공사에 적용"]
["CA",null,null,"산업안전보건관리비",{"$f":"TRUNC((E7+E8)*0.0293, 0)","v":0},"(재료비+직노) * 2.93%","2천만원이상시적용"]
["CG",null,null,"기   타    경   비",{"$f":"TRUNC((E7+E10)*0.058, 0)","v":0},"(재료비+노무비) * 5.8%",""]
["CH",null,null,"환  경  보  전  비",{"$f":"TRUNC((E7+E8+E11)*0.005, 0)","v":0},"(재료비+직노+경비) * 0.5%",""]
["CK",null,null,"하도급지급보증수수료",{"$f":"TRUNC((E7+E8+E11)*0.00081, 0)","v":0},"(재료비+직노+경비) * 0.081%"]
["CL",null,null,"건설기계대여금지급보증서발급수수료",{"$f":"TRUNC((E7+E8+E11)*0.0007, 0)","v":0},"(재료비+직노+경비) * 0.07%",""]
["CS",null,null,"[ 소          계 ]",{"$f":"TRUNC(E11+E12+E13+E14+E15+E16+E17+E18, 0)","v":0},"",""]
["S1","        계",null,null,{"$f":"TRUNC(E7+E10+E19, 0)","v":0},"",""]
["D1","일  반  관  리  비",null,null,{"$f":"TRUNC(E20*0.06, 0)","v":0},"계 * 6%",""]
["D2","이              윤",null,null,{"$f":"TRUNC((E10+E19+E21)*0.15, 0)","v":0},"(노무비+경비+일반관리비) * 15%",""]
["D9","공   급    가   액",null,null,{"$f":"TRUNC(E20+E21+E22, 0)","v":0},"",""]
["DB","부  가  가  치  세",null,null,{"$f":"TRUNC(E23*0.1, 0)","v":0},"공급가액 * 10%",""]
["DH","도      급      액",null,null,null,"",""]
["S2","총   공   사    비",null,null,null,"",""]

{"sheet":"공종별집계표","index":1,"n_rows":27,"n_cols":20,"rows_kept":27,"cut":false,"hidden":false,"merged":[[2,18,3,18],[2,19,3,19],[2,12,3,12],[2,13,3,13],[2,14,3,14],[2,15,3,15],[2,16,3,16],[2,17,3,17],[0,0,0,12],[1,0,1,12],[2,0,3,0],[2,1,3,1],[2,2,3,2],[2,3,3,3],[2,4,2,5],[2,6,2,7],[2,8,2,9],[2,10,2,11]]}
["공 종 별 집 계 표"]
["[ 다릿골시험장 경비실증축공사 ]"]
["품      명","규      격","단위","수량","재  료  비",null,"노  무  비",null,"경      비",null,"합      계",null,"비  고","공종코드","변수","상위공종","공종구분","공종레벨","공종소계","원가계산서 연결금액"]
[{"$nulls":4},"단  가","금  액","단  가","금  액","단  가","금  액","단  가","금  액"]
["01  다릿골시험장 경비실증축공사","","",1,{"$nulls":8},"","01","","","",1,""]
["0101  건  축  공  사","","",1,{"$nulls":8},"","0101","","01","",2,""]
["010101  가  설  공  사","","",1,{"$nulls":8},"","010101","","0101","",3,""]
["010102  토 및 지정공사","","",1,{"$nulls":8},"","010102","","0101","",3,""]
["010103  철근콘크리트공사","","",1,{"$nulls":8},"","010103","","0101","",3,""]
["010104  철  골  공  사","","",1,{"$nulls":8},"","010104","","0101","",3,""]
["010105  타  일  공  사","","",1,{"$nulls":8},"","010105","","0101","",3,""]
["010106  목공사및수장공사","","",1,{"$nulls":8},"","010106","","0101","",3,""]
["010107  방  수  공  사","","",1,{"$nulls":8},"","010107","","0101","",3,""]
["010108  금  속  공  사","","",1,{"$nulls":8},"","010108","","0101","",3,""]
["010109  미  장  공  사","","",1,{"$nulls":8},"","010109","","0101","",3,""]
["010110  창호 및 유리공사","","",1,{"$nulls":8},"","010110","","0101","",3,""]
["010111  칠    공    사","","",1,{"$nulls":8},"","010111","","0101","",3,""]
["010112  부  대  공  사","","",1,{"$nulls":8},"","010112","","0101","",3,""]
["010113  골    재    비","","",1,{"$nulls":8},"","010113","","0101","",3,""]
["010114  운    반    비","","",1,{"$nulls":8},"","010114","","0101","",3,""]
["010115  작 업 부 산 물","","",1,{"$nulls":8},"","010115","","0101","",3,""]
[]
[]
[]
[]
[]
["[ 합           계 ]"]

{"sheet":"공종별내역서","index":2,"n_rows":363,"n_cols":48,"rows_kept":363,"cut":false,"hidden":false,"merged":[[1,43,2,43],[1,44,2,44],[1,45,2,45],[1,46,2,46],[1,47,2,47],[1,42,2,42],[1,31,2,31],[1,32,2,32],[1,33,2,33],[1,34,2,34],[1,35,2,35],[1,36,2,36],[1,37,2,37],[1,38,2,38],[1,39,2,39],[1,40,2,40],[1,41,2,41],[1,30,2,30],[1,19,2,19],[1,20,2,20],[1,21,2,21],[1,22,2,22],[1,23,2,23],[1,24,2,24],[1,25,2,25],[1,26,2,26],[1,27,2,27],[1,28,2,28],[1,29,2,29],[1,18,2,18],[0,0,0,12],[1,0,2,0],[1,1,2,1],[1,2,2,2],[1,3,2,3],[1,4,1,5],[1,6,1,7],[1,8,1,9],[1,10,1,11],[1,12,2,12],[1,13,2,13],[1,14,2,14],[1,15,2,15],[1,16,2,16],[1,17,2,17]]}
["[ 다릿골시험장 경비실증축공사 ]"]
["품      명","규      격","단위","수량","재  료  비",null,"노  무  비",null,"경      비",null,"합      계",null,"비  고","품목코드","변수","설정","공종코드","일위","단산","자재","손료적용","손료저장","적용율","JUK1","JUK2","JUK3","JUK4","JUK5","JUK6","JUK7","JUK8","JUK9","JUK10","JUK11","JUK12","JUK13","JUK14","JUK15","JUK16","JUK17","JUK18","JUK19","JUK20","자재구분","공종구분","공종레벨","공종+자재","고유번호"]
[{"$nulls":4},"단  가","금  액","단  가","금  액","단  가","금  액","단  가","금  액"]
["010101  가  설  공  사","",{"$nulls":14},"010101"]
["강관 조립말비계(이동식)설치 및 해체","높이 2m, 3개월","대",2,{"$nulls":8},"호표 2","454A5F92D4F3D151D60DD627DE7C4","","","010101","T","F","F",{"$nulls":23},"","",null,"010101454A5F92D4F3D151D60DD627DE7C4",5]
["수평 규준틀","귀","개소",4,{"$nulls":8},"호표 4","454A5F92D4F3D151C5CBCB47D91E9","","","010101","T","F","F",{"$nulls":23},"","",null,"010101454A5F92D4F3D151C5CBCB47D91E9",7]
["건축물 현장정리","목조, 철골조, 조적조","M2",38,{"$nulls":8},"호표 6","454A5F9754CF315F6D06A3C98EB0A","","","010101","T","F","F",{"$nulls":23},"","",null,"010101454A5F9754CF315F6D06A3C98EB0A",9]
["거푸집 먹매김","일반","M2",38,{"$nulls":8},"호표 7","454A5F9754F4A158853AAB74D2CBA","","","010101","T","F","F",{"$nulls":23},"","",null,"010101454A5F9754F4A158853AAB74D2CBA",10]
{"$rows_empty":18}
["[ 합           계 ]",{"$nulls":4},{"$f":"SUM(F5:F26)","v":0},null,{"$f":"SUM(H5:H26)","v":0},null,{"$f":"SUM(J5:J26)","v":0},null,{"$f":"SUM(L5:L26)","v":0},null,"TOTAL"]
["010102  토 및 지정공사","",{"$nulls":14},"010102"]
["터파기/토사","보통, 굴삭기 0.7m3","M3",46,{"$f":"TRUNC(#REF!,0)","v":{"$error":"#REF!"}},{"$f":"TRUNC(E29*D29, 0)","v":{"$error":"#REF!"}},{"$f":"TRUNC(#REF!,0)","v":{"$error":"#REF!"}},{"$f":"TRUNC(G29*D29, 0)","v":{"$error":"#REF!"}},{"$f":"TRUNC(#REF!,0)","v":{"$error":"#REF!"}},{"$f":"TRUNC(I29*D29, 0)","v":{"$error":"#REF!"}},{"$f":"TRUNC(E29+G29+I29, 0)","v":{"$error":"#REF!"}},{"$error":"#REF!"},"산근 1","456F5F36E41E11561221BA9C8049A","","","010102","F","T","F",{"$nulls":23},"","",null,"010102456F5F36E41E11561221BA9C8049A",12]
["토사 운반/단지외 10km","보통, 덤프 15ton+굴삭기 0.7m3(고르기 별도)","M3",31,{"$f":"TRUNC(#REF!,0)","v":{"$error":"#REF!"}},{"$f":"TRUNC(E30*D30, 0)","v":{"$error":"#REF!"}},{"$f":"TRUNC(#REF!,0)","v":{"$error":"#REF!"}},{"$f":"TRUNC(G30*D30, 0)","v":{"$error":"#REF!"}},{"$f":"TRUNC(#REF!,0)","v":{"$error":"#REF!"}},{"$f":"TRUNC(I30*D30, 0)","v":{"$error":"#REF!"}},{"$error":"#REF!"},{"$error":"#REF!"},"산근 2","456F5F35D4AF015B19E815A5FAEFF","","","010102","F","T","F",{"$nulls":23},"","",null,"010102456F5F35D4AF015B19E815A5FAEFF",13]
["되메우기/토사, 두께 30cm","보통, 굴삭기 0.7m3+래머 80kg","M3",15,{"$f":"TRUNC(#REF!,0)","v":{"$error":"#REF!"}},{"$f":"TRUNC(E31*D31, 0)","v":{"$error":"#REF!"}},{"$f":"TRUNC(#REF!,0)","v":{"$error":"#REF!"}},{"$f":"TRUNC(G31*D31, 0)","v":{"$error":"#REF!"}},{"$f":"TRUNC(#REF!,0)","v":{"$error":"#REF!"}},{"$f":"TRUNC(I31*D31, 0)","v":{"$error":"#REF!"}},{"$error":"#REF!"},{"$error":"#REF!"},"산근 3","456F5F3B6433A15155F2508BE10EA","","","010102","F","T","F",{"$nulls":23},"","",null,"010102456F5F3B6433A15155F2508BE10EA",14]
["잡석지정(잡석포함)","굴삭기 0.6m3+진동롤러(핸드가이드식)","M3",7,{"$f":"TRUNC(일위대가목록!E11,0)","v":0},{"$f":"TRUNC(E32*D32, 0)","v":0},{"$f":"TRUNC(일위대가목록!F11,0)","v":0},{"$f":"TRUNC(G32*D32, 0)","v":0},{"$f":"TRUNC(일위대가목록!G11,0)","v":0},{"$f":"TRUNC(I32*D32, 0)","v":0},0,0,"호표 8","456F5F3A54DD1159CCA2867A259B8","","","010102","T","F","F",{"$nulls":23},"","",null,"010102456F5F3A54DD1159CCA2867A259B8",15]
{"$rows_empty":18}
["[ 합           계 ]",{"$nulls":4},{"$f":"SUM(F29:F50)","v":{"$error":"#REF!"}},null,{"$f":"SUM(H29:H50)","v":{"$error":"#REF!"}},null,{"$f":"SUM(J29:J50)","v":{"$error":"#REF!"}},null,{"$f":"SUM(L29:L50)","v":{"$error":"#REF!"}},null,"TOTAL"]
["010103  철근콘크리트공사","",{"$nulls":14},"010103"]
["철근콘크리트용봉강","철근콘크리트용봉강, 이형봉강(SD350/400), HD-13, 지정장소도","TON",1.5509999999999999,{"$f":"TRUNC(#REF!,0)","v":{"$error":"#REF!"}},{"$f":"TRUNC(E53*D53, 0)","v":{"$error":"#REF!"}},{"$f":"TRUNC(#REF!,0)","v":{"$error":"#REF!"}},{"$f":"TRUNC(G53*D53, 0)","v":{"$error":"#REF!"}},{"$f":"TRUNC(#REF!,0)","v":{"$error":"#REF!"}},{"$f":"TRUNC(I53*D53, 0)","v":{"$error":"#REF!"}},{"$f":"TRUNC(E53+G53+I53, 0)","v":{"$error":"#REF!"}},{"$error":"#REF!"},"","42645838F470315E6542BCDADAA7BEA65131A","","","010103","F","F","T",{"$nulls":23},"","",null,"01010342645838F470315E6542BCDADAA7BEA65131A",17]
["레미콘 - 인제[버림]","25-18-08","M3",3,{"$f":"TRUNC(#REF!,0)","v":{"$error":"#REF!"}},{"$error":"#REF!"},{"$f":"TRUNC(#REF!,0)","v":{"$error":"#REF!"}},{"$error":"#REF!"},{"$f":"TRUNC(#REF!,0)","v":{"$error":"#REF!"}},{"$error":"#REF!"},{"$error":"#REF!"},{"$error":"#REF!"},"","42645838F467A1565B5871C08FFFFAF458E11","","","010103","F","F","T",{"$nulls":23},"","",null,"01010342645838F467A1565B5871C08FFFFAF458E11",18]
["레미콘 - 인제[구체]","25-24-12","M3",24,{"$f":"TRUNC(#REF!,0)","v":{"$error":"#REF!"}},{"$error":"#REF!"},{"$f":"TRUNC(#REF!,0)","v":{"$error":"#REF!"}},{"$error":"#REF!"},{"$f":"TRUNC(#REF!,0)","v":{"$error":"#REF!"}},{"$error":"#REF!"},{"$error":"#REF!"},{"$error":"#REF!"},"","42645838F467A1565B5871C08FFFFAF458C6E","","","010103","F","F","T",{"$nulls":23},"","",null,"01010342645838F467A1565B5871C08FFFFAF458C6E",19]
["유로폼 설치 및 해체","간단, 수직고 7m까지","M2",28,{"$f":"TRUNC(일위대가목록!E12,0)","v":0},0,{"$f":"TRUNC(일위대가목록!F12,0)","v":0},0,{"$f":"TRUNC(일위대가목록!G12,0)","v":0},0,0,0,"호표 9","454A5A10C4699152BCD7D7C46B4C1","","","010103","T","F","F",{"$nulls":23},"","",null,"010103454A5A10C4699152BCD7D7C46B4C1",20]
["철근 현장가공 및 현장조립","Type-Ⅱ","TON",1.056,{"$f":"TRUNC(일위대가목록!E13,0)","v":0},0,{"$f":"TRUNC(일위대가목록!F13,0)","v":0},0,{"$f":"TRUNC(일위대가목록!G13,0)","v":0},0,0,0,"호표 10","454A5A139469D1579E7F5689D583B","","","010103","T","F","F",{"$nulls":23},"","",null,"010103454A5A139469D1579E7F5689D583B",115]
["레디믹스트콘크리트 인력운반 타설/버림","무근구조물","M3",3,{"$f":"TRUNC(일위대가목록!E14,0)","v":0},0,{"$f":"TRUNC(일위대가목록!F14,0)","v":0},0,{"$f":"TRUNC(일위대가목록!G14,0)","v":0},0,0,0,"호표 11","454A5A177416D15CAEA763D522F63","","","010103","T","F","F",{"$nulls":23},"","",null,"010103454A5A177416D15CAEA763D522F63",22]
["콘크리트 펌프차 타설(매트기초 등)","100m3 미만, 슬럼프 8~12cm, 양호","M3",24,{"$f":"TRUNC(#REF!,0)","v":{"$error":"#REF!"}},{"$error":"#REF!"},{"$f":"TRUNC(#REF!,0)","v":{"$error":"#REF!"}},{"$error":"#REF!"},{"$f":"TRUNC(#REF!,0)","v":{"$error":"#REF!"}},{"$error":"#REF!"},{"$error":"#REF!"},{"$error":"#REF!"},"산근 4","454A5A177431B15A466AA991283F2","","","010103","F","T","F",{"$nulls":23},"","",null,"010103454A5A177431B15A466AA991283F2",23]
{"$rows_empty":15}
["[ 합           계 ]",{"$nulls":4},{"$f":"SUM(F53:F74)","v":{"$error":"#REF!"}},null,{"$f":"SUM(H53:H74)","v":{"$error":"#REF!"}},null,{"$f":"SUM(J53:J74)","v":{"$error":"#REF!"}},null,{"$f":"SUM(L53:L74)","v":{"$error":"#REF!"}},null,"TOTAL"]
["010104  철  골  공  사","",{"$nulls":14},"010104"]
["일반구조용압연강판","일반구조용압연강판, 6.0mm","TON",7.1999999999999995E-2,{"$f":"TRUNC(#REF!,0)","v":{"$error":"#REF!"}},{"$f":"TRUNC(E77*D77, 0)","v":{"$error":"#REF!"}},{"$f":"TRUNC(#REF!,0)","v":{"$error":"#REF!"}},{"$f":"TRUNC(G77*D77, 0)","v":{"$error":"#REF!"}},{"$f":"TRUNC(#REF!,0)","v":{"$error":"#REF!"}},{"$f":"TRUNC(I77*D77, 0)","v":{"$error":"#REF!"}},{"$f":"TRUNC(E77+G77+I77, 0)","v":{"$error":"#REF!"}},{"$f":"TRUNC(F77+H77+J77, 0)","v":{"$error":"#REF!"}},"","42645838F4700152E75C385B3D0233C494A0E","","","010104","F","F","T",{"$nulls":23},"","",null,"01010442645838F4700152E75C385B3D0233C494A0E",25]
["일반구조용압연강판","일반구조용압연강판, 12mm","TON",0.10199999999999999,{"$f":"TRUNC(#REF!,0)","v":{"$error":"#REF!"}},{"$error":"#REF!"},{"$f":"TRUNC(#REF!,0)","v":{"$error":"#REF!"}},{"$error":"#REF!"},{"$f":"TRUNC(#REF!,0)","v":{"$error":"#REF!"}},{"$error":"#REF!"},{"$error":"#REF!"},{"$error":"#REF!"},"","42645838F4700152E75C385B3D0233C494A0C","","","010104","F","F","T",{"$nulls":23},"","",null,"01010442645838F4700152E75C385B3D0233C494A0C",26]
["기초앵커볼트(L형)","M16 (5/8\"), L:450","개",47,{"$f":"TRUNC(#REF!,0)","v":{"$error":"#REF!"}},{"$error":"#REF!"},{"$f":"TRUNC(#REF!,0)","v":{"$error":"#REF!"}},{"$error":"#REF!"},{"$f":"TRUNC(#REF!,0)","v":{"$error":"#REF!"}},{"$error":"#REF!"},{"$error":"#REF!"},{"$error":"#REF!"},"","426459C1340DF15C22C3294CED3C28ACBB3DA","","","010104","F","F","T",{"$nulls":23},"","",null,"010104426459C1340DF15C22C3294CED3C28ACBB3DA",27]
["일반구조용각형강관","일반구조용각형강관, 각형강관, 60*60*2.3mm","M",25,{"$f":"TRUNC(#REF!,0)","v":{"$error":"#REF!"}},{"$error":"#REF!"},{"$f":"TRUNC(#REF!,0)","v":{"$error":"#REF!"}},{"$error":"#REF!"},{"$f":"TRUNC(#REF!,0)","v":{"$error":"#REF!"}},{"$error":"#REF!"},{"$error":"#REF!"},{"$error":"#REF!"},"","421C56FFF48BB15777C7A32CC61994D2E0A6E","","","010104","F","F","T",{"$nulls":23},"","",null,"010104421C56FFF48BB15777C7A32CC61994D2E0A6E",28]
["일반구조용각형강관","일반구조용각형강관, 각형강관, 100*100*2.3mm","M",86,{"$f":"TRUNC(#REF!,0)","v":{"$error":"#REF!"}},{"$error":"#REF!"},{"$f":"TRUNC(#REF!,0)","v":{"$error":"#REF!"}},{"$error":"#REF!"},{"$f":"TRUNC(#REF!,0)","v":{"$error":"#REF!"}},{"$error":"#REF!"},{"$error":"#REF!"},{"$error":"#REF!"},"","421C56FFF48BB15777C7A32CC61994D2E08B9","","","010104","F","F","T",{"$nulls":23},"","",null,"010104421C56FFF48BB15777C7A32CC61994D2E08B9",29]
["일반구조용각형강관","일반구조용각형강관, 각형강관, 100*100*3.2mm","M",194,{"$f":"TRUNC(#REF!,0)","v":{"$error":"#REF!"}},{"$error":"#REF!"},{"$f":"TRUNC(#REF!,0)","v":{"$error":"#REF!"}},{"$error":"#REF!"},{"$f":"TRUNC(#REF!,0)","v":{"$error":"#REF!"}},{"$error":"#REF!"},{"$error":"#REF!"},{"$error":"#REF!"},"","421C56FFF48BB15777C7A32CC61994D2E08B8","","","010104","F","F","T",{"$nulls":23},"","",null,"010104421C56FFF48BB15777C7A32CC61994D2E08B8",30]
["철골 세우기 - 크레인(타이어) 20ton","창고 소규모, 공장 대규모 건물 트러스 거더류","TON",1.976,{"$f":"TRUNC(일위대가목록!E15,0)","v":0},0,{"$f":"TRUNC(일위대가목록!F15,0)","v":0},0,{"$f":"TRUNC(일위대가목록!G15,0)","v":0},0,0,0,"호표 12","454A5F9024C01153ECA35D72CFC55","","","010104","T","F","F",{"$nulls":23},"","",null,"010104454A5F9024C01153ECA35D72CFC55",116]
["앵커 볼트 설치","∮16 이하","개",44,{"$f":"TRUNC(일위대가목록!E16,0)","v":0},0,{"$f":"TRUNC(일위대가목록!F16,0)","v":0},0,{"$f":"TRUNC(일위대가목록!G16,0)","v":0},0,0,0,"호표 13","454A5B7A7408315458BB5D6680A29","","","010104","T","F","F",{"$nulls":23},"","",null,"010104454A5B7A7408315458BB5D6680A29",32]
["철골 가공 조립(적은 구조)","Rolled shape, 60ton 미만","TON",1.976,{"$f":"TRUNC(일위대가목록!E17,0)","v":0},0,{"$f":"TRUNC(일위대가목록!F17,0)","v":0},0,{"$f":"TRUNC(일위대가목록!G17,0)","v":0},0,0,0,"호표 14","454A5B7B1466715EA443D94977F4B","","","010104","T","F","F",{"$nulls":23},"","",null,"010104454A5B7B1466715EA443D94977F4B",33]
["부대철골 설치","","TON",0.55400000000000005,{"$f":"TRUNC(일위대가목록!E18,0)","v":0},0,{"$f":"TRUNC(일위대가목록!F18,0)","v":0},0,{"$f":"TRUNC(일위대가목록!G18,0)","v":0},0,0,0,"호표 15","454A5B7C34D7015AE9032E31A0E2F","","","010104","T","F","F",{"$nulls":23},"","",null,"010104454A5B7C34D7015AE9032E31A0E2F",34]
["철골세우기 - 표준단가","6층 미만","TON",1.976,{"$f":"TRUNC(일위대가목록!E19,0)","v":0},0,{"$f":"TRUNC(일위대가목록!F19,0)","v":0},0,{"$f":"TRUNC(일위대가목록!G19,0)","v":0},0,0,0,"호표 16","454A5B7DC464F15CB8D2844DEEF37","","","010104","T","F","F",{"$nulls":23},"","",null,"010104454A5B7DC464F15CB8D2844DEEF37",35]
["수용접(Rolled shape 제작)","20(m/t) 미만, 30ton 미만","TON",1.976,{"$f":"TRUNC(일위대가목록!E20,0)","v":0},0,{"$f":"TRUNC(일위대가목록!F20,0)","v":0},0,{"$f":"TRUNC(일위대가목록!G20,0)","v":0},0,0,0,"호표 17","454A5B7DC4DFE153B34F375A1AF24","","","010104","T","F","F",{"$nulls":23},"","",null,"010104454A5B7DC4DFE153B34F375A1AF24",36]
["현장용접 - 반자동 용접 기준","각장 6mm 환산용접 길이","M",84,{"$f":"TRUNC(일위대가목록!E21,0)","v":0},0,{"$f":"TRUNC(일위대가목록!F21,0)","v":0},0,{"$f":"TRUNC(일위대가목록!G21,0)","v":0},0,0,0,"호표 18","454A5B7DC4DFE153B3DEFB1F22400","","","010104","T","F","F",{"$nulls":23},"","",null,"010104454A5B7DC4DFE153B3DEFB1F22400",37]
["주각부 무수축 모르타르 충전","300*300*40mm","개소",11,{"$f":"TRUNC(일위대가목록!E22,0)","v":0},0,{"$f":"TRUNC(일위대가목록!F22,0)","v":0},0,{"$f":"TRUNC(일위대가목록!G22,0)","v":0},0,0,0,"호표 19","454A5B7DC4DFF15DFA9E7E4B77757","","","010104","T","F","F",{"$nulls":23},"","",null,"010104454A5B7DC4DFF15DFA9E7E4B77757",38]
{"$rows_empty":8}
["[ 합           계 ]",{"$nulls":4},{"$f":"SUM(F77:F98)","v":{"$error":"#REF!"}},null,{"$f":"SUM(H77:H98)","v":{"$error":"#REF!"}},null,{"$f":"SUM(J77:J98)","v":{"$error":"#REF!"}},null,{"$f":"SUM(L77:L98)","v":{"$error":"#REF!"}},null,"TOTAL"]
["010105  타  일  공  사","",{"$nulls":14},"010105"]
["자기질타일/화장실","논스립자기질타일, 무유, 200*200*6.5~8mm","M2",4,{"$f":"TRUNC(#REF!,0)","v":{"$error":"#REF!"}},{"$f":"TRUNC(E101*D101, 0)","v":{"$error":"#REF!"}},{"$f":"TRUNC(#REF!,0)","v":{"$error":"#REF!"}},{"$f":"TRUNC(G101*D101, 0)","v":{"$error":"#REF!"}},{"$f":"TRUNC(#REF!,0)","v":{"$error":"#REF!"}},{"$f":"TRUNC(I101*D101, 0)","v":{"$error":"#REF!"}},{"$f":"TRUNC(E101+G101+I101, 0)","v":{"$error":"#REF!"}},{"$error":"#REF!"},"","42645838F444C1562E5556FD951C4D498722D","","","010105","F","F","T",{"$nulls":23},"","",null,"01010542645838F444C1562E5556FD951C4D498722D",40]
["도기질타일","도기질타일, 일반색, 250*400*7.5mm","M2",19,{"$f":"TRUNC(#REF!,0)","v":{"$error":"#REF!"}},{"$f":"TRUNC(E102*D102, 0)","v":{"$error":"#REF!"}},{"$f":"TRUNC(#REF!,0)","v":{"$error":"#REF!"}},{"$f":"TRUNC(G102*D102, 0)","v":{"$error":"#REF!"}},{"$f":"TRUNC(#REF!,0)","v":{"$error":"#REF!"}},{"$f":"TRUNC(I102*D102, 0)","v":{"$error":"#REF!"}},{"$error":"#REF!"},{"$error":"#REF!"},"","42645838F444C1562E5556FD959150CA577BF","","","010105","F","F","T",{"$nulls":23},"","",null,"01010542645838F444C1562E5556FD959150CA577BF",117]
["타일접착제 붙이기(바탕 압 6mm)","벽, 200각이상(에폭시접착제,백색줄눈)","M2",18,{"$f":"TRUNC(일위대가목록!E23,0)","v":0},{"$f":"TRUNC(E103*D103, 0)","v":0},{"$f":"TRUNC(일위대가목록!F23,0)","v":0},{"$f":"TRUNC(G103*D103, 0)","v":0},{"$f":"TRUNC(일위대가목록!G23,0)","v":0},{"$f":"TRUNC(I103*D103, 0)","v":0},0,0,"호표 20","454A5343A487315B41FAB172BBAC6","","","010105","T","F","F",{"$nulls":23},"","",null,"010105454A5343A487315B41FAB172BBAC6",42]
["타일 압착 붙이기(바탕 43mm+압 5mm)","바닥, 200*200(타일C, 백색줄눈)","M2",4,{"$f":"TRUNC(일위대가목록!E24,0)","v":0},{"$f":"TRUNC(E104*D104, 0)","v":0},{"$f":"TRUNC(일위대가목록!F24,0)","v":0},{"$f":"TRUNC(G104*D104, 0)","v":0},{"$f":"TRUNC(일위대가목록!G24,0)","v":0},{"$f":"TRUNC(I104*D104, 0)","v":0},0,0,"호표 21","454A5343A4A3F1518236D4EFAD7F3","","","010105","T","F","F",{"$nulls":23},"","",null,"010105454A5343A4A3F1518236D4EFAD7F3",43]
{"$rows_empty":18}
["[ 합           계 ]",{"$nulls":4},{"$f":"SUM(F101:F122)","v":{"$error":"#REF!"}},null,{"$f":"SUM(H101:H122)","v":{"$error":"#REF!"}},null,{"$f":"SUM(J101:J122)","v":{"$error":"#REF!"}},null,{"$f":"SUM(L101:L122)","v":{"$error":"#REF!"}},null,"TOTAL"]
["010106  목공사및수장공사","",{"$nulls":14},"010106"]
["구조부 먹매김","일반","M2",38,{"$f":"TRUNC(일위대가목록!E25,0)","v":0},{"$f":"TRUNC(E125*D125, 0)","v":0},{"$f":"TRUNC(일위대가목록!F25,0)","v":0},{"$f":"TRUNC(G125*D125, 0)","v":0},{"$f":"TRUNC(일위대가목록!G25,0)","v":0},{"$f":"TRUNC(I125*D125, 0)","v":0},{"$f":"TRUNC(E125+G125+I125, 0)","v":0},{"$f":"TRUNC(F125+H125+J125, 0)","v":0},"호표 22","454A5F9754F4A158853A88A58FDCE","","","010106","T","F","F",{"$nulls":23},"","",null,"010106454A5F9754F4A158853A88A58FDCE",46]
["비닐타일 깔기","비닐타일, 3*450*450mm, 데코타일","M2",31,{"$f":"TRUNC(일위대가목록!E26,0)","v":0},0,{"$f":"TRUNC(일위대가목록!F26,0)","v":0},0,{"$f":"TRUNC(일위대가목록!G26,0)","v":0},0,0,0,"호표 23","454A5175144FE1597D373D2F81B2C","","","010106","T","F","F",{"$nulls":23},"","",null,"010106454A5175144FE1597D373D2F81B2C",47]
["샌드위치패널","칸막이, 200mm ,준불연","M2",18,{"$f":"TRUNC(일위대가목록!E27,0)","v":0},0,{"$f":"TRUNC(일위대가목록!F27,0)","v":0},0,{"$f":"TRUNC(일위대가목록!G27,0)","v":0},0,0,0,"호표 24","454A517634AE2157DA8585A7E1F31","","","010106","T","F","F",{"$nulls":23},"","",null,"010106454A517634AE2157DA8585A7E1F31",49]
["징크샌드위치패널","외벽, 200mm ,준불연","M2",81,{"$f":"TRUNC(일위대가목록!E28,0)","v":0},0,{"$f":"TRUNC(일위대가목록!F28,0)","v":0},0,{"$f":"TRUNC(일위대가목록!G28,0)","v":0},0,0,0,"호표 25","454A517634AE2157DA8585A7E1F33","","","010106","T","F","F",{"$nulls":23},"","",null,"010106454A517634AE2157DA8585A7E1F33",48]
["징크샌드위치패널","지붕, 220mm, 준불연","M2",44,{"$f":"TRUNC(일위대가목록!E29,0)","v":0},0,{"$f":"TRUNC(일위대가목록!F29,0)","v":0},0,{"$f":"TRUNC(일위대가목록!G29,0)","v":0},0,0,0,"호표 26","454A517634AE2157DA8585A7E1880","","","010106","T","F","F",{"$nulls":23},"","",null,"010106454A517634AE2157DA8585A7E1880",50]
["징크샌드위치패널","지붕, 50mm","M2",11,{"$f":"TRUNC(일위대가목록!E30,0)","v":0},0,{"$f":"TRUNC(일위대가목록!F30,0)","v":0},0,{"$f":"TRUNC(일위대가목록!G30,0)","v":0},0,0,0,"호표 27","454A517634AE2157DA8585A7E1886","","","010106","T","F","F",{"$nulls":23},"","",null,"010106454A517634AE2157DA8585A7E1886",51]
["박공후레싱","C/S 1.2T W=610","M",16,{"$f":"TRUNC(일위대가목록!E31,0)","v":0},0,{"$f":"TRUNC(일위대가목록!F31,0)","v":0},0,{"$f":"TRUNC(일위대가목록!G31,0)","v":0},0,0,0,"호표 28","454A517634AE2157DA8585A7C6CD4","","","010106","T","F","F",{"$nulls":23},"","",null,"010106454A517634AE2157DA8585A7C6CD4",52]
["처마후레싱","C/S 1.2T W=710","M",2,{"$f":"TRUNC(일위대가목록!E32,0)","v":0},0,{"$f":"TRUNC(일위대가목록!F32,0)","v":0},0,{"$f":"TRUNC(일위대가목록!G32,0)","v":0},0,0,0,"호표 29","454A517634AE2157DA8585A7C6DFA","","","010106","T","F","F",{"$nulls":23},"","",null,"010106454A517634AE2157DA8585A7C6DFA",53]
["코너후레싱","C/S 1.2T W=400","M",15,{"$f":"TRUNC(일위대가목록!E33,0)","v":0},0,{"$f":"TRUNC(일위대가목록!F33,0)","v":0},0,{"$f":"TRUNC(일위대가목록!G33,0)","v":0},0,0,0,"호표 30","454A517634AE2157DA8585A7C6A26","","","010106","T","F","F",{"$nulls":23},"","",null,"010106454A517634AE2157DA8585A7C6A26",54]
["베이스후레싱","C/S 1.2T W=400","M",23,{"$f":"TRUNC(일위대가목록!E34,0)","v":0},0,{"$f":"TRUNC(일위대가목록!F34,0)","v":0},0,{"$f":"TRUNC(일위대가목록!G34,0)","v":0},0,0,0,"호표 31","454A517634AE2157DA8585A7C6BCD","","","010106","T","F","F",{"$nulls":23},"","",null,"010106454A517634AE2157DA8585A7C6BCD",55]
["캐노피 ENDCAP","C/S 0.5T W=400","M",14,{"$f":"TRUNC(일위대가목록!E35,0)","v":0},0,{"$f":"TRUNC(일위대가목록!F35,0)","v":0},0,{"$f":"TRUNC(일위대가목록!G35,0)","v":0},0,0,0,"호표 32","454A517634AE2157DA8585A7C6879","","","010106","T","F","F",{"$nulls":23},"","",null,"010106454A517634AE2157DA8585A7C6879",56]
["캐노피 천정후레싱","C/S 0.5T 40*80","M",10,{"$f":"TRUNC(일위대가목록!E36,0)","v":0},0,{"$f":"TRUNC(일위대가목록!F36,0)","v":0},0,{"$f":"TRUNC(일위대가목록!G36,0)","v":0},0,0,0,"호표 33","454A517634AE2157DA8585A7C687B","","","010106","T","F","F",{"$nulls":23},"","",null,"010106454A517634AE2157DA8585A7C687B",57]
["캐노피 천정마감판","C/S 0.5T","M2",11,{"$f":"TRUNC(일위대가목록!E37,0)","v":0},0,{"$f":"TRUNC(일위대가목록!F37,0)","v":0},0,{"$f":"TRUNC(일위대가목록!G37,0)","v":0},0,0,0,"호표 34","454A517634AE2157DA8585A7C687D","","","010106","T","F","F",{"$nulls":23},"","",null,"010106454A517634AE2157DA8585A7C687D",58]
["캐노피 지붕후레싱","C/S 0.5T 150*50","M",10,{"$f":"TRUNC(일위대가목록!E38,0)","v":0},0,{"$f":"TRUNC(일위대가목록!F38,0)","v":0},0,{"$f":"TRUNC(일위대가목록!G38,0)","v":0},0,0,0,"호표 35","454A517634AE2157DA8585A7C687F","","","010106","T","F","F",{"$nulls":23},"","",null,"010106454A517634AE2157DA8585A7C687F",59]
["창틀 후레싱","C/S 1.2T □-200*50","M",6,{"$f":"TRUNC(일위대가목록!E39,0)","v":0},0,{"$f":"TRUNC(일위대가목록!F39,0)","v":0},0,{"$f":"TRUNC(일위대가목록!G39,0)","v":0},0,0,0,"호표 36","454A517634AE2157DA8585A7C664B","","","010106","T","F","F",{"$nulls":23},"","",null,"010106454A517634AE2157DA8585A7C664B",121]
["처마홈통","C/S 1.2T W=150","M",6,{"$f":"TRUNC(일위대가목록!E40,0)","v":0},0,{"$f":"TRUNC(일위대가목록!F40,0)","v":0},0,{"$f":"TRUNC(일위대가목록!G40,0)","v":0},0,0,0,"호표 37","454A517634AE2157DA8585A7B489E","","","010106","T","F","F",{"$nulls":23},"","",null,"010106454A517634AE2157DA8585A7B489E",60]
["선홈통","C/S 1.2T □-100*50","M",7,{"$f":"TRUNC(일위대가목록!E41,0)","v":0},0,{"$f":"TRUNC(일위대가목록!F41,0)","v":0},0,{"$f":"TRUNC(일위대가목록!G41,0)","v":0},0,0,0,"호표 38","454A517634AE2157DA8585A7B49A5","","","010106","T","F","F",{"$nulls":23},"","",null,"010106454A517634AE2157DA8585A7B49A5",61]
["열경화성 수지천정재(난연3급)","SMC, 1.2*300*600mm, 천정틀포함","M2",4,{"$f":"TRUNC(일위대가목록!E42,0)","v":0},0,{"$f":"TRUNC(일위대가목록!F42,0)","v":0},0,{"$f":"TRUNC(일위대가목록!G42,0)","v":0},0,0,0,"호표 39","454A5177C421815A24CFBA53986E4","","","010106","T","F","F",{"$nulls":23},"","",null,"010106454A5177C421815A24CFBA53986E4",62]
["천정텍스 설치","불연천장재, 마이텍스, 12*300*600mm","M2",30,{"$f":"TRUNC(일위대가목록!E43,0)","v":0},0,{"$f":"TRUNC(일위대가목록!F43,0)","v":0},0,{"$f":"TRUNC(일위대가목록!G43,0)","v":0},0,0,0,"호표 40","454A5177C421815A3559802E7EFF0","","","010106","T","F","F",{"$nulls":23},"","",null,"010106454A5177C421815A3559802E7EFF0",63]
["석고판(나사고정) 설치","벽, GB9.5T*2겹","M2",55,{"$f":"TRUNC(일위대가목록!E44,0)","v":0},0,{"$f":"TRUNC(일위대가목록!F44,0)","v":0},0,{"$f":"TRUNC(일위대가목록!G44,0)","v":0},0,0,0,"호표 41","454A5177C417215DEC097C3BC08A4","","","010106","T","F","F",{"$nulls":23},"","",null,"010106454A5177C417215DEC097C3BC08A4",64]
["발포폴리스티렌 설치(버림 위 깔기, 바닥)","145mm","M2",26,{"$f":"TRUNC(일위대가목록!E45,0)","v":0},0,{"$f":"TRUNC(일위대가목록!F45,0)","v":0},0,{"$f":"TRUNC(일위대가목록!G45,0)","v":0},0,0,0,"호표 42","454A5170942A715D05C5F56059F2B","","","010106","T","F","F",{"$nulls":23},"","",null,"010106454A5170942A715D05C5F56059F2B",65]
["방습필름 설치 - 바닥","폴리에틸렌필름, 두께, 0.03mm, 2겹","M2",43,{"$f":"TRUNC(일위대가목록!E46,0)","v":0},0,{"$f":"TRUNC(일위대가목록!F46,0)","v":0},0,{"$f":"TRUNC(일위대가목록!G46,0)","v":0},0,0,0,"호표 43","454A5170940F615A3E92766540C35","","","010106","T","F","F",{"$nulls":23},"","",null,"010106454A5170940F615A3E92766540C35",66]
["[ 합           계 ]",{"$nulls":4},{"$f":"SUM(F125:F146)","v":0},null,{"$f":"SUM(H125:H146)","v":0},null,{"$f":"SUM(J125:J146)","v":0},null,{"$f":"SUM(L125:L146)","v":0},null,"TOTAL"]
["010107  방  수  공  사","",{"$nulls":14},"010107"]
["수밀코킹(실리콘)","삼각, 10mm, 창호주위","M",94,{"$f":"TRUNC(일위대가목록!E47,0)","v":0},{"$f":"TRUNC(E149*D149, 0)","v":0},{"$f":"TRUNC(일위대가목록!F47,0)","v":0},{"$f":"TRUNC(G149*D149, 0)","v":0},{"$f":"TRUNC(일위대가목록!G47,0)","v":0},{"$f":"TRUNC(I149*D149, 0)","v":0},{"$f":"TRUNC(E149+G149+I149, 0)","v":0},{"$f":"TRUNC(F149+H149+J149, 0)","v":0},"호표 44","454A56F0F4C4715E8F8731EF09B25","","","010107","T","F","F",{"$nulls":23},"","",null,"010107454A56F0F4C4715E8F8731EF09B25",68]
["시멘트 액체방수","바닥,1종","M2",4,{"$f":"TRUNC(일위대가목록!E48,0)","v":0},{"$f":"TRUNC(E150*D150, 0)","v":0},{"$f":"TRUNC(일위대가목록!F48,0)","v":0},{"$f":"TRUNC(G150*D150, 0)","v":0},{"$f":"TRUNC(일위대가목록!G48,0)","v":0},{"$f":"TRUNC(I150*D150, 0)","v":0},{"$f":"TRUNC(E150+G150+I150, 0)","v":0},{"$f":"TRUNC(F150+H150+J150, 0)","v":0},"호표 45","454A56FF645F01585CE3526365F83","","","010107","T","F","F",{"$nulls":23},"","",null,"010107454A56FF645F01585CE3526365F83",69]
{"$rows_empty":20}
["[ 합           계 ]",{"$nulls":4},{"$f":"SUM(F149:F170)","v":0},null,{"$f":"SUM(H149:H170)","v":0},null,{"$f":"SUM(J149:J170)","v":0},null,{"$f":"SUM(L149:L170)","v":0},null,"TOTAL"]
["010108  금  속  공  사","",{"$nulls":14},"010108"]
["베이스비드(홈내기) 설치","아연도, H=7mm","M",25,{"$f":"TRUNC(일위대가목록!E49,0)","v":0},{"$f":"TRUNC(E173*D173, 0)","v":0},{"$f":"TRUNC(일위대가목록!F49,0)","v":0},{"$f":"TRUNC(G173*D173, 0)","v":0},{"$f":"TRUNC(일위대가목록!G49,0)","v":0},{"$f":"TRUNC(I173*D173, 0)","v":0},{"$f":"TRUNC(E173+G173+I173, 0)","v":0},0,"호표 46","454A5920A4C6E152784E4A1B349FF","","","010108","T","F","F",{"$nulls":23},"","",null,"010108454A5920A4C6E152784E4A1B349FF",118]
["경량천장철골틀 설치","M-BAR, H:1m미만. 인써트 유, BAR 간격 300mm","M2",30,{"$f":"TRUNC(일위대가목록!E50,0)","v":0},{"$f":"TRUNC(E174*D174, 0)","v":0},{"$f":"TRUNC(일위대가목록!F50,0)","v":0},{"$f":"TRUNC(G174*D174, 0)","v":0},{"$f":"TRUNC(일위대가목록!G50,0)","v":0},{"$f":"TRUNC(I174*D174, 0)","v":0},0,0,"호표 47","454A54A014EBB15D0770D30FC0DC5","","","010108","T","F","F",{"$nulls":23},"","",null,"010108454A54A014EBB15D0770D30FC0DC5",72]
["AL몰딩 설치","W형, 15*15*15*15*1.0mm","M",29,{"$f":"TRUNC(일위대가목록!E51,0)","v":0},{"$f":"TRUNC(E175*D175, 0)","v":0},{"$f":"TRUNC(일위대가목록!F51,0)","v":0},{"$f":"TRUNC(G175*D175, 0)","v":0},{"$f":"TRUNC(일위대가목록!G51,0)","v":0},{"$f":"TRUNC(I175*D175, 0)","v":0},0,0,"호표 48","454A517D649B0153ECA8317405083","","","010108","T","F","F",{"$nulls":23},"","",null,"010108454A517D649B0153ECA8317405083",73]
{"$rows_empty":19}
["[ 합           계 ]",{"$nulls":4},{"$f":"SUM(F173:F194)","v":0},null,{"$f":"SUM(H173:H194)","v":0},null,{"$f":"SUM(J173:J194)","v":0},null,{"$f":"SUM(L173:L194)","v":0},null,"TOTAL"]
["010109  미  장  공  사","",{"$nulls":14},"010109"]
["모르타르 바름","바닥, 46mm","M2",31,{"$f":"TRUNC(일위대가목록!E52,0)","v":0},{"$f":"TRUNC(E197*D197, 0)","v":0},{"$f":"TRUNC(일위대가목록!F52,0)","v":0},{"$f":"TRUNC(G197*D197, 0)","v":0},{"$f":"TRUNC(일위대가목록!G52,0)","v":0},{"$f":"TRUNC(I197*D197, 0)","v":0},{"$f":"TRUNC(E197+G197+I197, 0)","v":0},{"$f":"TRUNC(F197+H197+J197, 0)","v":0},"호표 49","454A592BB4790157651AA38B29211","","","010109","T","F","F",{"$nulls":23},"","",null,"010109454A592BB4790157651AA38B29211",75]
{"$rows_empty":21}
["[ 합           계 ]",{"$nulls":4},{"$f":"SUM(F197:F218)","v":0},null,{"$f":"SUM(H197:H218)","v":0},null,{"$f":"SUM(J197:J218)","v":0},null,{"$f":"SUM(L197:L218)","v":0},null,"TOTAL"]
["010110  창호 및 유리공사","",{"$nulls":14},"010110"]
["세이프강화도어(고급형)","샌드블라스트, 12*900*2100mm, 유리포함","개",1,{"$f":"TRUNC(#REF!,0)","v":{"$error":"#REF!"}},{"$f":"TRUNC(E221*D221, 0)","v":{"$error":"#REF!"}},{"$f":"TRUNC(#REF!,0)","v":{"$error":"#REF!"}},{"$f":"TRUNC(G221*D221, 0)","v":{"$error":"#REF!"}},{"$f":"TRUNC(#REF!,0)","v":{"$error":"#REF!"}},{"$f":"TRUNC(I221*D221, 0)","v":{"$error":"#REF!"}},{"$f":"TRUNC(E221+G221+I221, 0)","v":{"$error":"#REF!"}},{"$f":"TRUNC(F221+H221+J221, 0)","v":{"$error":"#REF!"}},"시공비포함","42645838F40D315CCD13D9AA8BBDF79E4E675","","","010110","F","F","T",{"$nulls":23},"","",null,"01011042645838F40D315CCD13D9AA8BBDF79E4E675",77]
["도어클로저","도어클로저, K-630, KS3호, 표준형, 40∼60kg","조",3,{"$f":"TRUNC(#REF!,0)","v":{"$error":"#REF!"}},{"$error":"#REF!"},{"$f":"TRUNC(#REF!,0)","v":{"$error":"#REF!"}},{"$error":"#REF!"},{"$f":"TRUNC(#REF!,0)","v":{"$error":"#REF!"}},{"$error":"#REF!"},{"$error":"#REF!"},{"$error":"#REF!"},"","42645838F40D315CCD012115E7296562BDE26","","","010110","F","F","T",{"$nulls":23},"","",null,"01011042645838F40D315CCD012115E7296562BDE26",78]
["PVC방충망(칼라)","","M2",5,{"$f":"TRUNC(#REF!,0)","v":{"$error":"#REF!"}},{"$error":"#REF!"},{"$f":"TRUNC(#REF!,0)","v":{"$error":"#REF!"}},{"$error":"#REF!"},{"$f":"TRUNC(#REF!,0)","v":{"$error":"#REF!"}},{"$error":"#REF!"},{"$error":"#REF!"},{"$error":"#REF!"},"","42645838F40D315CFACCF005AE1193EB77CA5","","","010110","F","F","T",{"$nulls":23},"","",null,"01011042645838F40D315CFACCF005AE1193EB77CA5",79]
["로이복층유리","투명 24mm, 5LE+14AR+5CL","M2",19,{"$f":"TRUNC(#REF!,0)","v":{"$error":"#REF!"}},{"$error":"#REF!"},{"$f":"TRUNC(#REF!,0)","v":{"$error":"#REF!"}},{"$error":"#REF!"},{"$f":"TRUNC(#REF!,0)","v":{"$error":"#REF!"}},{"$error":"#REF!"},{"$error":"#REF!"},{"$error":"#REF!"},"","42645838F40D315CE9654AA3C23EF78C9AE4B","","","010110","F","F","T",{"$nulls":23},"","",null,"01011042645838F40D315CE9654AA3C23EF78C9AE4B",80]
["피벗힌지","피벗힌지, 100kg, 방화문용","조",3,{"$f":"TRUNC(#REF!,0)","v":{"$error":"#REF!"}},{"$error":"#REF!"},{"$f":"TRUNC(#REF!,0)","v":{"$error":"#REF!"}},{"$error":"#REF!"},{"$f":"TRUNC(#REF!,0)","v":{"$error":"#REF!"}},{"$error":"#REF!"},{"$error":"#REF!"},{"$error":"#REF!"},"","426459C1340DC1574B6251CA218D6F297BF0D","","","010110","F","F","T",{"$nulls":23},"","",null,"010110426459C1340DC1574B6251CA218D6F297BF0D",81]
["플로어힌지","플로어힌지, KS2호, 85kg, 강화유리문(K-8200)","조",1,{"$f":"TRUNC(#REF!,0)","v":{"$error":"#REF!"}},{"$error":"#REF!"},{"$f":"TRUNC(#REF!,0)","v":{"$error":"#REF!"}},{"$error":"#REF!"},{"$f":"TRUNC(#REF!,0)","v":{"$error":"#REF!"}},{"$error":"#REF!"},{"$error":"#REF!"},{"$error":"#REF!"},"","426459C1340DC1574B6251CA218D6F297B35D","","","010110","F","F","T",{"$nulls":23},"","",null,"010110426459C1340DC1574B6251CA218D6F297B35D",82]
["손보호도어손잡이","스텐손잡이","개",1,{"$f":"TRUNC(#REF!,0)","v":{"$error":"#REF!"}},{"$error":"#REF!"},{"$f":"TRUNC(#REF!,0)","v":{"$error":"#REF!"}},{"$error":"#REF!"},{"$f":"TRUNC(#REF!,0)","v":{"$error":"#REF!"}},{"$error":"#REF!"},{"$error":"#REF!"},{"$error":"#REF!"},"","426459C1340DC157811563EFA9CA8AB061F4E","","","010110","F","F","T",{"$nulls":23},"","",null,"010110426459C1340DC157811563EFA9CA8AB061F4E",83]
["도어핸들","HL-9000,LEVER , (현관, 방화문)","조",3,{"$f":"TRUNC(#REF!,0)","v":{"$error":"#REF!"}},{"$error":"#REF!"},{"$f":"TRUNC(#REF!,0)","v":{"$error":"#REF!"}},{"$error":"#REF!"},{"$f":"TRUNC(#REF!,0)","v":{"$error":"#REF!"}},{"$error":"#REF!"},{"$error":"#REF!"},{"$error":"#REF!"},"","426459C1340DC157811563EF8D1EC1537BCF9","","","010110","F","F","T",{"$nulls":23},"","",null,"010110426459C1340DC157811563EF8D1EC1537BCF9",84]
["유리주위 코킹","5*5, 실리콘","M",12,{"$f":"TRUNC(일위대가목록!E53,0)","v":0},0,{"$f":"TRUNC(일위대가목록!F53,0)","v":0},0,{"$f":"TRUNC(일위대가목록!G53,0)","v":0},0,0,0,"호표 50","454A56F0F4D6D15EFC887CE863610","","","010110","T","F","F",{"$nulls":23},"","",null,"010110454A56F0F4D6D15EFC887CE863610",85]
["CAD01[단열세이프도어]","0.900 x 2.100 = 1.890","EA",1,{"$f":"TRUNC(일위대가목록!E54,0)","v":0},0,{"$f":"TRUNC(일위대가목록!F54,0)","v":0},0,{"$f":"TRUNC(일위대가목록!G54,0)","v":0},0,0,0,"호표 51","454A525AA415715A2504FC5CF10C2","","","010110","T","F","F",{"$nulls":23},"","",null,"010110454A525AA415715A2504FC5CF10C2",86]
["PW01[PVC미서기이중창]","1.500 x 1.400 = 2.100","EA",3,{"$f":"TRUNC(일위대가목록!E55,0)","v":0},0,{"$f":"TRUNC(일위대가목록!F55,0)","v":0},0,{"$f":"TRUNC(일위대가목록!G55,0)","v":0},0,0,0,"호표 52","454A525AA415715A2504FC5CF10C0","","","010110","T","F","F",{"$nulls":23},"","",null,"010110454A525AA415715A2504FC5CF10C0",87]
["PW02[PVC미서기이중창]","1.800 x 1.400 = 2.520","EA",1,{"$f":"TRUNC(일위대가목록!E56,0)","v":0},0,{"$f":"TRUNC(일위대가목록!F56,0)","v":0},0,{"$f":"TRUNC(일위대가목록!G56,0)","v":0},0,0,0,"호표 53","454A525AA415715A2504FC5CF10C6","","","010110","T","F","F",{"$nulls":23},"","",null,"010110454A525AA415715A2504FC5CF10C6",88]
["PW03[PVC미서기이중창]","0.700 x 0.800 = 0.560","EA",1,{"$f":"TRUNC(일위대가목록!E57,0)","v":0},0,{"$f":"TRUNC(일위대가목록!F57,0)","v":0},0,{"$f":"TRUNC(일위대가목록!G57,0)","v":0},0,0,0,"호표 54","454A525AA415715A2504FC5CF10C4","","","010110","T","F","F",{"$nulls":23},"","",null,"010110454A525AA415715A2504FC5CF10C4",89]
["SD01[스틸편개/분체도장]","0.900 x 2.100 = 1.890","EA",1,{"$f":"TRUNC(일위대가목록!E58,0)","v":0},0,{"$f":"TRUNC(일위대가목록!F58,0)","v":0},0,{"$f":"TRUNC(일위대가목록!G58,0)","v":0},0,0,0,"호표 55","454A525AA415715A2504FC5CF10CA","","","010110","T","F","F",{"$nulls":23},"","",null,"010110454A525AA415715A2504FC5CF10CA",90]
["SD02[스틸편개/분체도장]","0.800 x 2.100 = 1.680","EA",2,{"$f":"TRUNC(일위대가목록!E59,0)","v":0},0,{"$f":"TRUNC(일위대가목록!F59,0)","v":0},0,{"$f":"TRUNC(일위대가목록!G59,0)","v":0},0,0,0,"호표 56","454A525AA415715A2504FC5CF11EB","","","010110","T","F","F",{"$nulls":23},"","",null,"010110454A525AA415715A2504FC5CF11EB",91]
["도어록 설치 / 일반도어록 강재창호","재료비 별도","개소",3,{"$f":"TRUNC(일위대가목록!E60,0)","v":0},0,{"$f":"TRUNC(일위대가목록!F60,0)","v":0},0,{"$f":"TRUNC(일위대가목록!G60,0)","v":0},0,0,0,"호표 57","454A525D747E01503F30483C12A3E","","","010110","T","F","F",{"$nulls":23},"","",null,"010110454A525D747E01503F30483C12A3E",92]
["도어체크 설치","재료비 별도","개소",3,{"$f":"TRUNC(일위대가목록!E61,0)","v":0},0,{"$f":"TRUNC(일위대가목록!F61,0)","v":0},0,{"$f":"TRUNC(일위대가목록!G61,0)","v":0},0,0,0,"호표 58","454A525D747E51584E4F92FFDF8B1","","","010110","T","F","F",{"$nulls":23},"","",null,"010110454A525D747E51584E4F92FFDF8B1",93]
["플로어힌지 설치","재료비 별도","개소",1,{"$f":"TRUNC(일위대가목록!E62,0)","v":0},0,{"$f":"TRUNC(일위대가목록!F62,0)","v":0},0,{"$f":"TRUNC(일위대가목록!G62,0)","v":0},0,0,0,"호표 59","454A525D7442E154A48F3F0B67610","","","010110","T","F","F",{"$nulls":23},"","",null,"010110454A525D7442E154A48F3F0B67610",94]
["창호유리설치 / 복층유리","유리두께 24mm 이하","M2",19,{"$f":"TRUNC(일위대가목록!E63,0)","v":0},0,{"$f":"TRUNC(일위대가목록!F63,0)","v":0},0,{"$f":"TRUNC(일위대가목록!G63,0)","v":0},0,0,0,"호표 60","454A52537428815D933AE1DC2E67E","","","010110","T","F","F",{"$nulls":23},"","",null,"010110454A52537428815D933AE1DC2E67E",95]
["복층유리주위 코킹","5*5, 실리콘","M",159,{"$f":"TRUNC(일위대가목록!E64,0)","v":0},0,{"$f":"TRUNC(일위대가목록!F64,0)","v":0},0,{"$f":"TRUNC(일위대가목록!G64,0)","v":0},0,0,0,"호표 61","454A525374BEC15D2E563A6450704","","","010110","T","F","F",{"$nulls":23},"","",null,"010110454A525374BEC15D2E563A6450704",96]
["방습거울설치 - 합판 12mm+STS 1.5mm","600*900*5mm, 틀 포함","개소",1,{"$f":"TRUNC(일위대가목록!E65,0)","v":0},0,{"$f":"TRUNC(일위대가목록!F65,0)","v":0},0,{"$f":"TRUNC(일위대가목록!G65,0)","v":0},0,0,0,"호표 62","454A525264F7015CD15EF90B5196D","","","010110","T","F","F",{"$nulls":23},"","",null,"010110454A525264F7015CD15EF90B5196D",97]
[]
["[ 합           계 ]",{"$nulls":4},{"$f":"SUM(F221:F242)","v":{"$error":"#REF!"}},null,{"$f":"SUM(H221:H242)","v":{"$error":"#REF!"}},null,{"$f":"SUM(J221:J242)","v":{"$error":"#REF!"}},null,{"$f":"SUM(L221:L242)","v":{"$error":"#REF!"}},null,"TOTAL"]
["010111  칠    공    사","",{"$nulls":14},"010111"]
["녹막이페인트(뿜칠)","1회. 1종","M2",113,{"$f":"TRUNC(일위대가목록!E66,0)","v":0},{"$f":"TRUNC(E245*D245, 0)","v":0},{"$f":"TRUNC(일위대가목록!F66,0)","v":0},{"$f":"TRUNC(G245*D245, 0)","v":0},{"$f":"TRUNC(일위대가목록!G66,0)","v":0},{"$f":"TRUNC(I245*D245, 0)","v":0},{"$f":"TRUNC(E245+G245+I245, 0)","v":0},0,"호표 63","454A500F442F21561B287F9BF5889","","","010111","T","F","F",{"$nulls":23},"","",null,"010111454A500F442F21561B287F9BF5889",100]
["바탕만들기+걸레받이용 페인트칠","붓칠 2회, G.B.면(줄퍼티)","M2",3,{"$f":"TRUNC(일위대가목록!E67,0)","v":0},{"$f":"TRUNC(E246*D246, 0)","v":0},{"$f":"TRUNC(일위대가목록!F67,0)","v":0},{"$f":"TRUNC(G246*D246, 0)","v":0},{"$f":"TRUNC(일위대가목록!G67,0)","v":0},{"$f":"TRUNC(I246*D246, 0)","v":0},0,0,"호표 64","454A500C84D25154CF106631A04F5","","","010111","T","F","F",{"$nulls":23},"","",null,"010111454A500C84D25154CF106631A04F5",102]
["바탕만들기+수성페인트 롤러칠","내부 2회, G.B.면 줄퍼티, 친환경","M2",52,{"$f":"TRUNC(일위대가목록!E68,0)","v":0},{"$f":"TRUNC(E247*D247, 0)","v":0},{"$f":"TRUNC(일위대가목록!F68,0)","v":0},{"$f":"TRUNC(G247*D247, 0)","v":0},{"$f":"TRUNC(일위대가목록!G68,0)","v":0},{"$f":"TRUNC(I247*D247, 0)","v":0},0,0,"호표 65","454A500D9441515502E4C00BD2391","","","010111","T","F","F",{"$nulls":23},"","",null,"010111454A500D9441515502E4C00BD2391",103]
{"$rows_empty":19}
["[ 합           계 ]",{"$nulls":4},{"$f":"SUM(F245:F266)","v":0},null,{"$f":"SUM(H245:H266)","v":0},null,{"$f":"SUM(J245:J266)","v":0},null,{"$f":"SUM(L245:L266)","v":0},null,"TOTAL"]
["010112  부  대  공  사","",{"$nulls":14},"010112"]
["낙수받이돌","300*280","EA",2,{"$f":"TRUNC(#REF!,0)","v":{"$error":"#REF!"}},{"$f":"TRUNC(E269*D269, 0)","v":{"$error":"#REF!"}},{"$f":"TRUNC(#REF!,0)","v":{"$error":"#REF!"}},{"$f":"TRUNC(G269*D269, 0)","v":{"$error":"#REF!"}},{"$f":"TRUNC(#REF!,0)","v":{"$error":"#REF!"}},{"$f":"TRUNC(I269*D269, 0)","v":{"$error":"#REF!"}},{"$f":"TRUNC(E269+G269+I269, 0)","v":{"$error":"#REF!"}},{"$f":"TRUNC(F269+H269+J269, 0)","v":{"$error":"#REF!"}},"","421C517CD4C9F158B66C869B6AB7D0EEA7B03","","","010112","F","F","T",{"$nulls":23},"","",null,"010112421C517CD4C9F158B66C869B6AB7D0EEA7B03",105]
{"$rows_empty":21}
["[ 합           계 ]",{"$nulls":4},{"$f":"SUM(F269:F290)","v":{"$error":"#REF!"}},null,{"$f":"SUM(H269:H290)","v":{"$error":"#REF!"}},null,{"$f":"SUM(J269:J290)","v":{"$error":"#REF!"}},null,{"$f":"SUM(L269:L290)","v":{"$error":"#REF!"}},null,"TOTAL"]
["010113  골    재    비","",{"$nulls":14},"010113"]
["모래","모래, 인제, 도착도","M3",2,{"$f":"TRUNC(#REF!,0)","v":{"$error":"#REF!"}},{"$f":"TRUNC(E293*D293, 0)","v":{"$error":"#REF!"}},{"$f":"TRUNC(#REF!,0)","v":{"$error":"#REF!"}},{"$f":"TRUNC(G293*D293, 0)","v":{"$error":"#REF!"}},{"$f":"TRUNC(#REF!,0)","v":{"$error":"#REF!"}},{"$f":"TRUNC(I293*D293, 0)","v":{"$error":"#REF!"}},{"$f":"TRUNC(E293+G293+I293, 0)","v":{"$error":"#REF!"}},{"$f":"TRUNC(F293+H293+J293, 0)","v":{"$error":"#REF!"}},"","42495B6564F92150C3E40074AC05E89060A08","","","010113","F","F","T",{"$nulls":23},"","",null,"01011342495B6564F92150C3E40074AC05E89060A08",119]
["시멘트","건재상","포",22,{"$f":"TRUNC(#REF!,0)","v":{"$error":"#REF!"}},{"$f":"TRUNC(E294*D294, 0)","v":{"$error":"#REF!"}},{"$f":"TRUNC(#REF!,0)","v":{"$error":"#REF!"}},{"$f":"TRUNC(G294*D294, 0)","v":{"$error":"#REF!"}},{"$f":"TRUNC(#REF!,0)","v":{"$error":"#REF!"}},{"$f":"TRUNC(I294*D294, 0)","v":{"$error":"#REF!"}},{"$f":"TRUNC(E294+G294+I294, 0)","v":{"$error":"#REF!"}},{"$f":"TRUNC(F294+H294+J294, 0)","v":{"$error":"#REF!"}},"","42645838F467A15665C0DA9D9802FDFB4FB4E","","","010113","F","F","T",{"$nulls":23},"","",null,"01011342645838F467A15665C0DA9D9802FDFB4FB4E",120]
{"$rows_empty":20}
["[ 합           계 ]",{"$nulls":4},{"$f":"SUM(F293:F314)","v":{"$error":"#REF!"}},null,{"$f":"SUM(H293:H314)","v":{"$error":"#REF!"}},null,{"$f":"SUM(J293:J314)","v":{"$error":"#REF!"}},null,{"$f":"SUM(L293:L314)","v":{"$error":"#REF!"}},null,"TOTAL"]
["010114  운    반    비","",{"$nulls":14},"010114"]
["운반비(트레일러 20ton+크레인 10ton)","철골, L:30km","TON",2.5299999999999998,{"$f":"TRUNC(#REF!,0)","v":{"$error":"#REF!"}},{"$f":"TRUNC(E317*D317, 0)","v":{"$error":"#REF!"}},{"$f":"TRUNC(#REF!,0)","v":{"$error":"#REF!"}},{"$f":"TRUNC(G317*D317, 0)","v":{"$error":"#REF!"}},{"$f":"TRUNC(#REF!,0)","v":{"$error":"#REF!"}},{"$f":"TRUNC(I317*D317, 0)","v":{"$error":"#REF!"}},{"$f":"TRUNC(E317+G317+I317, 0)","v":{"$error":"#REF!"}},{"$f":"TRUNC(F317+H317+J317, 0)","v":{"$error":"#REF!"}},"산근 5","454B5AFCE4624151FB7AEAA0B2835","","","010114","F","T","F",{"$nulls":23},"","",null,"010114454B5AFCE4624151FB7AEAA0B2835",111]
{"$rows_empty":21}
["[ 합           계 ]",{"$nulls":4},{"$f":"SUM(F317:F338)","v":{"$error":"#REF!"}},null,{"$f":"SUM(H317:H338)","v":{"$error":"#REF!"}},null,{"$f":"SUM(J317:J338)","v":{"$error":"#REF!"}},null,{"$f":"SUM(L317:L338)","v":{"$error":"#REF!"}},null,"TOTAL"]
["010115  작 업 부 산 물","",{"$nulls":14},"010115"]
["철강설","철강설, 고철, 작업설부산물","TON",-0.155,{"$f":"TRUNC(#REF!,0)","v":{"$error":"#REF!"}},{"$f":"TRUNC(E341*D341, 0)","v":{"$error":"#REF!"}},{"$f":"TRUNC(#REF!,0)","v":{"$error":"#REF!"}},{"$f":"TRUNC(G341*D341, 0)","v":{"$error":"#REF!"}},{"$f":"TRUNC(#REF!,0)","v":{"$error":"#REF!"}},{"$f":"TRUNC(I341*D341, 0)","v":{"$error":"#REF!"}},{"$f":"TRUNC(E341+G341+I341, 0)","v":{"$error":"#REF!"}},{"$f":"TRUNC(F341+H341+J341, 0)","v":{"$error":"#REF!"}},"수집상차도","42495B656475C154D4C57395B195651F7F956","","","010115","F","F","T",{"$nulls":23},"","",null,"01011542495B656475C154D4C57395B195651F7F956",114]
{"$rows_empty":21}
["[ 합           계 ]",{"$nulls":4},{"$f":"SUM(F341:F362)","v":{"$error":"#REF!"}},null,{"$f":"SUM(H341:H362)","v":{"$error":"#REF!"}},null,{"$f":"SUM(J341:J362)","v":{"$error":"#REF!"}},null,{"$f":"SUM(L341:L362)","v":{"$error":"#REF!"}},null,"TOTAL"]

{"sheet":"일위대가목록","index":3,"n_rows":139,"n_cols":14,"rows_kept":139,"cut":false,"hidden":false,"merged":[[0,0,0,12],[1,0,1,12]]}
["일 위 대 가 목 록"]
["[ 다릿골시험장 경비실증축공사 ]"]
["코  드","품      명","규      격","단위","재 료 비","노 무 비","경    비","합    계","번  호","비      고","노임계수","할증","품셈개요","장비일위"]
["454A5F92D4E1E15495D6B79ED471F","비계주위 보호막 설치 및 해체","PVC코팅망, #1500D, H1.9m*100m","M2",{"$nulls":4},"호표 1","","","","공통 2-10-1",""]
["454A5F92D4F3D151D60DD627DE7C4","강관 조립말비계(이동식)설치 및 해체","높이 2m, 3개월","대",{"$nulls":4},"호표 2","","","","공통 2-7-4, 2-2-5",""]
["454A5F92D4F3D151D6284AE04A41A","시스템비계 설치 및 해체","3개월,10m 이하,발판1열","M2",{"$nulls":4},"호표 3","","","","공통 2-7-2",""]
["454A5F92D4F3D151C5CBCB47D91E9","수평 규준틀","귀","개소",{"$nulls":4},"호표 4","","","","공통 2-5-4, 2-2-7",""]
["454A5F91347EC1574163DE3912517","콘테이너형 가설사무소 설치 및 해체","3.0*6.0m, 3개월","개소",{"$nulls":4},"호표 5","","","","공통 2-3-2, 2-2-3.2",""]
["454A5F9754CF315F6D06A3C98EB0A","건축물 현장정리","목조, 철골조, 조적조","M2",{"$nulls":4},"호표 6","","","","공통 2-11-2",""]
["454A5F9754F4A158853AAB74D2CBA","거푸집 먹매김","일반","M2",{"$nulls":4},"호표 7","","","","건축 4-1-1",""]
["456F5F3A54DD1159CCA2867A259B8","잡석지정(잡석포함)","굴삭기 0.6m3+진동롤러(핸드가이드식)","M3",{"$nulls":4},"호표 8","","","","공통 3-4-4",""]
["454A5A10C4699152BCD7D7C46B4C1","유로폼 설치 및 해체","간단, 수직고 7m까지","M2",{"$nulls":4},"호표 9","","","","공통 6-3-3",""]
["454A5A139469D1579E7F5689D583B","철근 현장가공 및 현장조립","Type-Ⅱ","TON",{"$nulls":4},"호표 10","","","","공통 6-2-2, 3",""]
["454A5A177416D15CAEA763D522F63","레디믹스트콘크리트 인력운반 타설/버림","무근구조물","M3",{"$nulls":4},"호표 11","","","","공통 6-1-1",""]
["454A5F9024C01153ECA35D72CFC55","철골 세우기 - 크레인(타이어) 20ton","창고 소규모, 공장 대규모 건물 트러스 거더류","TON",{"$nulls":4},"호표 12","","","","건축 1-2-3",""]
["454A5B7A7408315458BB5D6680A29","앵커 볼트 설치","∮16 이하","개",{"$nulls":4},"호표 13","","","","건축 1-2-6",""]
["454A5B7B1466715EA443D94977F4B","철골 가공 조립(적은 구조)","Rolled shape, 60ton 미만","TON",{"$nulls":4},"호표 14","","","","건축 1-1-1, 1-1-2",""]
["454A5B7C34D7015AE9032E31A0E2F","부대철골 설치","","TON",{"$nulls":4},"호표 15","","","","건축 1-4-1",""]
["454A5B7DC464F15CB8D2844DEEF37","철골세우기 - 표준단가","6층 미만","TON",{"$nulls":4},"호표 16","","","","건축 1-2-1",""]
["454A5B7DC4DFE153B34F375A1AF24","수용접(Rolled shape 제작)","20(m/t) 미만, 30ton 미만","TON",{"$nulls":4},"호표 17","","","","건축 1-1-3, 1-1-4",""]
["454A5B7DC4DFE153B3DEFB1F22400","현장용접 - 반자동 용접 기준","각장 6mm 환산용접 길이","M",{"$nulls":4},"호표 18","","","","건축 1-2-5",""]
["454A5B7DC4DFF15DFA9E7E4B77757","주각부 무수축 모르타르 충전","300*300*40mm","개소",{"$nulls":4},"호표 19","","","","건축 9-3-3 준용",""]
["454A5343A487315B41FAB172BBAC6","타일접착제 붙이기(바탕 압 6mm)","벽, 200각이상(에폭시접착제,백색줄눈)","M2",{"$nulls":4},"호표 20","","","","",""]
["454A5343A4A3F1518236D4EFAD7F3","타일 압착 붙이기(바탕 43mm+압 5mm)","바닥, 200*200(타일C, 백색줄눈)","M2",{"$nulls":4},"호표 21","","","","건축 3-2-2, -1-2",""]
["454A5F9754F4A158853A88A58FDCE","구조부 먹매김","일반","M2",{"$nulls":4},"호표 22","","","","건축 4-1-1",""]
["454A5175144FE1597D373D2F81B2C","비닐타일 깔기","비닐타일, 3*450*450mm, 데코타일","M2",{"$nulls":4},"호표 23","","","","건축 5-1-1",""]
["454A517634AE2157DA8585A7E1F31","샌드위치패널","칸막이, 200mm ,준불연","M2",{"$nulls":4},"호표 24","","","","",""]
["454A517634AE2157DA8585A7E1F33","징크샌드위치패널","외벽, 200mm ,준불연","M2",{"$nulls":4},"호표 25","","","","",""]
["454A517634AE2157DA8585A7E1880","징크샌드위치패널","지붕, 220mm, 준불연","M2",{"$nulls":4},"호표 26","","","","",""]
["454A517634AE2157DA8585A7E1886","징크샌드위치패널","지붕, 50mm","M2",{"$nulls":4},"호표 27","","","","",""]
["454A517634AE2157DA8585A7C6CD4","박공후레싱","C/S 1.2T W=610","M",{"$nulls":4},"호표 28","","","","",""]
["454A517634AE2157DA8585A7C6DFA","처마후레싱","C/S 1.2T W=710","M",{"$nulls":4},"호표 29","","","","",""]
["454A517634AE2157DA8585A7C6A26","코너후레싱","C/S 1.2T W=400","M",{"$nulls":4},"호표 30","","","","",""]
["454A517634AE2157DA8585A7C6BCD","베이스후레싱","C/S 1.2T W=400","M",{"$nulls":4},"호표 31","","","","",""]
["454A517634AE2157DA8585A7C6879","캐노피 ENDCAP","C/S 0.5T W=400","M",{"$nulls":4},"호표 32","","","","",""]
["454A517634AE2157DA8585A7C687B","캐노피 천정후레싱","C/S 0.5T 40*80","M",{"$nulls":4},"호표 33","","","","",""]
["454A517634AE2157DA8585A7C687D","캐노피 천정마감판","C/S 0.5T","M2",{"$nulls":4},"호표 34","","","","",""]
["454A517634AE2157DA8585A7C687F","캐노피 지붕후레싱","C/S 0.5T 150*50","M",{"$nulls":4},"호표 35","","","","",""]
["454A517634AE2157DA8585A7C664B","창틀 후레싱","C/S 1.2T □-200*50","M",{"$nulls":4},"호표 36","","","","",""]
["454A517634AE2157DA8585A7B489E","처마홈통","C/S 1.2T W=150","M",{"$nulls":4},"호표 37","","","","",""]
["454A517634AE2157DA8585A7B49A5","선홈통","C/S 1.2T □-100*50","M",{"$nulls":4},"호표 38","","","","",""]
["454A5177C421815A24CFBA53986E4","열경화성 수지천정재(난연3급)","SMC, 1.2*300*600mm, 천정틀포함","M2",{"$nulls":4},"호표 39","","","","",""]
["454A5177C421815A3559802E7EFF0","천정텍스 설치","불연천장재, 마이텍스, 12*300*600mm","M2",{"$nulls":4},"호표 40","","","","건축 5-2-1",""]
["454A5177C417215DEC097C3BC08A4","석고판(나사고정) 설치","벽, GB9.5T*2겹","M2",{"$nulls":4},"호표 41","","","","건축 5-3-1",""]
["454A5170942A715D05C5F56059F2B","발포폴리스티렌 설치(버림 위 깔기, 바닥)","145mm","M2",{"$nulls":4},"호표 42","","","","건축 5-4-7",""]
["454A5170940F615A3E92766540C35","방습필름 설치 - 바닥","폴리에틸렌필름, 두께, 0.03mm, 2겹","M2",{"$nulls":4},"호표 43","","","","건축 5-4-8",""]
["454A56F0F4C4715E8F8731EF09B25","수밀코킹(실리콘)","삼각, 10mm, 창호주위","M",{"$nulls":4},"호표 44","","","","건축 6-6-1",""]
["454A56FF645F01585CE3526365F83","시멘트 액체방수","바닥,1종","M2",{"$nulls":4},"호표 45","","","","건축 6-4-1",""]
["454A5920A4C6E152784E4A1B349FF","베이스비드(홈내기) 설치","아연도, H=7mm","M",{"$nulls":4},"호표 46","","","","건축 8-1-2",""]
["454A54A014EBB15D0770D30FC0DC5","경량천장철골틀 설치","M-BAR, H:1m미만. 인써트 유, BAR 간격 300mm","M2",{"$nulls":4},"호표 47","","","","건축 8-2-4",""]
["454A517D649B0153ECA8317405083","AL몰딩 설치","W형, 15*15*15*15*1.0mm","M",{"$nulls":4},"호표 48","","","","건축 8-1-5",""]
["454A592BB4790157651AA38B29211","모르타르 바름","바닥, 46mm","M2",{"$nulls":4},"호표 49","","","","건축 3-1-1 준용",""]
["454A56F0F4D6D15EFC887CE863610","유리주위 코킹","5*5, 실리콘","M",{"$nulls":4},"호표 50","","","","건축 6-6-1",""]
["454A525AA415715A2504FC5CF10C2","CAD01[단열세이프도어]","0.900 x 2.100 = 1.890","EA",{"$nulls":4},"호표 51","","","","",""]
["454A525AA415715A2504FC5CF10C0","PW01[PVC미서기이중창]","1.500 x 1.400 = 2.100","EA",{"$nulls":4},"호표 52","","","","",""]
["454A525AA415715A2504FC5CF10C6","PW02[PVC미서기이중창]","1.800 x 1.400 = 2.520","EA",{"$nulls":4},"호표 53","","","","",""]
["454A525AA415715A2504FC5CF10C4","PW03[PVC미서기이중창]","0.700 x 0.800 = 0.560","EA",{"$nulls":4},"호표 54","","","","",""]
["454A525AA415715A2504FC5CF10CA","SD01[스틸편개/분체도장]","0.900 x 2.100 = 1.890","EA",{"$nulls":4},"호표 55","","","","",""]
["454A525AA415715A2504FC5CF11EB","SD02[스틸편개/분체도장]","0.800 x 2.100 = 1.680","EA",{"$nulls":4},"호표 56","","","","",""]
["454A525D747E01503F30483C12A3E","도어록 설치 / 일반도어록 강재창호","재료비 별도","개소",{"$nulls":4},"호표 57","","","","건축 10-2-3",""]
["454A525D747E51584E4F92FFDF8B1","도어체크 설치","재료비 별도","개소",{"$nulls":4},"호표 58","","","","건축 10-2-1",""]
["454A525D7442E154A48F3F0B67610","플로어힌지 설치","재료비 별도","개소",{"$nulls":4},"호표 59","","","","건축 10-2-2",""]
["454A52537428815D933AE1DC2E67E","창호유리설치 / 복층유리","유리두께 24mm 이하","M2",{"$nulls":4},"호표 60","","","","건축 10-3-1",""]
["454A525374BEC15D2E563A6450704","복층유리주위 코킹","5*5, 실리콘","M",{"$nulls":4},"호표 61","","","","건축 6-6-1",""]
["454A525264F7015CD15EF90B5196D","방습거울설치 - 합판 12mm+STS 1.5mm","600*900*5mm, 틀 포함","개소",{"$nulls":4},"호표 62","","","","",""]
["454A500F442F21561B287F9BF5889","녹막이페인트(뿜칠)","1회. 1종","M2",{"$nulls":4},"호표 63","","","","건축 17-6-3",""]
["454A500C84D25154CF106631A04F5","바탕만들기+걸레받이용 페인트칠","붓칠 2회, G.B.면(줄퍼티)","M2",{"$nulls":4},"호표 64","","","","건축 11-2-10",""]
["454A500D9441515502E4C00BD2391","바탕만들기+수성페인트 롤러칠","내부 2회, G.B.면 줄퍼티, 친환경","M2",{"$nulls":4},"호표 65","","","","건축 11-1-2,-2-2",""]
["454A5F92D4E1E15495D6B79ECBFA6","비계주위 보호막 설치 및 해체"," - 재료비 별도 -","M2",{"$nulls":4},"호표 66","","","","공통 2-10-1",""]
["454A5F92D4F3D151D60DD630393A0","강관 조립말비계(이동식)설치 및 해체","높이 2m, 노무비","대",{"$nulls":4},"호표 67","","","","공통 2-7-4",""]
["454A5F92D4F3D151D6284AE054830","시스템비계(정안가설)","재료비, 3개월, 발판1열","M2",{"$nulls":4},"호표 68","","","","공통 2-2-4",""]
["454A5F92D4F3D151D62865CE3604C","시스템비계 설치 및 해체","10m 이하","M2",{"$nulls":4},"호표 69","","","","공통 2-7-2",""]
["454A5F91347EC15741E73A32BA3F6","콘테이너형 가설건축물 설치 및 해체","3.0*6.0m","개소",{"$nulls":4},"호표 70","","","","공통 2-3-2",""]
["425A514F24D7F15293E91F18AA4954434EA4A8C","크레인(타이어)","10ton","HR",{"$nulls":4},"호표 71","","A","","공통 8-3,4(2104)","T"]
["425A514F24D7D15788E8FB1D007A61C76DBD0D7","굴삭기(무한궤도)","0.7㎥","HR",{"$nulls":4},"호표 72","","A","","공통 8-3,4(0201)","T"]
["425A514F24D7D157C695C4D440F3370296A4564","덤프트럭","15ton","HR",{"$nulls":4},"호표 73","","A","","공통 8-3,4(0602)","T"]
["425A514F24D7D157C68B8973B2D6B5AE7658E73","덤프트럭 자동덮개시설","15ton","HR",{"$nulls":4},"호표 74","","A","","공통 8-3(0610)","T"]
["425A514F24D7C1552884214934446970D2D50F6","래머","80kg","HR",{"$nulls":4},"호표 75","","A","","공통 8-3,4(1630)","T"]
["425A514F24D7D15788F94F5CC2F45E5C0301B98","굴삭기(타이어)","0.6㎥","HR",{"$nulls":4},"호표 76","","A","","공통 8-3,4(0211)","T"]
["425A514F24D7C15570D54CF9C8BD9D8AA454445","진동롤러(핸드가이드식)","0.7ton","HR",{"$nulls":4},"호표 77","","A","","공통 8-3,4(1305)","T"]
["454A5A10C4699152BCC5779EE775D","유로폼 - 주자재비","","10M2",{"$nulls":4},"호표 78","","","","공통 6-3-3.2",""]
["454A5A10C4699152BCC54A50F9BEE","유로폼 - 인력투입","간단, 수직고 7m까지","M2",{"$nulls":4},"호표 79","","","","공통 6-3-3.3",""]
["454A5A139469D1579E7F5689CB0AA","철근 현장가공","Type-Ⅱ","TON",{"$nulls":4},"호표 80","","","","공통 6-2-2",""]
["454A5A139469D1579E7F5689CB37F","철근 현장조립","Type-Ⅱ","TON",{"$nulls":4},"호표 81","","","","공통 6-2-3",""]
["425A514F24D79159A691D101B0B952F5FAABDFC","콘크리트 펌프차","32m(80∼95㎥/hr)","HR",{"$nulls":4},"호표 82","","A","","공통 8-3,4(4504)","T"]
["425A514F24D7F15293E91F18AA76923D4A378FC","크레인(타이어)","20ton","HR",{"$nulls":4},"호표 83","","A","","공통 8-3,4(2104)","T"]
["454A5B7B1466715EA443D95BD6312","철골공수 산정방법<소요 부자재량>","H형강부재(Rolled shape)","TON",{"$nulls":4},"호표 84","","","","건축 1-1-2",""]
["425A514F24D7F15293E91F18AA03A540B472D35","크레인(타이어)","50ton","HR",{"$nulls":4},"호표 85","","A","","공통 8-3,4(2104)","T"]
["454A5343A487315B41FAB172A9945","타일 붙임 / 접착 붙이기","벽면, 타일규격(m2), 0.04∼0.10 이하","M2",{"$nulls":4},"호표 86","","","","건축 3-2-3",""]
["454A5343A4878153656B00413DFD7","타일줄눈 설치 / 벽면","타일규격 m2, 0.04 ~ 0.10 이하","M2",{"$nulls":4},"호표 87","","","","건축 3-1-2",""]
["454A592BB479315C94C050135D1A2","모르타르 배합(배합품 포함)","배합용적비 1:3, 시멘트, 모래 별도","M3",{"$nulls":4},"호표 88","","","","건축 9-1-1",""]
["454A5343A48711587284FF53FDB59","바탕 고르기","바닥, 24mm 이하 기준","M2",{"$nulls":4},"호표 89","","","","건축 3-1-1",""]
["454A5343A4A3F1519CD68108312E8","압착 붙이기, 바닥면, 바름두께 5mm","0.04∼0.10 이하, 타일C, 백색줄눈","M2",{"$nulls":4},"호표 90","","","","건축 3-2-2, -1-2",""]
["454A5343A4A3F1518236F766D076B","타일 붙임 / 압착 붙이기","바닥면, 타일규격 m2, 0.04 ~ 0.10 이하","M2",{"$nulls":4},"호표 91","","","","건축 3-2-2",""]
["454A5343A4878153656B00416939E","타일줄눈 설치 / 바닥면","타일규격 m2, 0.04 ∼ 0.10 이하","M2",{"$nulls":4},"호표 92","","","","건축 3-1-2",""]
["454A5175144FE1597D7EEF945A45C","PVC계 바닥재 설치 - 타일","주재료 제외","M2",{"$nulls":4},"호표 93","","","","건축 5-1-1",""]
["454A517634AE2157DA8585EDA1317","샌드위치(단열)페널 설치 - 칸막이벽","두께 50~100mm 기준","M2",{"$nulls":4},"호표 94","","","","건축 5-3-3",""]
["454A517634AE2157DA8585A7F236F","샌드위치(단열)패널 설치 - 지붕","두께 50~100mm 기준","M2",{"$nulls":4},"호표 95","","","","건축 5-3-3",""]
["454A517634AE2157DA8585A77EC46","후레싱제작및설치","C/S 1.2T","M2",{"$nulls":4},"호표 96","","","","",""]
["454A54A4F482415489B12F18BC850","잡철물 제작 및 설치","현장제작 설치, 일반철재","kg",{"$nulls":4},"호표 97","","","","건축 8-3-1",""]
["454A517634AE2157DA8585A77ED6D","후레싱제작및설치","C/S 0.5T","M2",{"$nulls":4},"호표 98","","","","",""]
["454A5177C421815A3559802E6C8E6","흡음텍스 설치","","M2",{"$nulls":4},"호표 99","","","","건축 5-2-1",""]
["454A5177C417215DEC097C3BD17EB","석고판 설치(나사고정) - 바탕용","벽, 2겹 붙임","M2",{"$nulls":4},"호표 100","","","","건축 5-3-1",""]
["454A5170942A51522202AA81EC05D","단열재 슬래브 위 깔기","200mm 이하","M2",{"$nulls":4},"호표 101","","","","건축 5-4-7",""]
["454A5170940F615A13C9305ABECD9","방습필름 설치","바닥","M2",{"$nulls":4},"호표 102","","","","건축 5-4-8",""]
["454A56F0F4F1A15A3426BA0135105","수밀코킹","재료비 별도","M",{"$nulls":4},"호표 103","","","","건축 6-6-1",""]
["454A56FF645F01585CE3526365EFD","시멘트 액체방수 바름","바닥","M2",{"$nulls":4},"호표 104","","","","건축 6-4-1",""]
["454A5920A4C6E1526FE377EF77E26","코너비드 설치","재료비 별도","M",{"$nulls":4},"호표 105","","","","건축 8-1-2",""]
["454A54A014F4215A2D4EF6ED3270E","인서트(Insert) 설치(콘크리트)","스트롱앵커, M10, 9.5mm","개",{"$nulls":4},"호표 106","","","","건축 8-1-4",""]
["454A54A014EBB15D0770D30FFC14B","경량천장철골틀 설치","BAR 간격 300mm","M2",{"$nulls":4},"호표 107","","","","건축 8-2-4",""]
["454A54A014F4215A2D4EF6ED050DB","인서트(Insert) 설치","설치대상 - 콘크리트","개",{"$nulls":4},"호표 108","","","","건축 8-1-4",""]
["454A517D64B7E15B2A47B785542AB","몰딩 설치","","M",{"$nulls":4},"호표 109","","","","건축 8-1-5",""]
["454A525994D39154A5EFC27483B4C","합성수지창호 설치 / 미서기 이중창","창호면적 m2, 1.0 ~ 3.0 미만","개소",{"$nulls":4},"호표 110","","","","건축 10-1-4",""]
["454A525994D39154A5EFC274838F7","합성수지창호 설치 / 미서기 이중창","창호면적 m2, 1.0 미만","개소",{"$nulls":4},"호표 111","","","","건축 10-1-4",""]
["454A525AA40B01538400FAF1888C0","강재창호 설치 / 여닫이","창호면적 m2, 1.0 ~ 3.0 이하","개소",{"$nulls":4},"호표 112","","","","건축 10-1-2",""]
["454A500F442F21561B1E23D0A1A6F","녹막이페인트 붓칠","철재면, 1회 2종","M2",{"$nulls":4},"호표 113","","","","건축 11-2-6",""]
["454A500C84FD315E6FAF105142574","유성페인트 붓칠","철재면, 2회 1급","M2",{"$nulls":4},"호표 114","","","","건축 11-2-4",""]
["454A500F442F21561B0D876CF2832","녹막이 페인트칠 재료비(20년 품셈기준)","철재면, 1회, 2종","M2",{"$nulls":4},"호표 115","","","","",""]
["454A500F442F21561B1E23D0A1A69","녹막이페인트 붓칠(재료비 미포함)","철재면, 1회 2종","M2",{"$nulls":4},"호표 116","","","","건축 11-2-6",""]
["454A500C84FD315E6FAF101BBA395","유성페인트 붓칠 재료비(20년 품셈기준)","철재면, 2회, 1급","M2",{"$nulls":4},"호표 117","","","","",""]
["454A500C84FD315E6FAF105142572","유성페인트 붓칠(재료비 미포함)","철재면, 2회 1급","M2",{"$nulls":4},"호표 118","","","","건축 11-2-4",""]
["454A500F442F21561B0D91DB8F5AB","녹막이 페인트칠","철재면 1회 노무비","M2",{"$nulls":4},"호표 119","","","","건축 11-2-6",""]
["454A500C84FD315E6FAF101B9F7E7","유성페인트 붓칠","철재면 2회 노무비","M2",{"$nulls":4},"호표 120","","","","건축 11-2-4",""]
["454A525264F7015CD15EF90B1BE3C","방습거울설치 - 합판 12mm+STS 1.5mm","5mm, 틀 포함","M2",{"$nulls":4},"호표 121","","","","",""]
["454A54A4F482415489B10C4969925","잡철물 제작 및 설치","현장제작 설치, 경량철재","kg",{"$nulls":4},"호표 122","","","","건축 8-3-1",""]
["454A501D2408F154CA1CA17CAEFDC","철재면 바탕만들기","노무비","M2",{"$nulls":4},"호표 123","","","","건축 11-1-3",""]
["425A514F24D7A15AE113D0551366AA5B920F512","엔진식 도장기 - 15년 상 개정 삭제","4.7L/min","HR",{"$nulls":4},"호표 124","","A","","토목 11-44-42","T"]
["454A501D2408F154CA1C8684BDA7E","석고보드면 바탕만들기 재료비","줄퍼티(20년 품셈 기준)","M2",{"$nulls":4},"호표 125","","","","",""]
["454A500C84D25154CF10660459C56","걸레받이용 페인트칠 재료비(20년 품셈기준)","붓칠, 2회","M2",{"$nulls":4},"호표 126","","","","",""]
["454A500C84D25154CF106631A02C8","바탕만들기+걸레받이용 페인트칠(재료비 미포함)","붓칠 2회, G.B.면(줄퍼티)","M2",{"$nulls":4},"호표 127","","","","건축 11-2-10",""]
["454A501D2408F154CA1C8696E0437","석고보드면 바탕만들기","줄퍼티 노무비","M2",{"$nulls":4},"호표 128","","","","건축 11-1-2",""]
["454A500C84D25154CF106616CA7C6","걸레받이용 페인트칠","붓칠 2회 노무비","M2",{"$nulls":4},"호표 129","","","","건축 11-2-10",""]
["454A501D2408F154CA1C8684CFC86","석고보드면 바탕만들기 재료비","줄퍼티, 친환경(20년 품셈 기준)","M2",{"$nulls":4},"호표 130","","","","",""]
["454A500D94415155020EF4F6EE323","수성페인트 롤러칠 재료비(20년 품셈기준)","내부, 2회, 친환경페인트","M2",{"$nulls":4},"호표 131","","","","",""]
["454A500D9441515502E4C00BD228A","바탕만들기+수성페인트 롤러칠(재료비 미포함)","내부 2회, G.B.면 줄퍼티, 친환경","M2",{"$nulls":4},"호표 132","","","","건축 11-1-2,-2-2",""]
["454A501D2408F154CA1C868492869","석고보드면 바탕만들기","줄퍼티 친환경 노무비","M2",{"$nulls":4},"호표 133","","","","건축 11-1-2",""]
["454A500D9441515502551D1A5568E","수성페인트 롤러칠","2회 노무비","M2",{"$nulls":4},"호표 134","","","","건축 11-2-2",""]
["425A514F24D7F152F47630B0BE3E6D986093B66","트럭 트랙터 및 평판트레일러","20ton","HR",{"$nulls":4},"호표 135","","A","","공통 8-3,4(2702)","T"]
["425A514F24D7F15293E90EA98EF306D3CD633C3","트럭탑재형 크레인","10ton","HR",{"$nulls":4},"호표 136","","A","","공통 8-3,4(2105)","T"]

{"sheet":"Sheet1","index":4,"n_rows":0,"n_cols":0,"rows_kept":0,"cut":false,"hidden":false,"merged":[]}