{"text_format":"5","workbook":"xlsx","n_sheets":13,"sheets":["원가계산서","공종별집계표","공종별내역서","공종별집계표(기계)","공종별내역서(기계)","일위대가목록","일위대가","중기단가목록","중기단가산출서","단가대비표","단가대비표(기계)"," 공사설정 ","Sheet1"],"props":{"creator":"우기원","last_modified_by":"김성일"},"not_rendered":{"defined_names":21},"read":"whole","date_system":"1900"}

{"sheet":"원가계산서","index":0,"n_rows":31,"n_cols":7,"rows_kept":31,"merged":[[0,1,0,6],[1,1,1,4],[1,5,1,6],[2,1,2,3],[3,1,21,1],[3,2,6,2],[7,2,9,2],[10,2,21,2],[22,1,22,3],[23,1,23,3],[24,1,24,3],[25,1,25,3],[26,1,26,3],[27,1,27,3],[28,1,28,3],[29,1,29,3],[30,1,30,3]]}
[null,"공 사 원 가 계 산 서"]
[null,"공사명 : 본원식당 시설개선 공사",{"$nulls":3},"금액 : 사천사백이십일만구천원(￦44,219,000)"]
[null,"비        목",null,null,"금      액","구        성        비","비      고"]
["A1","순   공   사   원   가","재   료   비","직  접  재  료  비",{"$f":"TRUNC(공종별집계표!F5, 0)","v":0}]
["A2",null,null,"간  접  재  료  비",0]
["A3",null,null,"작업설, 부산물(△)",0]
["AS",null,null,"[ 소          계 ]",{"$f":"TRUNC(E4+E5-E6, 0)","v":0}]
["B1",null,"노   무   비","직  접  노  무  비",{"$f":"TRUNC(공종별집계표!H5, 0)","v":0}]
["B2",null,null,"간  접  노  무  비",{"$f":"TRUNC(E8*0.05, 0)","v":0},"직접노무비 * 5%"]
["BS",null,null,"[ 소          계 ]",{"$f":"TRUNC(E8+E9, 0)","v":0}]
["C2",null,"경        비","기   계    경   비",{"$f":"TRUNC(공종별집계표!J5, 0)","v":0}]
["C4",null,null,"산  재  보  험  료",{"$f":"TRUNC(E10*0.038, 0)","v":0},"노무비 * 3.8%"]
["C5",null,null,"고  용  보  험  료",{"$f":"TRUNC(E10*0.0087, 0)","v":0},"노무비 * 0.87%"]
["C6",null,null,"국민  건강  보험료",{"$f":"TRUNC(E8*0.017, 0)","v":0},"직접노무비 * 1.7%"]
["C7",null,null,"국민  연금  보험료",{"$f":"TRUNC(E8*0.0249, 0)","v":0},"직접노무비 * 2.49%"]
["CB",null,null,"노인장기요양보험료",{"$f":"TRUNC(E14*0.0655, 0)","v":0},"건강보험료 * 6.55%"]
["CA",null,null,"산업안전보건관리비",{"$f":"TRUNC((E7+E8+E30/1.1)*0.0293, 0)","v":0},"(재료비+직노+관급/1.1) * 2.93%"]
["CH",null,null,"환  경  보  전  비",{"$f":"TRUNC((E7+E8+E11)*0.003, 0)","v":0},"(재료비+직노+기계경비) * 0.3%"]
["CG",null,null,"기   타    경   비",{"$f":"TRUNC((E7+E10)*0.02, 0)","v":0},"(재료비+노무비) * 2%"]
["CK",null,null,"하도급지급보증수수료",{"$f":"TRUNC((E7+E8+E11)*0.00081, 0)","v":0},"(재료비+직노+기계경비) * 0.081%"]
["CL",null,null,"건설기계대여금지급보증서발급수수료",{"$f":"TRUNC((E7+E8+E11)*0.0049, 0)","v":0},"(재료비+직노+기계경비) * 0.49%"]
["CS",null,null,"[ 소          계 ]",{"$f":"TRUNC(E11+E12+E13+E14+E15+E17+E16+E19+E18+E20+E21, 0)","v":0}]
["S1","        계",null,null,{"$f":"TRUNC(E7+E10+E22, 0)","v":0}]
["D1","일  반  관  리  비",null,null,{"$f":"TRUNC(E23*0.02, 0)","v":0},"계 * 2%"]
["D2","이              윤",{"$nulls":3},"(노무비+경비+일반관리비) * 8.3%"]
["D4","건설폐기물처리비"]
["D9","공   급    가   액"]
["DB","부  가  가  치  세",{"$nulls":3},"공급가액 * 10%"]
["DH","도      급      액"]
[]
["S2","총   공   사    비"]

{"sheet":"공종별집계표","index":1,"n_rows":27,"n_cols":20,"rows_kept":27,"merged":[[0,0,0,12],[1,0,1,12],[2,0,3,0],[2,1,3,1],[2,2,3,2],[2,3,3,3],[2,4,2,5],[2,6,2,7],[2,8,2,9],[2,10,2,11],[2,12,3,12],[2,13,3,13],[2,14,3,14],[2,15,3,15],[2,16,3,16],[2,17,3,17],[2,18,3,18],[2,19,3,19]]}
["공 종 별 집 계 표"]
["[ 본원식당 시설개선 공사 ]"]
["품      명","규      격","단위","수량","재  료  비",null,"노  무  비",null,"경      비",null,"합      계",null,"비  고","공종코드","변수","상위공종","공종구분","공종레벨","공종소계","원가계산서 연결금액"]
[{"$nulls":4},"단  가","금  액","단  가","금  액","단  가","금  액","단  가","금  액"]
["01  국방기술품질관리원식당리모델링공사",{"$nulls":3},{"$f":"F6+F17","v":0},{"$f":"E5*D5","v":0},{"$f":"H6+H17","v":0},{"$f":"G5*D5","v":0},{"$f":"J6+J17","v":0},{"$f":"I5*D5","v":0},{"$f":"E5+G5+I5","v":0},{"$f":"F5+H5+J5","v":0},null,"01",{"$nulls":3},1,"<"]
["0101  건축공사",{"$nulls":3},{"$f":"F7+F8+F9+F10+F11+F12+F13+F14+F15","v":0},{"$f":"E6*D6","v":0},{"$f":"H7+H8+H9+H10+H11+H12+H13+H14+H15","v":0},0,{"$f":"J7+J8+J9+J10+J11+J12+J13+J14+J15","v":0},{"$f":"I6*D6","v":0},0,{"$f":"F6+H6+J6","v":0},null,"0101",null,"01",null,2]
["010101  목    공    사",{"$nulls":3},{"$f":"공종별내역서!F27","v":0},0,{"$f":"공종별내역서!H27","v":0},0,{"$f":"공종별내역서!J27","v":0},0,0,0,null,"010101",null,"0101",null,3]
["010102  금  속  공  사",{"$nulls":3},{"$f":"공종별내역서!F51","v":0},0,{"$f":"공종별내역서!H51","v":0},0,{"$f":"공종별내역서!J51","v":0},0,0,0,null,"010102",null,"0101",null,3]
["010103  창  호  공  사",{"$nulls":3},{"$f":"공종별내역서!F75","v":{"v":171600,"d":"171,600"}},0,{"$f":"공종별내역서!H75","v":0},0,{"$f":"공종별내역서!J75","v":0},0,{"v":171600,"d":"171,600"},0,null,"010103",null,"0101",null,3]
["010104  유  리  공  사",{"$nulls":3},{"$f":"공종별내역서!F99","v":{"v":1712200,"d":"1,712,200"}},0,{"$f":"공종별내역서!H99","v":0},0,{"$f":"공종별내역서!J99","v":0},0,{"v":1712200,"d":"1,712,200"},0,null,"010104",null,"0101",null,3]
["010105  칠    공    사",{"$nulls":3},{"$f":"공종별내역서!F123","v":{"v":317250,"d":"317,250"}},0,{"$f":"공종별내역서!H123","v":{"v":552850,"d":"552,850"}},0,{"$f":"공종별내역서!J123","v":0},0,{"v":870100,"d":"870,100"},0,null,"010105",null,"0101",null,3]
["010106  수  장  공  사",{"$nulls":3},{"$f":"공종별내역서!F147","v":0},0,{"$f":"공종별내역서!H147","v":0},0,{"$f":"공종별내역서!J147","v":0},0,0,0,null,"010106",null,"0101",null,3]
["010107  기  타  공  사",{"$nulls":3},{"$f":"공종별내역서!F171","v":{"v":4120000,"d":"4,120,000"}},0,{"$f":"공종별내역서!H171","v":0},0,{"$f":"공종별내역서!J171","v":0},0,{"v":4120000,"d":"4,120,000"},0,null,"010107",null,"0101",null,3]
["010108  철  거  공  사",{"$nulls":3},{"$f":"공종별내역서!F195","v":0},0,{"$f":"공종별내역서!H195","v":0},0,{"$f":"공종별내역서!J195","v":0},0,0,0,null,"010108",null,"0101",null,3]
["010109  골    재    대",{"$nulls":3},{"$f":"공종별내역서!F219","v":{"v":133620,"d":"133,620"}},0,{"$f":"공종별내역서!H219","v":0},0,{"$f":"공종별내역서!J219","v":0},0,{"v":133620,"d":"133,620"},0,null,"010109",null,"0101",null,3,"<"]
["010110  건설폐기물처리비",{"$nulls":3},{"$f":"공종별내역서!F243","v":0},0,{"$f":"공종별내역서!H243","v":0},0,{"$f":"공종별내역서!J243","v":{"v":1294920,"d":"1,294,920"}},0,{"v":1294920,"d":"1,294,920"},0,null,"010110",null,null,"6",3,null,{"$f":"L16*1","v":0}]
["0102  기계설비공사",{"$nulls":3},{"$f":"F18","v":0},0,{"$f":"H18","v":0},0,{"$f":"J18","v":0},0,0,0,null,"0102",null,"01",null,2,"<"]
["010201  기계설비공사",{"$nulls":3},{"$f":"공종별내역서!F267","v":{"v":140702,"d":"140,702"}},0,{"$f":"공종별내역서!H267","v":{"v":1045089,"d":"1,045,089"}},0,{"$f":"공종별내역서!J267","v":0},0,{"v":1185791,"d":"1,185,791"},0,null,"010201",null,"0102",null,3,"<"]
[{"$nulls":6},{"$f":"공종별내역서!H291","v":0},0,{"$f":"공종별내역서!J291","v":0},0,0,0,null,"010202",null,null,"3",3,null,{"$f":"L19*1","v":0}]
{"$rows_empty":7}
["[ 합           계 ]",{"$nulls":4},{"$f":"F5","v":0},null,{"$f":"H5","v":0},null,{"$f":"J5","v":0},null,{"$f":"L5","v":0}]

{"sheet":"공종별내역서","index":2,"n_rows":267,"n_cols":48,"rows_kept":267,"merged":[[0,0,0,12],[1,0,2,0],[1,1,2,1],[1,2,2,2],[1,3,2,3],[1,4,1,5],[1,6,1,7],[1,8,1,9],[1,10,1,11],[1,12,2,12],[1,13,2,13],[1,14,2,14],[1,15,2,15],[1,16,2,16],[1,17,2,17],[1,18,2,18],[1,19,2,19],[1,20,2,20],[1,21,2,21],[1,22,2,22],[1,23,2,23],[1,24,2,24],[1,25,2,25],[1,26,2,26],[1,27,2,27],[1,28,2,28],[1,29,2,29],[1,30,2,30],[1,31,2,31],[1,32,2,32],[1,33,2,33],[1,34,2,34],[1,35,2,35],[1,36,2,36],[1,37,2,37],[1,38,2,38],[1,39,2,39],[1,40,2,40],[1,41,2,41],[1,42,2,42],[1,43,2,43],[1,44,2,44],[1,45,2,45],[1,46,2,46],[1,47,2,47]]}
["[ 본원식당 시설개선 공사 ]"]
["품      명","규      격","단위","수량","재  료  비",null,"노  무  비",null,"경      비",null,"합      계",null,"비  고","품목코드","변수","설정","공종코드","일위","단산","자 재","손료적용","손료저장","적용율","JUK1","JUK2","JUK3","JUK4","JUK5","JUK6","JUK7","JUK8","JUK9","JUK10","JUK11","JUK12","JUK13","JUK14","JUK15","JUK16","JUK17","JUK18","JUK19","JUK20","자재구분","공종구분","공종레벨","공종+자재","고유번호"]
[{"$nulls":4},"단  가","금  액","단  가","금  액","단  가","금  액","단  가","금  액"]
["010101  목    공    사",{"$nulls":15},"010101"]
["목재후로링 깔기","헤링본형태","M2",null,{"$f":"TRUNC(일위대가목록!E4,0)","v":0},{"$f":"TRUNC(E5*D5, 0)","v":0},{"$f":"TRUNC(일위대가목록!F4,0)","v":0},{"$f":"TRUNC(G5*D5, 0)","v":0},{"$f":"TRUNC(일위대가목록!G4,0)","v":0},{"$f":"TRUNC(I5*D5, 0)","v":0},{"$f":"TRUNC(E5+G5+I5, 0)","v":0},0,null,"5702212874485C701A4BC0FB2E855E",null,null,"010101","T","F","F",{"$nulls":26},"0101015702212874485C701A4BC0FB2E855E",9]
["벽체틀(각관)","30*30, @450*600","M2",null,{"$f":"TRUNC(일위대가목록!E5,0)","v":0},{"$f":"TRUNC(E6*D6, 0)","v":0},{"$f":"TRUNC(일위대가목록!F5,0)","v":0},{"$f":"TRUNC(G6*D6, 0)","v":0},{"$f":"TRUNC(일위대가목록!G5,0)","v":0},{"$f":"TRUNC(I6*D6, 0)","v":0},0,0,null,"570221287703B7C010D3F3B6B35208",null,null,"010101","T","F","F",{"$nulls":26},"010101570221287703B7C010D3F3B6B35208",11]
["벽, 합판붙임","벽, 8.5T(준내수합판)","M2",null,{"$f":"TRUNC(일위대가목록!E6,0)","v":0},{"$f":"TRUNC(E7*D7, 0)","v":0},{"$f":"TRUNC(일위대가목록!F6,0)","v":0},{"$f":"TRUNC(G7*D7, 0)","v":0},{"$f":"TRUNC(일위대가목록!G6,0)","v":0},{"$f":"TRUNC(I7*D7, 0)","v":0},0,0,null,"5702412D70B66DC01C52BFEFE524B9",null,null,"010101","T","F","F",{"$nulls":26},"0101015702412D70B66DC01C52BFEFE524B9",14]
{"$rows_empty":19}
["[ 합           계 ]",{"$nulls":4},{"$f":"SUM(F5:F26)","v":0},null,{"$f":"SUM(H5:H26)","v":0},null,{"$f":"SUM(J5:J26)","v":0},null,{"$f":"SUM(L5:L26)","v":0},null,"TOTAL"]
["010102  금  속  공  사",{"$nulls":15},"010102"]
["경량철골천정틀","M-BAR, H:1m미만. 인써트 유","M2",65,{"$f":"TRUNC(일위대가목록!E7,0)","v":0},{"$f":"TRUNC(E29*D29, 0)","v":0},{"$f":"TRUNC(일위대가목록!F7,0)","v":0},{"$f":"TRUNC(G29*D29, 0)","v":0},{"$f":"TRUNC(일위대가목록!G7,0)","v":0},{"$f":"TRUNC(I29*D29, 0)","v":0},{"$f":"TRUNC(E29+G29+I29, 0)","v":0},0,null,"5702112977EBF6401D6FD866B1DB58",null,null,"010102","T","F","F",{"$nulls":26},"0101025702112977EBF6401D6FD866B1DB58",18]
["천장 점검구 설치","AL 백색, 650*650mm","개소",1,{"$f":"TRUNC(일위대가목록!E8,0)","v":0},0,{"$f":"TRUNC(일위대가목록!F8,0)","v":0},0,{"$f":"TRUNC(일위대가목록!G8,0)","v":0},0,0,0,null,"5702112977EC9C1010376EE9E65E0E",null,null,"010102","T","F","F",{"$nulls":26},"0101025702112977EC9C1010376EE9E65E0E",19]
["스텐걸레받이","S'ST1.5t, H:80","M",20,{"$f":"TRUNC(일위대가목록!E9,0)","v":0},0,{"$f":"TRUNC(일위대가목록!F9,0)","v":0},0,{"$f":"TRUNC(일위대가목록!G9,0)","v":0},0,0,0,null,"57021129730BE6F01FEF6B66104C0E",null,null,"010102","T","F","F",{"$nulls":26},"01010257021129730BE6F01FEF6B66104C0E",20]
["알루미늄루버설치/천정","45*120,인테리어필름","M",76,{"$f":"TRUNC(일위대가목록!E10,0)","v":0},0,{"$f":"TRUNC(일위대가목록!F10,0)","v":0},0,{"$f":"TRUNC(일위대가목록!G10,0)","v":0},0,0,0,null,"57021129730BE6F01FEF6B66104C0D",null,null,"010102","T","F","F",{"$nulls":26},"01010257021129730BE6F01FEF6B66104C0D",21]
["우물천정설치/갈바절곡","갈바1.2mm, 350*150, 분체도장","M",18,{"$f":"TRUNC(일위대가목록!E11,0)","v":0},0,{"$f":"TRUNC(일위대가목록!F11,0)","v":0},0,{"$f":"TRUNC(일위대가목록!G11,0)","v":0},0,0,0,null,"57021129730BE6F01FEF6B66104C0C",null,null,"010102","T","F","F",{"$nulls":26},"01010257021129730BE6F01FEF6B66104C0C",22]
["스테인리스재료분리대","바닥, W45*H20*1.5t","M",9,{"$f":"TRUNC(일위대가목록!E12,0)","v":0},0,{"$f":"TRUNC(일위대가목록!F12,0)","v":0},0,{"$f":"TRUNC(일위대가목록!G12,0)","v":0},0,0,0,null,"5702412D742C300019236B83C93DDF",null,null,"010102","T","F","F",{"$nulls":26},"0101025702412D742C300019236B83C93DDF",23]
["벽장식구조물/칼라도장","(ㅁ-40*40+30*20), 4480*1180","EA",1,{"$f":"TRUNC(일위대가목록!E13,0)","v":0},0,{"$f":"TRUNC(일위대가목록!F13,0)","v":0},0,{"$f":"TRUNC(일위대가목록!G13,0)","v":0},0,0,0,null,"570271207ED9BE901F7CB41125A738",null,null,"010102","T","F","F",{"$nulls":26},"010102570271207ED9BE901F7CB41125A738",41]
{"$rows_empty":15}
["[ 합           계 ]",{"$nulls":4},{"$f":"SUM(F29:F50)","v":0},null,{"$f":"SUM(H29:H50)","v":0},null,{"$f":"SUM(J29:J50)","v":0},null,{"$f":"SUM(L29:L50)","v":0},null,"TOTAL"]
["010103  창  호  공  사",{"$nulls":15},"010103"]
["AW01[갈바절곡창호,분체도장]","8.150 x 3.000","EA",1,{"$f":"TRUNC(일위대가목록!E14,0)","v":0},{"$f":"TRUNC(E53*D53, 0)","v":0},{"$f":"TRUNC(일위대가목록!F14,0)","v":0},{"$f":"TRUNC(G53*D53, 0)","v":0},{"$f":"TRUNC(일위대가목록!G14,0)","v":0},{"$f":"TRUNC(I53*D53, 0)","v":0},{"$f":"TRUNC(E53+G53+I53, 0)","v":0},0,null,"570271207687A1201B01D15F1996E4",null,null,"010103","T","F","F",{"$nulls":26},"010103570271207687A1201B01D15F1996E4",29]
["AW02[갈바절곡창호,분체도장]","1.000 x 2.100","EA",1,{"$f":"TRUNC(일위대가목록!E15,0)","v":0},0,{"$f":"TRUNC(일위대가목록!F15,0)","v":0},0,{"$f":"TRUNC(일위대가목록!G15,0)","v":0},0,0,0,null,"570271207687A1201B01D15F1996E6",null,null,"010103","T","F","F",{"$nulls":26},"010103570271207687A1201B01D15F1996E6",30]
["플로어힌지","KS3호, 105kg, 강화유리문(K-8300)","조",3,{"$f":"TRUNC(단가대비표!O46,0)","v":{"v":57200,"d":"57,200"}},{"v":171600,"d":"171,600"},{"$f":"TRUNC(단가대비표!P46,0)","v":0},0,{"$f":"TRUNC(단가대비표!V46,0)","v":0},0,{"v":57200,"d":"57,200"},{"v":171600,"d":"171,600"},null,"502741227AE1991015186ABB5A18A8680D7CBC",null,null,"010103","F","F","T",{"$nulls":26},"010103502741227AE1991015186ABB5A18A8680D7CBC",28]
["플로어힌지설치","재료비 별도","개소",3,{"$f":"TRUNC(일위대가목록!E16,0)","v":0},0,{"$f":"TRUNC(일위대가목록!F16,0)","v":0},0,{"$f":"TRUNC(일위대가목록!G16,0)","v":0},0,0,0,null,"57027120710754601E2C6A82A6094C",null,null,"010103","T","F","F",{"$nulls":26},"01010357027120710754601E2C6A82A6094C",31]
["창문틀 주위 충전","발포우레탄","M",26,{"$f":"TRUNC(일위대가목록!E17,0)","v":0},0,{"$f":"TRUNC(일위대가목록!F17,0)","v":0},0,{"$f":"TRUNC(일위대가목록!G17,0)","v":0},0,0,0,null,"570271207101CDE01E61F47CDE96AF",null,null,"010103","T","F","F",{"$nulls":26},"010103570271207101CDE01E61F47CDE96AF",63]
["수밀코킹(실리콘)","삼각, 10mm, 창호주위","M",51,{"$f":"TRUNC(일위대가목록!E18,0)","v":0},0,{"$f":"TRUNC(일위대가목록!F18,0)","v":0},0,{"$f":"TRUNC(일위대가목록!G18,0)","v":0},0,0,0,null,"5702312E7A1C7B70109B246605A7AB",null,null,"010103","T","F","F",{"$nulls":26},"0101035702312E7A1C7B70109B246605A7AB",16]
{"$rows_empty":16}
["[ 합           계 ]",{"$nulls":4},{"$f":"SUM(F53:F74)","v":{"v":171600,"d":"171,600"}},null,{"$f":"SUM(H53:H74)","v":0},null,{"$f":"SUM(J53:J74)","v":0},null,{"$f":"SUM(L53:L74)","v":{"v":171600,"d":"171,600"}},null,"TOTAL"]
["010104  유  리  공  사",{"$nulls":15},"010104"]
["강화유리문(세이프)","투명,손보호,12mm*1.0*2.1m,고무2면","개",1,{"$f":"TRUNC(단가대비표!O41,0)","v":{"v":250000,"d":"250,000"}},{"$f":"TRUNC(E77*D77, 0)","v":{"v":250000,"d":"250,000"}},{"$f":"TRUNC(단가대비표!P41,0)","v":0},{"$f":"TRUNC(G77*D77, 0)","v":0},{"$f":"TRUNC(단가대비표!V41,0)","v":0},{"$f":"TRUNC(I77*D77, 0)","v":0},{"$f":"TRUNC(E77+G77+I77, 0)","v":{"v":250000,"d":"250,000"}},{"v":250000,"d":"250,000"},null,"502751237381CFF01DB37EE44D679307B13C42",null,null,"010104","F","F","T",{"$nulls":26},"010104502751237381CFF01DB37EE44D679307B13C42",34]
["강화유리문(세이프)","투명,손보호,12mm*0.9*3.0m,고무2면","개",2,{"$f":"TRUNC(단가대비표!O42,0)","v":{"v":300000,"d":"300,000"}},{"v":600000,"d":"600,000"},{"$f":"TRUNC(단가대비표!P42,0)","v":0},0,{"$f":"TRUNC(단가대비표!V42,0)","v":0},0,{"v":300000,"d":"300,000"},{"v":600000,"d":"600,000"},null,"502751237381CFF01DB37EE44D679307B13C43",null,null,"010104","F","F","T",{"$nulls":26},"010104502751237381CFF01DB37EE44D679307B13C43",35]
["강화유리문손잡이",null,"개",3,{"$f":"TRUNC(단가대비표!O43,0)","v":{"v":48000,"d":"48,000"}},{"v":144000,"d":"144,000"},{"$f":"TRUNC(단가대비표!P43,0)","v":0},0,{"$f":"TRUNC(단가대비표!V43,0)","v":0},0,{"v":48000,"d":"48,000"},{"v":144000,"d":"144,000"},null,"502751237381CFF01DB37EE44F18C3B0C8C1C0",null,null,"010104","F","F","T",{"$nulls":26},"010104502751237381CFF01DB37EE44F18C3B0C8C1C0",36]
["강화유리","강화유리, 투명, 12mm","M2",19,{"$f":"TRUNC(단가대비표!O45,0)","v":{"v":37800,"d":"37,800"}},{"v":718200,"d":"718,200"},{"$f":"TRUNC(단가대비표!P45,0)","v":0},0,{"$f":"TRUNC(단가대비표!V45,0)","v":0},0,{"v":37800,"d":"37,800"},{"v":718200,"d":"718,200"},null,"502751237381CFF01F61DD0066D94C1B0EC079",null,null,"010104","F","F","T",{"$nulls":26},"010104502751237381CFF01F61DD0066D94C1B0EC079",37]
["유리주위코킹","5*5, 실리콘","M",147,{"$f":"TRUNC(일위대가목록!E19,0)","v":0},0,{"$f":"TRUNC(일위대가목록!F19,0)","v":0},0,{"$f":"TRUNC(일위대가목록!G19,0)","v":0},0,0,0,null,"5702312E7A1D01301FE0F9C5BEED3E",null,null,"010104","T","F","F",{"$nulls":26},"0101045702312E7A1D01301FE0F9C5BEED3E",38]
["유리끼우기 - 판유리","10mm 이상","M2",19,{"$f":"TRUNC(일위대가목록!E20,0)","v":0},0,{"$f":"TRUNC(일위대가목록!F20,0)","v":0},0,{"$f":"TRUNC(일위대가목록!G20,0)","v":0},0,0,0,null,"57027120707FFCC013A61618E3113C",null,null,"010104","T","F","F",{"$nulls":26},"01010457027120707FFCC013A61618E3113C",39]
["브론즈경설치","W150*5mm, 틀 포함","M",12,{"$f":"TRUNC(일위대가목록!E21,0)","v":0},0,{"$f":"TRUNC(일위대가목록!F21,0)","v":0},0,{"$f":"TRUNC(일위대가목록!G21,0)","v":0},0,0,0,null,"570271207ED9BE901F7CB41125A739",null,null,"010104","T","F","F",{"$nulls":26},"010104570271207ED9BE901F7CB41125A739",40]
{"$rows_empty":15}
["[ 합           계 ]",{"$nulls":4},{"$f":"SUM(F77:F98)","v":{"v":1712200,"d":"1,712,200"}},null,{"$f":"SUM(H77:H98)","v":0},null,{"$f":"SUM(J77:J98)","v":0},null,{"$f":"SUM(L77:L98)","v":{"v":1712200,"d":"1,712,200"}},null,"TOTAL"]
["010105  칠    공    사",{"$nulls":15},"010105"]
["비닐페인트","내벽3회","㎡",10,{"$f":"TRUNC(단가대비표!O67,0)","v":{"v":4100,"d":"4,100"}},{"$f":"TRUNC(E101*D101, 0)","v":{"v":41000,"d":"41,000"}},{"$f":"TRUNC(단가대비표!P67,0)","v":{"v":6990,"d":"6,990"}},{"$f":"TRUNC(G101*D101, 0)","v":{"v":69900,"d":"69,900"}},{"$f":"TRUNC(단가대비표!V67,0)","v":0},{"$f":"TRUNC(I101*D101, 0)","v":0},{"$f":"TRUNC(E101+G101+I101, 0)","v":{"v":11090,"d":"11,090"}},{"v":110900,"d":"110,900"},null,"570251237A23DB8019A5DC2725B045",null,null,"010105","F","F","T",{"$nulls":26},"010105570251237A23DB8019A5DC2725B045",43]
["비닐페인트","내천정3회","㎡",65,{"$f":"TRUNC(단가대비표!O68,0)","v":{"v":4250,"d":"4,250"}},{"$f":"TRUNC(E102*D102, 0)","v":{"v":276250,"d":"276,250"}},{"$f":"TRUNC(단가대비표!P68,0)","v":{"v":7430,"d":"7,430"}},{"$f":"TRUNC(G102*D102, 0)","v":{"v":482950,"d":"482,950"}},{"$f":"TRUNC(단가대비표!V68,0)","v":0},{"$f":"TRUNC(I102*D102, 0)","v":0},{"v":11680,"d":"11,680"},{"v":759200,"d":"759,200"},null,"570251237A23DB80189FF142B2C4D7",null,null,"010105","F","F","T",{"$nulls":26},"010105570251237A23DB80189FF142B2C4D7",44]
["바탕만들기 - 친환경","석고보드면(줄퍼티)","M2",10,{"$f":"TRUNC(일위대가목록!E22,0)","v":0},{"$f":"TRUNC(E103*D103, 0)","v":0},{"$f":"TRUNC(일위대가목록!F22,0)","v":0},{"$f":"TRUNC(G103*D103, 0)","v":0},{"$f":"TRUNC(일위대가목록!G22,0)","v":0},{"$f":"TRUNC(I103*D103, 0)","v":0},0,0,null,"570251227A94AB301E23E0DBB6C996",null,null,"010105","T","F","F",{"$nulls":26},"010105570251227A94AB301E23E0DBB6C996",92]
["바탕만들기 - 친환경","석고보드면(줄퍼티), 천장","M2",65,{"$f":"TRUNC(일위대가목록!E23,0)","v":0},{"$f":"TRUNC(E104*D104, 0)","v":0},{"$f":"TRUNC(일위대가목록!F23,0)","v":0},{"$f":"TRUNC(G104*D104, 0)","v":0},{"$f":"TRUNC(일위대가목록!G23,0)","v":0},{"$f":"TRUNC(I104*D104, 0)","v":0},0,0,null,"570251227A94AB301E23E0DBB526C8",null,null,"010105","T","F","F",{"$nulls":26},"010105570251227A94AB301E23E0DBB526C8",46]
{"$rows_empty":18}
["[ 합           계 ]",{"$nulls":4},{"$f":"SUM(F101:F122)","v":{"v":317250,"d":"317,250"}},null,{"$f":"SUM(H101:H122)","v":{"v":552850,"d":"552,850"}},null,{"$f":"SUM(J101:J122)","v":0},null,{"$f":"SUM(L101:L122)","v":{"v":870100,"d":"870,100"}},null,"TOTAL"]
["010106  수  장  공  사",{"$nulls":15},"010106"]
["인조대리석마감","20T","M2",71,{"$f":"TRUNC(일위대가목록!E24,0)","v":0},{"$f":"TRUNC(E125*D125, 0)","v":0},{"$f":"TRUNC(일위대가목록!F24,0)","v":0},{"$f":"TRUNC(G125*D125, 0)","v":0},{"$f":"TRUNC(일위대가목록!G24,0)","v":0},{"$f":"TRUNC(I125*D125, 0)","v":0},{"$f":"TRUNC(E125+G125+I125, 0)","v":0},0,null,"570261227200141014F2292A11BF52",null,null,"010106","T","F","F",{"$nulls":26},"010106570261227200141014F2292A11BF52",69]
["석고판 붙임(바탕+치장)","벽, 일반9.5mm 2겹","M2",24,{"$f":"TRUNC(일위대가목록!E25,0)","v":0},{"$f":"TRUNC(E126*D126, 0)","v":0},{"$f":"TRUNC(일위대가목록!F25,0)","v":0},{"$f":"TRUNC(G126*D126, 0)","v":0},{"$f":"TRUNC(일위대가목록!G25,0)","v":0},{"$f":"TRUNC(I126*D126, 0)","v":0},0,0,null,"5702412D70B0C2301A7422D4027BDF",null,null,"010106","T","F","F",{"$nulls":26},"0101065702412D70B0C2301A7422D4027BDF",51]
["석고판 붙임(바탕+치장)","천장, 일반9.5mm 2겹","M2",150,{"$f":"TRUNC(일위대가목록!E26,0)","v":0},{"$f":"TRUNC(E127*D127, 0)","v":0},{"$f":"TRUNC(일위대가목록!F26,0)","v":0},{"$f":"TRUNC(G127*D127, 0)","v":0},{"$f":"TRUNC(일위대가목록!G26,0)","v":0},{"$f":"TRUNC(I127*D127, 0)","v":0},0,0,null,"5702412D70B0C230196ED746EBDC30",null,null,"010106","T","F","F",{"$nulls":26},"0101065702412D70B0C230196ED746EBDC30",52]
["모르타르 바름","바닥, 30mm","M2",53,{"$f":"TRUNC(일위대가목록!E27,0)","v":0},{"$f":"TRUNC(E128*D128, 0)","v":0},{"$f":"TRUNC(일위대가목록!F27,0)","v":0},{"$f":"TRUNC(G128*D128, 0)","v":0},{"$f":"TRUNC(일위대가목록!G27,0)","v":0},{"$f":"TRUNC(I128*D128, 0)","v":0},0,0,null,"5702C12878813730115E9C42A7D401",null,null,"010106","T","F","F",{"$nulls":26},"0101065702C12878813730115E9C42A7D401",25]
{"$rows_empty":18}
["[ 합           계 ]",{"$nulls":4},{"$f":"SUM(F125:F146)","v":0},null,{"$f":"SUM(H125:H146)","v":0},null,{"$f":"SUM(J125:J146)","v":0},null,{"$f":"SUM(L125:L146)","v":0},null,"TOTAL"]
["010107  기  타  공  사",{"$nulls":15},"010107"]
["EZM-5693 의자","H705/블랙","EA",12,{"$f":"TRUNC(단가대비표!O85,0)","v":{"v":220000,"d":"220,000"}},{"$f":"TRUNC(E149*D149, 0)","v":{"v":2640000,"d":"2,640,000"}},{"$f":"TRUNC(단가대비표!P85,0)","v":0},{"$f":"TRUNC(G149*D149, 0)","v":0},{"$f":"TRUNC(단가대비표!V85,0)","v":0},{"$f":"TRUNC(I149*D149, 0)","v":0},{"$f":"TRUNC(E149+G149+I149, 0)","v":{"v":220000,"d":"220,000"}},{"$f":"TRUNC(F149+H149+J149, 0)","v":{"v":2640000,"d":"2,640,000"}},null,"56BA812F7146E22011C03552E73DA1060155A8",null,null,"010107","F","F","T",{"$nulls":26},"01010756BA812F7146E22011C03552E73DA1060155A8",96]
["이미지파티션공사","800*1800","EA",5,{"$f":"TRUNC(단가대비표!O86,0)","v":{"v":296000,"d":"296,000"}},{"$f":"TRUNC(E150*D150, 0)","v":{"v":1480000,"d":"1,480,000"}},{"$f":"TRUNC(단가대비표!P86,0)","v":0},{"$f":"TRUNC(G150*D150, 0)","v":0},{"$f":"TRUNC(단가대비표!V86,0)","v":0},{"$f":"TRUNC(I150*D150, 0)","v":0},{"$f":"TRUNC(E150+G150+I150, 0)","v":{"v":296000,"d":"296,000"}},{"$f":"TRUNC(F150+H150+J150, 0)","v":{"v":1480000,"d":"1,480,000"}},null,"56BA812F7146E22011C03552E73DA1060155A0",null,null,"010107","F","F","T",{"$nulls":26},"01010756BA812F7146E22011C03552E73DA1060155A0",95]
{"$rows_empty":20}
["[ 합           계 ]",{"$nulls":4},{"$f":"SUM(F149:F170)","v":{"v":4120000,"d":"4,120,000"}},null,{"$f":"SUM(H149:H170)","v":0},null,{"$f":"SUM(J149:J170)","v":0},null,{"$f":"SUM(L149:L170)","v":{"v":4120000,"d":"4,120,000"}},null,"TOTAL"]
["010108  철  거  공  사",{"$nulls":15},"010108"]
["석고보드 철거(천장)","9.5mm*2겹","M2",92,{"$f":"TRUNC(일위대가목록!E28,0)","v":0},{"$f":"TRUNC(E173*D173, 0)","v":0},{"$f":"TRUNC(일위대가목록!F28,0)","v":0},{"$f":"TRUNC(G173*D173, 0)","v":0},{"$f":"TRUNC(일위대가목록!G28,0)","v":0},{"$f":"TRUNC(I173*D173, 0)","v":0},{"$f":"TRUNC(E173+G173+I173, 0)","v":0},0,null,"5703A12276CF2A8017764497A1BAE6",null,null,"010108","T","F","F",{"$nulls":26},"0101085703A12276CF2A8017764497A1BAE6",54]
["벽돌 및 불럭벽 철거","소형브레이커","M3",1,{"$f":"TRUNC(일위대가목록!E29,0)","v":0},0,{"$f":"TRUNC(일위대가목록!F29,0)","v":0},0,{"$f":"TRUNC(일위대가목록!G29,0)","v":0},0,0,0,null,"5703A12276CC562015614BAEA16A6C",null,null,"010108","T","F","F",{"$nulls":26},"0101085703A12276CC562015614BAEA16A6C",55]
["목조, 칸막이벽 철거","해체재 재사용 안 함","M2",96,{"$f":"TRUNC(일위대가목록!E30,0)","v":0},0,{"$f":"TRUNC(일위대가목록!F30,0)","v":0},0,{"$f":"TRUNC(일위대가목록!G30,0)","v":0},0,0,0,null,"5703A12276CF2A8014A38C81D175F0",null,null,"010108","T","F","F",{"$nulls":26},"0101085703A12276CF2A8014A38C81D175F0",66]
["경량철골천정틀철거",null,"M2",92,{"$f":"TRUNC(일위대가목록!E31,0)","v":0},0,{"$f":"TRUNC(일위대가목록!F31,0)","v":0},0,{"$f":"TRUNC(일위대가목록!G31,0)","v":0},0,0,0,null,"5703A12276C6CBC01B8F5377A65C12",null,null,"010108","T","F","F",{"$nulls":26},"0101085703A12276C6CBC01B8F5377A65C12",58]
["창호철거",null,"M2",11,{"$f":"TRUNC(일위대가목록!E32,0)","v":0},0,{"$f":"TRUNC(일위대가목록!F32,0)","v":0},0,{"$f":"TRUNC(일위대가목록!G32,0)","v":0},0,0,0,null,"5703A12276C6CBC01B8F5377AA388B",null,null,"010108","T","F","F",{"$nulls":26},"0101085703A12276C6CBC01B8F5377AA388B",59]
["화강석판석철거",null,"M2",29,{"$f":"TRUNC(일위대가목록!E33,0)","v":0},0,{"$f":"TRUNC(일위대가목록!F33,0)","v":0},0,{"$f":"TRUNC(일위대가목록!G33,0)","v":0},0,0,0,null,"5703A12276C6CBC01B8F53769560F7",null,null,"010108","T","F","F",{"$nulls":26},"0101085703A12276C6CBC01B8F53769560F7",60]
["악세스후로아철거","카펫타일포함","M2",23,{"$f":"TRUNC(일위대가목록!E34,0)","v":0},0,{"$f":"TRUNC(일위대가목록!F34,0)","v":0},0,{"$f":"TRUNC(일위대가목록!G34,0)","v":0},0,0,0,null,"5703A12276C6CBC01B8F53769560F6",null,null,"010108","T","F","F",{"$nulls":26},"0101085703A12276C6CBC01B8F53769560F6",93]
{"$rows_empty":15}
["[ 합           계 ]",{"$nulls":4},{"$f":"SUM(F173:F194)","v":0},null,{"$f":"SUM(H173:H194)","v":0},null,{"$f":"SUM(J173:J194)","v":0},null,{"$f":"SUM(L173:L194)","v":0},null,"TOTAL"]
["010109  골    재    대",{"$nulls":15},"010109"]
["시멘트","40KG","포",20,{"$f":"TRUNC(단가대비표!O25,0)","v":{"v":4181,"d":"4,181"}},{"$f":"TRUNC(E197*D197, 0)","v":{"v":83620,"d":"83,620"}},{"$f":"TRUNC(단가대비표!P25,0)","v":0},{"$f":"TRUNC(G197*D197, 0)","v":0},{"$f":"TRUNC(단가대비표!V25,0)","v":0},{"$f":"TRUNC(I197*D197, 0)","v":0},{"$f":"TRUNC(E197+G197+I197, 0)","v":{"v":4181,"d":"4,181"}},{"$f":"TRUNC(F197+H197+J197, 0)","v":{"v":83620,"d":"83,620"}},null,"502751237387567010A622ED4498E65815FD10",null,null,"010109","F","F","T",{"$nulls":26},"010109502751237387567010A622ED4498E65815FD10",71]
["모래","도착도","M3",2,{"$f":"TRUNC(단가대비표!O9,0)","v":{"v":25000,"d":"25,000"}},{"$f":"TRUNC(E198*D198, 0)","v":{"v":50000,"d":"50,000"}},{"$f":"TRUNC(단가대비표!P9,0)","v":0},{"$f":"TRUNC(G198*D198, 0)","v":0},{"$f":"TRUNC(단가대비표!V9,0)","v":0},{"$f":"TRUNC(I198*D198, 0)","v":0},{"$f":"TRUNC(E198+G198+I198, 0)","v":{"v":25000,"d":"25,000"}},{"$f":"TRUNC(F198+H198+J198, 0)","v":{"v":50000,"d":"50,000"}},null,"500461217162D6301DA7B7B5F8B9FAE8279C25",null,null,"010109","F","F","T",{"$nulls":26},"010109500461217162D6301DA7B7B5F8B9FAE8279C25",72]
{"$rows_empty":20}
["[ 합           계 ]",{"$nulls":4},{"$f":"SUM(F197:F218)","v":{"v":133620,"d":"133,620"}},null,{"$f":"SUM(H197:H218)","v":0},null,{"$f":"SUM(J197:J218)","v":0},null,{"$f":"SUM(L197:L218)","v":{"v":133620,"d":"133,620"}},null,"TOTAL"]
["010110  건설폐기물처리비",{"$nulls":15},"010110"]
["건설폐기물처리비-중간","혼합건설폐기물","TON",12,{"$f":"TRUNC(단가대비표!O64,0)","v":0},{"$f":"TRUNC(E221*D221, 0)","v":0},{"$f":"TRUNC(단가대비표!P64,0)","v":0},{"$f":"TRUNC(G221*D221, 0)","v":0},{"$f":"TRUNC(단가대비표!V64,0)","v":{"v":94250,"d":"94,250"}},{"$f":"TRUNC(I221*D221, 0)","v":{"v":1131000,"d":"1,131,000"}},{"$f":"TRUNC(E221+G221+I221, 0)","v":{"v":94250,"d":"94,250"}},{"v":1131000,"d":"1,131,000"},null,"5702A12B7F8F56C0162190A0EF7042",null,null,"010110","F","F","T",{"$nulls":26},"0101105702A12B7F8F56C0162190A0EF7042",62]
["건설폐기물상차비 - 불연성","15톤덤프트럭(10m3)","TON",12,{"$f":"TRUNC(단가대비표!O65,0)","v":0},{"$f":"TRUNC(E222*D222, 0)","v":0},{"$f":"TRUNC(단가대비표!P65,0)","v":0},{"$f":"TRUNC(G222*D222, 0)","v":0},{"$f":"TRUNC(단가대비표!V65,0)","v":{"v":1820,"d":"1,820"}},{"$f":"TRUNC(I222*D222, 0)","v":{"v":21840,"d":"21,840"}},{"v":1820,"d":"1,820"},{"v":21840,"d":"21,840"},null,"5702A12B7F8F56C017C732CDB089DF",null,null,"010110","F","F","T",{"$nulls":26},"0101105702A12B7F8F56C017C732CDB089DF",67]
["건설폐기물운반비 - 불연성","15톤덤프트럭 - 30km","TON",12,{"$f":"TRUNC(단가대비표!O66,0)","v":0},{"$f":"TRUNC(E223*D223, 0)","v":0},{"$f":"TRUNC(단가대비표!P66,0)","v":0},{"$f":"TRUNC(G223*D223, 0)","v":0},{"$f":"TRUNC(단가대비표!V66,0)","v":{"v":11840,"d":"11,840"}},{"$f":"TRUNC(I223*D223, 0)","v":{"v":142080,"d":"142,080"}},{"v":11840,"d":"11,840"},{"v":142080,"d":"142,080"},null,"5702A12B7F8F56C017C732CF63E67A",null,null,"010110","F","F","T",{"$nulls":26},"0101105702A12B7F8F56C017C732CF63E67A",68]
{"$rows_empty":19}
["[ 합           계 ]",{"$nulls":4},{"$f":"SUM(F221:F242)","v":0},null,{"$f":"SUM(H221:H242)","v":0},null,{"$f":"SUM(J221:J242)","v":{"v":1294920,"d":"1,294,920"}},null,{"$f":"SUM(L221:L242)","v":{"v":1294920,"d":"1,294,920"}},null,"TOTAL"]
["010201  기계설비공사",{"$nulls":15},"010201"]
["기계설비공사",null,"식",1,{"$f":"TRUNC(단가대비표!O87,0)","v":{"v":140702,"d":"140,702"}},{"$f":"TRUNC(E245*D245, 0)","v":{"v":140702,"d":"140,702"}},{"$f":"TRUNC(단가대비표!P87,0)","v":{"v":1045089,"d":"1,045,089"}},{"$f":"TRUNC(G245*D245, 0)","v":{"v":1045089,"d":"1,045,089"}},{"$f":"TRUNC(단가대비표!V87,0)","v":0},{"$f":"TRUNC(I245*D245, 0)","v":0},{"$f":"TRUNC(E245+G245+I245, 0)","v":{"v":1185791,"d":"1,185,791"}},{"$f":"TRUNC(F245+H245+J245, 0)","v":{"v":1185791,"d":"1,185,791"}},"기계내역참조","56BA812F7146E22011C03552E73DA106015482",null,null,"010201","F","F","T",{"$nulls":26},"01020156BA812F7146E22011C03552E73DA106015482",88]
{"$rows_empty":21}
["[ 합           계 ]",{"$nulls":4},{"$f":"SUM(F245:F266)","v":{"v":140702,"d":"140,702"}},null,{"$f":"SUM(H245:H266)","v":{"v":1045089,"d":"1,045,089"}},null,{"$f":"SUM(J245:J266)","v":0},null,{"$f":"SUM(L245:L266)","v":{"v":1185791,"d":"1,185,791"}},null,"TOTAL"]

{"sheet":"공종별집계표(기계)","index":3,"n_rows":27,"n_cols":20,"rows_kept":27,"merged":[[0,0,0,12],[1,0,1,12],[2,0,3,0],[2,1,3,1],[2,2,3,2],[2,3,3,3],[2,4,2,5],[2,6,2,7],[2,8,2,9],[2,10,2,11],[2,12,3,12],[2,13,3,13],[2,14,3,14],[2,15,3,15],[2,16,3,16],[2,17,3,17],[2,18,3,18],[2,19,3,19]]}
["공 종 별 집 계 표"]
["[ 본원식당 시설개선 공사-기계 ]"]
["품      명","규      격","단위","수량","재  료  비",null,"노  무  비",null,"경      비",null,"합      계",null,"비  고","공종코드","변수","상위공종","공종구분","공종레벨","공종소계","원가계산서 연결금액"]
[{"$nulls":4},"단  가","금  액","단  가","금  액","단  가","금  액","단  가","금  액"]
["01  국방기술품질원식당리모델링-기계공사",null,null,1,{"$f":"F6","v":0},{"$f":"E5*D5","v":0},{"$f":"H6","v":0},{"$f":"G5*D5","v":0},{"$f":"J6","v":0},{"$f":"I5*D5","v":0},{"$f":"E5+G5+I5","v":0},0,null,"01",{"$nulls":3},1]
["0101  기계설비공사",null,null,1,{"$f":"F7","v":0},{"$f":"E6*D6","v":0},{"$f":"H7","v":0},{"$f":"G6*D6","v":0},{"$f":"J7","v":0},{"$f":"I6*D6","v":0},0,0,null,"0101",null,"01",null,2]
["010101  환기덕트공사",null,null,1,{"$f":"'공종별내역서(기계)'!F27","v":0},{"$f":"E7*D7","v":0},{"$f":"'공종별내역서(기계)'!H27","v":0},{"$f":"G7*D7","v":0},{"$f":"'공종별내역서(기계)'!J27","v":0},{"$f":"I7*D7","v":0},0,0,null,"010101",null,"0101",null,3]
[]
[{"$nulls":4},{"$f":"'공종별내역서(기계)'!F51","v":0},{"$f":"E9*D9","v":0},{"$f":"'공종별내역서(기계)'!H51","v":0},{"$f":"G9*D9","v":0},{"$f":"'공종별내역서(기계)'!J51","v":0},{"$f":"I9*D9","v":0},0,0,null,"010201",null,"0102",null,3]
{"$rows_empty":17}
["[ 합           계 ]",{"$nulls":4},{"$f":"F5","v":0},null,{"$f":"H5","v":0},null,{"$f":"J5","v":0},null,{"$f":"L5","v":0}]

{"sheet":"공종별내역서(기계)","index":4,"n_rows":51,"n_cols":48,"rows_kept":51,"merged":[[0,0,0,12],[1,0,2,0],[1,1,2,1],[1,2,2,2],[1,3,2,3],[1,4,1,5],[1,6,1,7],[1,8,1,9],[1,10,1,11],[1,12,2,12],[1,13,2,13],[1,14,2,14],[1,15,2,15],[1,16,2,16],[1,17,2,17],[1,18,2,18],[1,19,2,19],[1,20,2,20],[1,21,2,21],[1,22,2,22],[1,23,2,23],[1,24,2,24],[1,25,2,25],[1,26,2,26],[1,27,2,27],[1,28,2,28],[1,29,2,29],[1,30,2,30],[1,31,2,31],[1,32,2,32],[1,33,2,33],[1,34,2,34],[1,35,2,35],[1,36,2,36],[1,37,2,37],[1,38,2,38],[1,39,2,39],[1,40,2,40],[1,41,2,41],[1,42,2,42],[1,43,2,43],[1,44,2,44],[1,45,2,45],[1,46,2,46],[1,47,2,47]]}
["[ 본원식당 시설개선 공사-기계 ]"]
["품      명","규      격","단위","수량","재  료  비",null,"노  무  비",null,"경      비",null,"합      계",null,"비  고","품목코드","변수","설정","공종코드","일위","단산","자 재","손료적용","손료저장","적용율","JUK1","JUK2","JUK3","JUK4","JUK5","JUK6","JUK7","JUK8","JUK9","JUK10","JUK11","JUK12","JUK13","JUK14","JUK15","JUK16","JUK17","JUK18","JUK19","JUK20","자재구분","공종구분","공종레벨","공종+자재","고유번호"]
[{"$nulls":4},"단  가","금  액","단  가","금  액","단  가","금  액","단  가","금  액"]
["010101  환기덕트공사",{"$nulls":15},"010101"]
["공조덕트","공조덕트, 플렉시블, 알루미늄, Φ150mm","m",null,{"$f":"TRUNC('단가대비표(기계)'!O7,0)","v":{"v":4800,"d":"4,800"}},{"$f":"TRUNC(E5*D5, 0)","v":0},{"$f":"TRUNC('단가대비표(기계)'!P7,0)","v":0},{"$f":"TRUNC(G5*D5, 0)","v":0},{"$f":"TRUNC('단가대비표(기계)'!V7,0)","v":0},{"$f":"TRUNC(I5*D5, 0)","v":0},{"$f":"TRUNC(E5+G5+I5, 0)","v":{"v":4800,"d":"4,800"}},0,null,"50C7A14B0259DEC5CB7A601C3E3FBAAD6BDD39",null,null,"010101","F","F","T",{"$nulls":26},"01010150C7A14B0259DEC5CB7A601C3E3FBAAD6BDD39",4]
["디퓨저","디퓨저, 원형, Φ150mm, 알루미늄","개",null,{"$f":"TRUNC('단가대비표(기계)'!O6,0)","v":{"v":17550,"d":"17,550"}},{"$f":"TRUNC(E6*D6, 0)","v":0},{"$f":"TRUNC('단가대비표(기계)'!P6,0)","v":0},{"$f":"TRUNC(G6*D6, 0)","v":0},{"$f":"TRUNC('단가대비표(기계)'!V6,0)","v":0},{"$f":"TRUNC(I6*D6, 0)","v":0},{"v":17550,"d":"17,550"},0,null,"50C7A14B025DBB4560FE6E05DFB38075D90993",null,null,"010101","F","F","T",{"$nulls":26},"01010150C7A14B025DBB4560FE6E05DFB38075D90993",29]
["AL 밴드","0.3*30W","M",null,{"$f":"TRUNC('단가대비표(기계)'!O5,0)","v":300},{"$f":"TRUNC(E7*D7, 0)","v":0},{"$f":"TRUNC('단가대비표(기계)'!P5,0)","v":0},{"$f":"TRUNC(G7*D7, 0)","v":0},{"$f":"TRUNC('단가대비표(기계)'!V5,0)","v":0},{"$f":"TRUNC(I7*D7, 0)","v":0},300,0,null,"50B521480459D1250DF563874DA0BC7C62D78F",null,null,"010101","F","F","T",{"$nulls":26},"01010150B521480459D1250DF563874DA0BC7C62D78F",5]
["덕트공","일반공사 직종","인",null,{"$f":"TRUNC('단가대비표(기계)'!O8,0)","v":0},{"$f":"TRUNC(E8*D8, 0)","v":0},{"$f":"TRUNC('단가대비표(기계)'!P8,0)","v":{"v":116121,"d":"116,121"}},{"$f":"TRUNC(G8*D8, 0)","v":0},{"$f":"TRUNC('단가대비표(기계)'!V8,0)","v":0},{"$f":"TRUNC(I8*D8, 0)","v":0},{"v":116121,"d":"116,121"},0,null,"574381438B594EB5183A6594207984BFFC4720",null,null,"010101","F","F","T",{"$nulls":3},1,{"$nulls":22},"010101574381438B594EB5183A6594207984BFFC4720",6]
["공구손료","인력품의 3%","식",null,{"$f":"ROUNDDOWN(SUMIF(X5:X9, RIGHTB(N9, 1), H5:H9)*W9, 0)","v":0},{"$f":"TRUNC(E9*D9, 0)","v":0},0,{"$f":"TRUNC(G9*D9, 0)","v":0},0,{"$f":"TRUNC(I9*D9, 0)","v":0},0,0,null,"568671414A586DB5421960314E56001",null,null,"010101","F","F","F",1,0,0.03,{"$nulls":23},"010101568671414A586DB5421960314E56001",7]
{"$rows_empty":17}
["[ 합           계 ]",{"$nulls":4},{"$f":"SUM(F5:F26)","v":0},null,{"$f":"SUM(H5:H26)","v":0},null,{"$f":"SUM(J5:J26)","v":0},null,{"$f":"SUM(L5:L26)","v":0},null,"TOTAL"]
{"$rows_empty":23}
["[ 합           계 ]",{"$nulls":4},{"$f":"SUM(F29:F50)","v":0},null,{"$f":"SUM(H29:H50)","v":0},null,{"$f":"SUM(J29:J50)","v":0},null,{"$f":"SUM(L29:L50)","v":0},null,"TOTAL"]

{"sheet":"일위대가목록","index":5,"n_rows":70,"n_cols":14,"rows_kept":70,"merged":[[0,0,0,9],[1,0,1,9]]}
["일 위 대 가 목 록"]
["[ 본원식당 시설개선 공사 ]"]
["코  드","품      명","규      격","단위","재 료 비","노 무 비","경    비","합    계","번  호","비      고","노임계수","할증","품셈개요","장비일위"]
["5702212874485C701A4BC0FB2E855E","목재후로링 깔기","헤링본형태","M2",{"$f":"일위대가!F6","v":{"v":0,"d":"0.0"}},{"$f":"일위대가!H6","v":{"v":0,"d":"0.0"}},{"$f":"일위대가!J6","v":{"v":0,"d":"0.0"}},{"$f":"E4+F4+G4","v":{"v":0,"d":"0.0"}},"호표 1"]
["570221287703B7C010D3F3B6B35208","벽체틀(각관)","30*30, @450*600","M2",{"$f":"일위대가!F11","v":{"v":0,"d":"0.0"}},{"$f":"일위대가!H11","v":{"v":0,"d":"0.0"}},{"$f":"일위대가!J11","v":{"v":0,"d":"0.0"}},{"v":0,"d":"0.0"},"호표 2"]
["5702412D70B66DC01C52BFEFE524B9","벽, 합판붙임","벽, 8.5T(준내수합판)","M2",{"$f":"일위대가!F18","v":{"v":0,"d":"0.0"}},{"$f":"일위대가!H18","v":{"v":0,"d":"0.0"}},{"$f":"일위대가!J18","v":{"v":0,"d":"0.0"}},{"v":0,"d":"0.0"},"호표 3"]
["5702112977EBF6401D6FD866B1DB58","경량철골천정틀","M-BAR, H:1m미만. 인써트 유","M2",{"$f":"일위대가!F33","v":{"v":0,"d":"0.0"}},{"$f":"일위대가!H33","v":{"v":0,"d":"0.0"}},{"$f":"일위대가!J33","v":{"v":0,"d":"0.0"}},{"v":0,"d":"0.0"},"호표 4",{"$nulls":3},"건축 14-5"]
["5702112977EC9C1010376EE9E65E0E","천장 점검구 설치","AL 백색, 650*650mm","개소",{"$f":"일위대가!F41","v":{"v":0,"d":"0.0"}},{"$f":"일위대가!H41","v":{"v":0,"d":"0.0"}},{"$f":"일위대가!J41","v":{"v":0,"d":"0.0"}},{"v":0,"d":"0.0"},"호표 5",{"$nulls":3},"건축 14-9"]
["57021129730BE6F01FEF6B66104C0E","스텐걸레받이","S'ST1.5t, H:80","M",{"$f":"일위대가!F46","v":{"v":0,"d":"0.0"}},{"$f":"일위대가!H46","v":{"v":0,"d":"0.0"}},{"$f":"일위대가!J46","v":{"v":0,"d":"0.0"}},{"v":0,"d":"0.0"},"호표 6"]
["57021129730BE6F01FEF6B66104C0D","알루미늄루버설치/천정","45*120,인테리어필름","M",{"$f":"일위대가!F55","v":{"v":0,"d":"0.0"}},{"$f":"일위대가!H55","v":{"v":0,"d":"0.0"}},{"$f":"일위대가!J55","v":{"v":0,"d":"0.0"}},{"v":0,"d":"0.0"},"호표 7"]
["57021129730BE6F01FEF6B66104C0C","우물천정설치/갈바절곡","갈바1.2mm, 350*150, 분체도장","M",{"$f":"일위대가!F61","v":{"v":0,"d":"0.0"}},{"$f":"일위대가!H61","v":{"v":0,"d":"0.0"}},{"$f":"일위대가!J61","v":{"v":0,"d":"0.0"}},{"v":0,"d":"0.0"},"호표 8"]
["5702412D742C300019236B83C93DDF","스테인리스재료분리대","바닥, W45*H20*1.5t","M",{"$f":"일위대가!F71","v":{"v":0,"d":"0.0"}},{"$f":"일위대가!H71","v":{"v":0,"d":"0.0"}},{"$f":"일위대가!J71","v":{"v":0,"d":"0.0"}},{"v":0,"d":"0.0"},"호표 9"]
["570271207ED9BE901F7CB41125A738","벽장식구조물/칼라도장","(ㅁ-40*40+30*20), 4480*1180","EA",{"$f":"일위대가!F80","v":{"v":0,"d":"0.0"}},{"$f":"일위대가!H80","v":{"v":0,"d":"0.0"}},{"$f":"일위대가!J80","v":{"v":0,"d":"0.0"}},{"v":0,"d":"0.0"},"호표 10"]
["570271207687A1201B01D15F1996E4","AW01[갈바절곡창호,분체도장]","8.150 x 3.000","EA",{"$f":"일위대가!F84","v":{"v":0,"d":"0.0"}},{"$f":"일위대가!H84","v":{"v":0,"d":"0.0"}},{"$f":"일위대가!J84","v":{"v":0,"d":"0.0"}},{"v":0,"d":"0.0"},"호표 11"]
["570271207687A1201B01D15F1996E6","AW02[갈바절곡창호,분체도장]","1.000 x 2.100","EA",{"$f":"일위대가!F88","v":{"v":0,"d":"0.0"}},{"$f":"일위대가!H88","v":{"v":0,"d":"0.0"}},{"$f":"일위대가!J88","v":{"v":0,"d":"0.0"}},{"v":0,"d":"0.0"},"호표 12"]
["57027120710754601E2C6A82A6094C","플로어힌지설치","재료비 별도","개소",{"$f":"일위대가!F94","v":{"v":0,"d":"0.0"}},{"$f":"일위대가!H94","v":{"v":0,"d":"0.0"}},{"$f":"일위대가!J94","v":{"v":0,"d":"0.0"}},{"v":0,"d":"0.0"},"호표 13",{"$nulls":3},"건축 16-2"]
["570271207101CDE01E61F47CDE96AF","창문틀 주위 충전","발포우레탄","M",{"$f":"일위대가!F99","v":{"v":0,"d":"0.0"}},{"$f":"일위대가!H99","v":{"v":0,"d":"0.0"}},{"$f":"일위대가!J99","v":{"v":0,"d":"0.0"}},{"v":0,"d":"0.0"},"호표 14",{"$nulls":3},"건축 16-3-2"]
["5702312E7A1C7B70109B246605A7AB","수밀코킹(실리콘)","삼각, 10mm, 창호주위","M",{"$f":"일위대가!F104","v":{"v":0,"d":"0.0"}},{"$f":"일위대가!H104","v":{"v":0,"d":"0.0"}},{"$f":"일위대가!J104","v":{"v":0,"d":"0.0"}},{"v":0,"d":"0.0"},"호표 15",{"$nulls":3},"건축 12-12-1"]
["5702312E7A1D01301FE0F9C5BEED3E","유리주위코킹","5*5, 실리콘","M",{"$f":"일위대가!F108","v":{"v":0,"d":"0.0"}},{"$f":"일위대가!H108","v":{"v":0,"d":"0.0"}},{"$f":"일위대가!J108","v":{"v":0,"d":"0.0"}},{"v":0,"d":"0.0"},"호표 16",{"$nulls":3},"건축 12-12-1"]
["57027120707FFCC013A61618E3113C","유리끼우기 - 판유리","10mm 이상","M2",{"$f":"일위대가!F112","v":{"v":0,"d":"0.0"}},{"$f":"일위대가!H112","v":{"v":0,"d":"0.0"}},{"$f":"일위대가!J112","v":{"v":0,"d":"0.0"}},{"v":0,"d":"0.0"},"호표 17",{"$nulls":3},"건축 16-5-1"]
["570271207ED9BE901F7CB41125A739","브론즈경설치","W150*5mm, 틀 포함","M",{"$f":"일위대가!F116","v":{"v":0,"d":"0.0"}},{"$f":"일위대가!H116","v":{"v":0,"d":"0.0"}},{"$f":"일위대가!J116","v":{"v":0,"d":"0.0"}},{"v":0,"d":"0.0"},"호표 18"]
["570251227A94AB301E23E0DBB6C996","바탕만들기 - 친환경","석고보드면(줄퍼티)","M2",{"$f":"일위대가!F126","v":{"v":0,"d":"0.0"}},{"$f":"일위대가!H126","v":{"v":0,"d":"0.0"}},{"$f":"일위대가!J126","v":{"v":0,"d":"0.0"}},{"v":0,"d":"0.0"},"호표 19",{"$nulls":3},"건축 17-1-1.2"]
["570251227A94AB301E23E0DBB526C8","바탕만들기 - 친환경","석고보드면(줄퍼티), 천장","M2",{"$f":"일위대가!F137","v":{"v":0,"d":"0.0"}},{"$f":"일위대가!H137","v":{"v":0,"d":"0.0"}},{"$f":"일위대가!J137","v":{"v":0,"d":"0.0"}},{"v":0,"d":"0.0"},"호표 20",{"$nulls":3},"건축 17-1-1.2"]
["570261227200141014F2292A11BF52","인조대리석마감","20T","M2",{"$f":"일위대가!F143","v":{"v":0,"d":"0.0"}},{"$f":"일위대가!H143","v":{"v":0,"d":"0.0"}},{"$f":"일위대가!J143","v":{"v":0,"d":"0.0"}},{"v":0,"d":"0.0"},"호표 21",{"$nulls":3},"건축 9-1-1"]
["5702412D70B0C2301A7422D4027BDF","석고판 붙임(바탕+치장)","벽, 일반9.5mm 2겹","M2",{"$f":"일위대가!F148","v":{"v":0,"d":"0.0"}},{"$f":"일위대가!H148","v":{"v":0,"d":"0.0"}},{"$f":"일위대가!J148","v":{"v":0,"d":"0.0"}},{"v":0,"d":"0.0"},"호표 22"]
["5702412D70B0C230196ED746EBDC30","석고판 붙임(바탕+치장)","천장, 일반9.5mm 2겹","M2",{"$f":"일위대가!F153","v":{"v":0,"d":"0.0"}},{"$f":"일위대가!H153","v":{"v":0,"d":"0.0"}},{"$f":"일위대가!J153","v":{"v":0,"d":"0.0"}},{"v":0,"d":"0.0"},"호표 23"]
["5702C12878813730115E9C42A7D401","모르타르 바름","바닥, 30mm","M2",{"$f":"일위대가!F158","v":{"v":0,"d":"0.0"}},{"$f":"일위대가!H158","v":{"v":0,"d":"0.0"}},{"$f":"일위대가!J158","v":{"v":0,"d":"0.0"}},{"v":0,"d":"0.0"},"호표 24",{"$nulls":3},"건축 10-1 준용"]
["5703A12276CF2A8017764497A1BAE6","석고보드 철거(천장)","9.5mm*2겹","M2",{"$f":"일위대가!F163","v":{"v":0,"d":"0.0"}},{"$f":"일위대가!H163","v":{"v":0,"d":"0.0"}},{"$f":"일위대가!J163","v":{"v":0,"d":"0.0"}},{"v":0,"d":"0.0"},"호표 25"]
["5703A12276CC562015614BAEA16A6C","벽돌 및 불럭벽 철거","소형브레이커","M3",{"$f":"일위대가!F171","v":{"v":0,"d":"0.0"}},{"$f":"일위대가!H171","v":{"v":0,"d":"0.0"}},{"$f":"일위대가!J171","v":{"v":0,"d":"0.0"}},{"v":0,"d":"0.0"},"호표 26",{"$nulls":3},"건축 18-1-3,2"]
["5703A12276CF2A8014A38C81D175F0","목조, 칸막이벽 철거","해체재 재사용 안 함","M2",{"$f":"일위대가!F176","v":{"v":0,"d":"0.0"}},{"$f":"일위대가!H176","v":{"v":0,"d":"0.0"}},{"$f":"일위대가!J176","v":{"v":0,"d":"0.0"}},{"v":0,"d":"0.0"},"호표 27",{"$nulls":3},"건축 18-1-2"]
["5703A12276C6CBC01B8F5377A65C12","경량철골천정틀철거",null,"M2",{"$f":"일위대가!F181","v":{"v":0,"d":"0.0"}},{"$f":"일위대가!H181","v":{"v":0,"d":"0.0"}},{"$f":"일위대가!J181","v":{"v":0,"d":"0.0"}},{"v":0,"d":"0.0"},"호표 28"]
["5703A12276C6CBC01B8F5377AA388B","창호철거",null,"M2",{"$f":"일위대가!F185","v":{"v":0,"d":"0.0"}},{"$f":"일위대가!H185","v":{"v":0,"d":"0.0"}},{"$f":"일위대가!J185","v":{"v":0,"d":"0.0"}},{"v":0,"d":"0.0"},"호표 29"]
["5703A12276C6CBC01B8F53769560F7","화강석판석철거",null,"M2",{"$f":"일위대가!F189","v":{"v":0,"d":"0.0"}},{"$f":"일위대가!H189","v":{"v":0,"d":"0.0"}},{"$f":"일위대가!J189","v":{"v":0,"d":"0.0"}},{"v":0,"d":"0.0"},"호표 30"]
["5703A12276C6CBC01B8F53769560F6","악세스후로아철거","카펫타일포함","M2",{"$f":"일위대가!F193","v":{"v":0,"d":"0.0"}},{"$f":"일위대가!H193","v":{"v":0,"d":"0.0"}},{"$f":"일위대가!J193","v":{"v":0,"d":"0.0"}},{"v":0,"d":"0.0"},"호표 31"]
["5702212874485A401CB1D431F5F8DE","플로어링 마루","플로어링보드, 15mm, 삼겹적층플로어링, 도장제품(UV)","M2",{"$f":"일위대가!F198","v":{"v":0,"d":"0.0"}},{"$f":"일위대가!H198","v":{"v":0,"d":"0.0"}},{"$f":"일위대가!J198","v":{"v":0,"d":"0.0"}},{"v":0,"d":"0.0"},"호표 32",{"$nulls":3},"건축 11-2-3"]
["5702212874485A401CB1D435502F46","플로어링 마루 - 노무비 및 공구손료",null,"M2",{"$f":"일위대가!F204","v":{"v":0,"d":"0.0"}},{"$f":"일위대가!H204","v":{"v":0,"d":"0.0"}},{"$f":"일위대가!J204","v":{"v":0,"d":"0.0"}},{"$f":"E36+F36+G36","v":{"v":0,"d":"0.0"}},"호표 33",{"$nulls":3},"건축 11-2-3"]
["570221287703B51012B77AF35FC7C8","벽체틀","자재 별도","M2",{"$f":"일위대가!F210","v":{"v":0,"d":"0.0"}},{"$f":"일위대가!H210","v":{"v":0,"d":"0.0"}},{"$f":"일위대가!J210","v":{"v":0,"d":"0.0"}},{"v":0,"d":"0.0"},"호표 34",{"$nulls":3},"건축 11-1-3.1"]
["5702112977EBF6401D6FD866B1D9AB","경량 천장 철골틀 - 노무비",null,"M2",{"$f":"일위대가!F216","v":{"v":0,"d":"0.0"}},{"$f":"일위대가!H216","v":{"v":0,"d":"0.0"}},{"$f":"일위대가!J216","v":{"v":0,"d":"0.0"}},{"v":0,"d":"0.0"},"호표 35",{"$nulls":3},"건축 14-4"]
["57021129730EB9B017E1AB0526A6B4","잡철물제작설치(스테인리스)","간단","kg",{"$f":"일위대가!F221","v":{"v":0,"d":"0.0"}},{"$f":"일위대가!H221","v":{"v":0,"d":"0.0"}},{"$f":"일위대가!J221","v":{"v":0,"d":"0.0"}},{"v":0,"d":"0.0"},"호표 36",{"$nulls":3},"건축 14-5"]
["57021129730EB9B017E24D0DD5AD47","잡철물제작(스테인리스)","간단","kg",{"$f":"일위대가!F234","v":{"v":0,"d":"0.0"}},{"$f":"일위대가!H234","v":{"v":0,"d":"0.0"}},{"$f":"일위대가!J234","v":{"v":0,"d":"0.0"}},{"v":0,"d":"0.0"},"호표 37",{"$nulls":3},"건축 14-5"]
["57021129730EB9B017E24D0CCEBBF0","잡철물설치(스테인리스)","간단","kg",{"$f":"일위대가!F247","v":{"v":0,"d":"0.0"}},{"$f":"일위대가!H247","v":{"v":0,"d":"0.0"}},{"$f":"일위대가!J247","v":{"v":0,"d":"0.0"}},{"v":0,"d":"0.0"},"호표 38",{"$nulls":3},"건축 14-5"]
["5016E12C7048EBF01E3DC3FA33389B3E21C50C39","용접기(교류)","500Amp","HR",{"$f":"일위대가!F251","v":{"v":0,"d":"0.0"}},{"$f":"일위대가!H251","v":{"v":0,"d":"0.0"}},{"$f":"일위대가!J251","v":{"v":0,"d":"0.0"}},{"v":0,"d":"0.0"},"호표 39",null,"A",null,"토목 9-44-43","T"]
["57021129730EB9B017E1A9574A7E93","잡철물제작설치(철재)","간단","kg",{"$f":"일위대가!F256","v":{"v":0,"d":"0.0"}},{"$f":"일위대가!H256","v":{"v":0,"d":"0.0"}},{"$f":"일위대가!J256","v":{"v":0,"d":"0.0"}},{"v":0,"d":"0.0"},"호표 40",{"$nulls":3},"건축 14-5"]
["570251237BC6A6E010008965989253","유성페인트(롤러칠)","철재면, 2회. 1급","M2",{"$f":"일위대가!F261","v":{"v":0,"d":"0.0"}},{"$f":"일위대가!H261","v":{"v":0,"d":"0.0"}},{"$f":"일위대가!J261","v":{"v":0,"d":"0.0"}},{"v":0,"d":"0.0"},"호표 41",{"$nulls":3},"건축 17-3-2"]
["57021129730EB9B017E24F3BD02679","잡철물제작(철재)","간단","kg",{"$f":"일위대가!F274","v":{"v":0,"d":"0.0"}},{"$f":"일위대가!H274","v":{"v":0,"d":"0.0"}},{"$f":"일위대가!J274","v":{"v":0,"d":"0.0"}},{"v":0,"d":"0.0"},"호표 42",{"$nulls":3},"건축 14-5"]
["57021129730EB9B017E24F3ACADBEB","잡철물설치(철재)","간단","kg",{"$f":"일위대가!F287","v":{"v":0,"d":"0.0"}},{"$f":"일위대가!H287","v":{"v":0,"d":"0.0"}},{"$f":"일위대가!J287","v":{"v":0,"d":"0.0"}},{"v":0,"d":"0.0"},"호표 43",{"$nulls":3},"건축 14-5"]
["570251237BC6A6E010008DC08A08C3","유성페인트(롤러칠) - 재료비","철재면, 2회 칠, 1급","M2",{"$f":"일위대가!F293","v":{"v":0,"d":"0.0"}},{"$f":"일위대가!H293","v":{"v":0,"d":"0.0"}},{"$f":"일위대가!J293","v":{"v":0,"d":"0.0"}},{"v":0,"d":"0.0"},"호표 44",{"$nulls":3},"건축 17-3-2"]
["570251237BC6A6E010008DC0885940","유성페인트(롤러칠) - 노무비","철재면, 2회 칠","M2",{"$f":"일위대가!F300","v":{"v":0,"d":"0.0"}},{"$f":"일위대가!H300","v":{"v":0,"d":"0.0"}},{"$f":"일위대가!J300","v":{"v":0,"d":"0.0"}},{"v":0,"d":"0.0"},"호표 45",{"$nulls":3},"건축 17-3-2"]
["57021129730EB9B01537E9D5610EB8","잡철물제작설치(스테인리스)-강판 가공시","간단","kg",{"$f":"일위대가!F305","v":{"v":0,"d":"0.0"}},{"$f":"일위대가!H305","v":{"v":0,"d":"0.0"}},{"$f":"일위대가!J305","v":{"v":0,"d":"0.0"}},{"v":0,"d":"0.0"},"호표 46",{"$nulls":3},"건축 14-5"]
["57021129730EB9B016DE1004AA3B54","잡철물제작설치(철재) -강판 가공시","간단","kg",{"$f":"일위대가!F310","v":{"v":0,"d":"0.0"}},{"$f":"일위대가!H310","v":{"v":0,"d":"0.0"}},{"$f":"일위대가!J310","v":{"v":0,"d":"0.0"}},{"v":0,"d":"0.0"},"호표 47",{"$nulls":3},"건축 14-5"]
["57021129730EB9B0153414911465F3","잡철물제작(스테인리스) -강판 가공시","간단","kg",{"$f":"일위대가!F323","v":{"v":0,"d":"0.0"}},{"$f":"일위대가!H323","v":{"v":0,"d":"0.0"}},{"$f":"일위대가!J323","v":{"v":0,"d":"0.0"}},{"v":0,"d":"0.0"},"호표 48",{"$nulls":3},"건축 14-5"]
["57021129730EB9B0153414900D733B","잡철물설치(스테인리스) -강판 가공시","간단","kg",{"$f":"일위대가!F336","v":{"v":0,"d":"0.0"}},{"$f":"일위대가!H336","v":{"v":0,"d":"0.0"}},{"$f":"일위대가!J336","v":{"v":0,"d":"0.0"}},{"v":0,"d":"0.0"},"호표 49",{"$nulls":3},"건축 14-5"]
["57021129730EB9B016DD0BDF1E556C","잡철물제작(철재) -강판 가공시","간단","kg",{"$f":"일위대가!F349","v":{"v":0,"d":"0.0"}},{"$f":"일위대가!H349","v":{"v":0,"d":"0.0"}},{"$f":"일위대가!J349","v":{"v":0,"d":"0.0"}},{"v":0,"d":"0.0"},"호표 50",{"$nulls":3},"건축 14-5"]
["57021129730EB9B016DD0BDE77EB1B","잡철물설치(철재) -강판 가공시","간단","kg",{"$f":"일위대가!F362","v":{"v":0,"d":"0.0"}},{"$f":"일위대가!H362","v":{"v":0,"d":"0.0"}},{"$f":"일위대가!J362","v":{"v":0,"d":"0.0"}},{"v":0,"d":"0.0"},"호표 51",{"$nulls":3},"건축 14-5"]
["5702512378734F701A4BD054533C6F","녹막이페인트(붓칠)","철재면, 1회, 1종","M2",{"$f":"일위대가!F367","v":{"v":0,"d":"0.0"}},{"$f":"일위대가!H367","v":{"v":0,"d":"0.0"}},{"$f":"일위대가!J367","v":{"v":0,"d":"0.0"}},{"v":0,"d":"0.0"},"호표 52",{"$nulls":3},"건축 17-4"]
["570251237BC6A6E010050C420835F9","유성페인트(붓칠)","철재면, 2회. 1급","M2",{"$f":"일위대가!F372","v":{"v":0,"d":"0.0"}},{"$f":"일위대가!H372","v":{"v":0,"d":"0.0"}},{"$f":"일위대가!J372","v":{"v":0,"d":"0.0"}},{"v":0,"d":"0.0"},"호표 53",{"$nulls":3},"건축 17-3-1"]
["5702512378734F701A4ACA090783D2","녹막이페인트(붓칠) - 재료비","철재면, 1회, 1종","M2",{"$f":"일위대가!F378","v":{"v":0,"d":"0.0"}},{"$f":"일위대가!H378","v":{"v":0,"d":"0.0"}},{"$f":"일위대가!J378","v":{"v":0,"d":"0.0"}},{"v":0,"d":"0.0"},"호표 54",{"$nulls":3},"건축 17-4"]
["5702512378734F701A4ACB1078D38B","녹막이페인트(붓칠) - 노무비","철재면, 1회 칠","M2",{"$f":"일위대가!F383","v":{"v":0,"d":"0.0"}},{"$f":"일위대가!H383","v":{"v":0,"d":"0.0"}},{"$f":"일위대가!J383","v":{"v":0,"d":"0.0"}},{"v":0,"d":"0.0"},"호표 55",{"$nulls":3},"건축 17-4"]
["570251237BC6A6E010050C46E19618","유성페인트(붓칠) - 재료비","철재면, 2회 칠, 1급","M2",{"$f":"일위대가!F389","v":{"v":0,"d":"0.0"}},{"$f":"일위대가!H389","v":{"v":0,"d":"0.0"}},{"$f":"일위대가!J389","v":{"v":0,"d":"0.0"}},{"v":0,"d":"0.0"},"호표 56",{"$nulls":3},"건축 17-3-1"]
["570251237BC6A6E010050C46E34748","유성페인트(붓칠) - 노무비","철재면, 2회 칠","M2",{"$f":"일위대가!F396","v":{"v":0,"d":"0.0"}},{"$f":"일위대가!H396","v":{"v":0,"d":"0.0"}},{"$f":"일위대가!J396","v":{"v":0,"d":"0.0"}},{"v":0,"d":"0.0"},"호표 57",{"$nulls":3},"건축 17-3-1"]
["570271207101CDE01E61F47CDFBC91","창문틀 주위 충전","발포우레탄 충전","10M",{"$f":"일위대가!F401","v":{"v":0,"d":"0.0"}},{"$f":"일위대가!H401","v":{"v":0,"d":"0.0"}},{"$f":"일위대가!J401","v":{"v":0,"d":"0.0"}},{"v":0,"d":"0.0"},"호표 58",{"$nulls":3},"건축 16-3-2"]
["5702312E7A1FCE601A6E955CC78BA2","수밀코킹(시공비)","재료비 별도","M",{"$f":"일위대가!F405","v":{"v":0,"d":"0.0"}},{"$f":"일위대가!H405","v":{"v":0,"d":"0.0"}},{"$f":"일위대가!J405","v":{"v":0,"d":"0.0"}},{"v":0,"d":"0.0"},"호표 59",{"$nulls":3},"건축 12-12-1"]
["570271207ED9BE901F7CB41125A73B","방습거울설치 - 합판 12mm+STS 1.5mm","5mm, 틀 포함","M2",{"$f":"일위대가!F417","v":{"v":0,"d":"0.0"}},{"$f":"일위대가!H417","v":{"v":0,"d":"0.0"}},{"$f":"일위대가!J417","v":{"v":0,"d":"0.0"}},{"v":0,"d":"0.0"},"호표 60"]
["57026122720017E0182F5C8CF18D2F","대리석/테라조판붙임(습식)","벽, 자재별도(시공비)","M2",{"$f":"일위대가!F422","v":{"v":0,"d":"0.0"}},{"$f":"일위대가!H422","v":{"v":0,"d":"0.0"}},{"$f":"일위대가!J422","v":{"v":0,"d":"0.0"}},{"v":0,"d":"0.0"},"호표 61",{"$nulls":3},"건축 9-1-1"]
["5702412D70B0C2301A7422D40303B7","석고판 나사 고정(바탕용) 설치비","벽, 2겹 붙임","M2",{"$f":"일위대가!F428","v":{"v":0,"d":"0.0"}},{"$f":"일위대가!H428","v":{"v":0,"d":"0.0"}},{"$f":"일위대가!J428","v":{"v":0,"d":"0.0"}},{"v":0,"d":"0.0"},"호표 62",{"$nulls":3},"건축 11-3-1.2"]
["5702412D70B0C230196ED746EBD97C","석고판 나사 고정(바탕용) 설치비","천장, 2겹 붙임","M2",{"$f":"일위대가!F435","v":{"v":0,"d":"0.0"}},{"$f":"일위대가!H435","v":{"v":0,"d":"0.0"}},{"$f":"일위대가!J435","v":{"v":0,"d":"0.0"}},{"v":0,"d":"0.0"},"호표 63",{"$nulls":3},"건축 11-3-1.2"]
["5702C128788134701EBA3CF989DBF3","모르타르(비빔품 제외)","배합비 1:3, 시멘트, 모래 별도","M3",{"$f":"일위대가!F440","v":{"v":0,"d":"0.0"}},{"$f":"일위대가!H440","v":{"v":0,"d":"0.0"}},{"$f":"일위대가!J440","v":{"v":0,"d":"0.0"}},{"v":0,"d":"0.0"},"호표 64",{"$nulls":3},"건축 16-1.1"]
["57026122717B70B011412C1A2B5AE4","바탕고르기","바닥, 24mm 이하 기준","M2",{"$f":"일위대가!F445","v":{"v":0,"d":"0.0"}},{"$f":"일위대가!H445","v":{"v":0,"d":"0.0"}},{"$f":"일위대가!J445","v":{"v":0,"d":"0.0"}},{"$f":"E68+F68+G68","v":{"v":0,"d":"0.0"}},"호표 65",{"$nulls":3},"건축 10-1"]
["5016E12C7048E9C018EAE1E70E00E023383D2FA8","페이브먼트 브레이커","25.0kg(55#)","HR",{"$f":"일위대가!F449","v":{"v":0,"d":"0.0"}},{"$f":"일위대가!H449","v":{"v":0,"d":"0.0"}},{"$f":"일위대가!J449","v":{"v":0,"d":"0.0"}},{"v":0,"d":"0.0"},"호표 66",null,"A",null,"토목 9-44-16","T"]
["5016E12C7048E9C018EB8DD2B2438D9E9CAD705D","공기압축기(이동식)","3.5㎥/min","HR",{"$f":"일위대가!F456","v":{"v":0,"d":"0.0"}},{"$f":"일위대가!H456","v":{"v":0,"d":"0.0"}},{"$f":"일위대가!J456","v":{"v":0,"d":"0.0"}},{"v":0,"d":"0.0"},"호표 67",null,"A",null,"토목 9-44-15","T"]

{"sheet":"일위대가","index":6,"n_rows":456,"n_cols":39,"rows_kept":456,"merged":[[0,0,0,12],[1,0,2,0],[1,1,2,1],[1,2,2,2],[1,3,2,3],[1,4,1,5],[1,6,1,7],[1,8,1,9],[1,10,1,11],[1,12,2,12],[1,13,2,13],[1,14,2,14],[1,15,2,15],[1,16,2,16],[1,17,2,17],[1,18,2,18],[1,19,2,19],[1,20,2,20],[1,21,2,21],[1,22,2,22],[1,23,2,23],[1,24,2,24],[1,25,2,25],[1,26,2,26],[1,27,2,27],[1,28,2,28],[1,29,2,29],[1,30,2,30],[1,31,2,31],[1,32,2,32],[1,33,2,33],[1,34,2,34],[1,35,2,35],[1,36,2,36],[3,0,3,12],[7,0,7,12],[12,0,12,12],[19,0,19,12],[34,0,34,12],[42,0,42,12],[47,0,47,12],[56,0,56,12],[62,0,62,12],[72,0,72,12],[81,0,81,12],[85,0,85,12],[89,0,89,12],[95,0,95,12],[100,0,100,12],[105,0,105,12],[109,0,109,12],[113,0,113,12],[117,0,117,12],[127,0,127,12],[138,0,138,12],[144,0,144,12],[149,0,149,12],[154,0,154,12],[159,0,159,12],[164,0,164,12],[172,0,172,12],[177,0,177,12],[182,0,182,12],[186,0,186,12],[190,0,190,12],[194,0,194,12],[199,0,199,12],[205,0,205,12],[211,0,211,12],[217,0,217,12],[222,0,222,12],[235,0,235,12],[248,0,248,12],[252,0,252,12],[257,0,257,12],[262,0,262,12],[275,0,275,12],[288,0,288,12],[294,0,294,12],[301,0,301,12],[306,0,306,12],[311,0,311,12],[324,0,324,12],[337,0,337,12],[350,0,350,12],[363,0,363,12],[368,0,368,12],[373,0,373,12],[379,0,379,12],[384,0,384,12],[390,0,390,12],[397,0,397,12],[402,0,402,12],[406,0,406,12],[418,0,418,12],[423,0,423,12],[429,0,429,12],[436,0,436,12],[441,0,441,12],[446,0,446,12],[450,0,450,12]]}
["[ 본원식당 시설개선 공사 ]"]
["품      명","규      격","단위","수량","재  료  비",null,"노  무  비",null,"경      비",null,"합      계",null,"비  고","일위대가","품목코드","일위","단산","자재","손료적용","손료저장","적용율","JUK1","JUK2","JUK3","JUK4","JUK5","JUK6","JUK7","JUK8","할증적용","할증저장","할증율","HAL1","HAL2","HAL3","자재구분","일위대가+자재","장비일위","설정"]
[{"$nulls":4},"단  가","금  액","단  가","금  액","단  가","금  액","단  가","금  액"]
["목재후로링 깔기  헤링본형태  M2     ( 호표 1 )",{"$nulls":12},"5702212874485C701A4BC0FB2E855E"]
["플로어링 마루","플로어링보드, 15mm, 삼겹적층플로어링, 도장제품(UV)","M2",null,{"$f":"일위대가목록!E35","v":{"v":0,"d":"0.00"}},{"$f":"TRUNC(E5*D5,1)","v":{"v":0,"d":"0.0"}},{"$f":"일위대가목록!F35","v":{"v":0,"d":"0.00"}},{"$f":"TRUNC(G5*D5,1)","v":{"v":0,"d":"0.0"}},{"$f":"일위대가목록!G35","v":{"v":0,"d":"0.00"}},{"$f":"TRUNC(I5*D5,1)","v":{"v":0,"d":"0.0"}},{"$f":"TRUNC(E5+G5+I5,1)","v":{"v":0,"d":"0.00"}},{"$f":"TRUNC(F5+H5+J5,1)","v":{"v":0,"d":"0.0"}},null,"5702212874485C701A4BC0FB2E855E","5702212874485A401CB1D431F5F8DE","T","F","F",{"$nulls":18},"5702212874485C701A4BC0FB2E855E5702212874485A401CB1D431F5F8DE"]
[" [ 합          계 ]",{"$nulls":4},{"$f":"TRUNC(SUMIF(N5:N5, N4, F5:F5),0)","v":{"v":0,"d":"0.0"}},null,{"$f":"TRUNC(SUMIF(N5:N5, N4, H5:H5),0)","v":{"v":0,"d":"0.0"}},null,{"$f":"TRUNC(SUMIF(N5:N5, N4, J5:J5),0)","v":{"v":0,"d":"0.0"}},null,{"$f":"F6+H6+J6","v":{"v":0,"d":"0.0"}},null,"TOTAL","TOTAL"]
[]
["벽체틀(각관)  30*30, @450*600  M2     ( 호표 2 )",{"$nulls":12},"570221287703B7C010D3F3B6B35208"]
["일반구조용각형강관","일반구조용각형강관, 각형강관, 30*30*2.1mm","M",null,{"$f":"단가대비표!O60","v":{"v":1850,"d":"1,850.00"}},{"$f":"TRUNC(E9*D9,1)","v":{"v":0,"d":"0.0"}},{"$f":"단가대비표!P60","v":{"v":0,"d":"0.00"}},{"$f":"TRUNC(G9*D9,1)","v":{"v":0,"d":"0.0"}},{"$f":"단가대비표!V60","v":{"v":0,"d":"0.00"}},{"$f":"TRUNC(I9*D9,1)","v":{"v":0,"d":"0.0"}},{"$f":"TRUNC(E9+G9+I9,1)","v":{"v":1850,"d":"1,850.00"}},{"$f":"TRUNC(F9+H9+J9,1)","v":{"v":0,"d":"0.0"}},null,"570221287703B7C010D3F3B6B35208","505C912371FC3970186CA8D1C4C714BD20C242","F","F","T",{"$nulls":18},"570221287703B7C010D3F3B6B35208505C912371FC3970186CA8D1C4C714BD20C242"]
["벽체틀","자재 별도","M2",null,{"$f":"일위대가목록!E37","v":{"v":0,"d":"0.00"}},{"$f":"TRUNC(E10*D10,1)","v":{"v":0,"d":"0.0"}},{"$f":"일위대가목록!F37","v":{"v":0,"d":"0.00"}},{"$f":"TRUNC(G10*D10,1)","v":{"v":0,"d":"0.0"}},{"$f":"일위대가목록!G37","v":{"v":0,"d":"0.00"}},{"$f":"TRUNC(I10*D10,1)","v":{"v":0,"d":"0.0"}},{"$f":"TRUNC(E10+G10+I10,1)","v":{"v":0,"d":"0.00"}},{"$f":"TRUNC(F10+H10+J10,1)","v":{"v":0,"d":"0.0"}},null,"570221287703B7C010D3F3B6B35208","570221287703B51012B77AF35FC7C8","T","F","F",{"$nulls":18},"570221287703B7C010D3F3B6B35208570221287703B51012B77AF35FC7C8"]
[" [ 합          계 ]",{"$nulls":4},{"$f":"TRUNC(SUMIF(N9:N10, N8, F9:F10),0)","v":{"v":0,"d":"0.0"}},null,{"$f":"TRUNC(SUMIF(N9:N10, N8, H9:H10),0)","v":{"v":0,"d":"0.0"}},null,{"$f":"TRUNC(SUMIF(N9:N10, N8, J9:J10),0)","v":{"v":0,"d":"0.0"}},null,{"$f":"F11+H11+J11","v":{"v":0,"d":"0.0"}},null,"TOTAL","TOTAL"]
[]
["벽, 합판붙임  벽, 8.5T(준내수합판)  M2     ( 호표 3 )",{"$nulls":12},"5702412D70B66DC01C52BFEFE524B9"]
["보통합판","보통합판, 1급, 8.5*1220*2440mm","M2",null,{"$f":"단가대비표!O10","v":{"v":6317,"d":"6,317.00"}},{"$f":"TRUNC(E14*D14,1)","v":{"v":0,"d":"0.0"}},{"$f":"단가대비표!P10","v":{"v":0,"d":"0.00"}},{"$f":"TRUNC(G14*D14,1)","v":{"v":0,"d":"0.0"}},{"$f":"단가대비표!V10","v":{"v":0,"d":"0.00"}},{"$f":"TRUNC(I14*D14,1)","v":{"v":0,"d":"0.0"}},{"$f":"TRUNC(E14+G14+I14,1)","v":{"v":6317,"d":"6,317.00"}},{"v":0,"d":"0.0"},null,"5702412D70B66DC01C52BFEFE524B9","5004612171613240151E91092DA07BE43ABA5F","F","F","T",{"$nulls":3},1,{"$nulls":14},"5702412D70B66DC01C52BFEFE524B95004612171613240151E91092DA07BE43ABA5F"]
["건축목공","일반공사 직종","인",null,{"$f":"단가대비표!O76","v":{"v":0,"d":"0.00"}},{"$f":"TRUNC(E15*D15,1)","v":{"v":0,"d":"0.0"}},{"$f":"단가대비표!P76","v":{"v":148851,"d":"148,851.00"}},{"$f":"TRUNC(G15*D15,1)","v":{"v":0,"d":"0.0"}},{"$f":"단가대비표!V76","v":{"v":0,"d":"0.00"}},{"$f":"TRUNC(I15*D15,1)","v":{"v":0,"d":"0.0"}},{"v":148851,"d":"148,851.00"},{"v":0,"d":"0.0"},null,"5702412D70B66DC01C52BFEFE524B9","57D121207AA57E8018ED12DDCCCFFFC14BB811","F","F","T",{"$nulls":3},1,{"$nulls":14},"5702412D70B66DC01C52BFEFE524B957D121207AA57E8018ED12DDCCCFFFC14BB811"]
["보통인부","일반공사 직종","인",null,{"$f":"단가대비표!O70","v":{"v":0,"d":"0.00"}},{"$f":"TRUNC(E16*D16,1)","v":{"v":0,"d":"0.0"}},{"$f":"단가대비표!P70","v":{"v":94338,"d":"94,338.00"}},{"$f":"TRUNC(G16*D16,1)","v":{"v":0,"d":"0.0"}},{"$f":"단가대비표!V70","v":{"v":0,"d":"0.00"}},{"$f":"TRUNC(I16*D16,1)","v":{"v":0,"d":"0.0"}},{"v":94338,"d":"94,338.00"},{"v":0,"d":"0.0"},null,"5702412D70B66DC01C52BFEFE524B9","57D121207AA57E8018ED12DDCCCFFFC14BBAC2","F","F","T",{"$nulls":3},1,{"$nulls":14},"5702412D70B66DC01C52BFEFE524B957D121207AA57E8018ED12DDCCCFFFC14BBAC2"]
["공구손료","인력품의 2%","식",null,{"v":0,"d":"0.00"},{"$f":"TRUNC(E17*D17,1)","v":{"v":0,"d":"0.0"}},{"v":0,"d":"0.00"},{"$f":"TRUNC(G17*D17,1)","v":{"v":0,"d":"0.0"}},{"$f":"TRUNC(SUMIF(V14:V17, RIGHTB(O17, 1), H14:H17)*U17, 2)","v":{"v":0,"d":"0.00"}},{"$f":"TRUNC(I17*D17,1)","v":{"v":0,"d":"0.0"}},{"v":0,"d":"0.00"},{"v":0,"d":"0.0"},null,"5702412D70B66DC01C52BFEFE524B9","561B612975325E60133FAF268C0B001","F","F","F",1,2,0.02,{"$nulls":15},"5702412D70B66DC01C52BFEFE524B9561B612975325E60133FAF268C0B001"]
[" [ 합          계 ]",{"$nulls":4},{"$f":"TRUNC(SUMIF(N14:N17, N13, F14:F17),0)","v":{"v":0,"d":"0.0"}},null,{"$f":"TRUNC(SUMIF(N14:N17, N13, H14:H17),0)","v":{"v":0,"d":"0.0"}},null,{"$f":"TRUNC(SUMIF(N14:N17, N13, J14:J17),0)","v":{"v":0,"d":"0.0"}},null,{"$f":"F18+H18+J18","v":{"v":0,"d":"0.0"}},null,"TOTAL","TOTAL"]
[]
["경량철골천정틀  M-BAR, H:1m미만. 인써트 유  M2  건축 14-5   ( 호표 4 )",{"$nulls":12},"5702112977EBF6401D6FD866B1DB58"]
["인서트","인서트, 주물, Φ6mm","개",null,{"$f":"단가대비표!O47","v":{"v":180,"d":"180.00"}},{"$f":"TRUNC(E21*D21,1)","v":{"v":0,"d":"0.0"}},{"$f":"단가대비표!P47","v":{"v":0,"d":"0.00"}},{"$f":"TRUNC(G21*D21,1)","v":{"v":0,"d":"0.0"}},{"$f":"단가대비표!V47","v":{"v":0,"d":"0.00"}},{"$f":"TRUNC(I21*D21,1)","v":{"v":0,"d":"0.0"}},{"$f":"TRUNC(E21+G21+I21,1)","v":{"v":180,"d":"180.00"}},{"$f":"TRUNC(F21+H21+J21,1)","v":{"v":0,"d":"0.0"}},null,"5702112977EBF6401D6FD866B1DB58","502741227AE1991019F3FAFB0863305F89AAC5","F","F","T",{"$nulls":18},"5702112977EBF6401D6FD866B1DB58502741227AE1991019F3FAFB0863305F89AAC5"]
["경량철골천장틀","경량철골천장틀, 달대볼트, 상6*1000mm","개",null,{"$f":"단가대비표!O29","v":{"v":690,"d":"690.00"}},{"v":0,"d":"0.0"},{"$f":"단가대비표!P29","v":{"v":0,"d":"0.00"}},{"v":0,"d":"0.0"},{"$f":"단가대비표!V29","v":{"v":0,"d":"0.00"}},{"v":0,"d":"0.0"},{"v":690,"d":"690.00"},{"v":0,"d":"0.0"},null,"5702112977EBF6401D6FD866B1DB58","502751237380295013147BD07FBE1D76591867","F","F","T",{"$nulls":18},"5702112977EBF6401D6FD866B1DB58502751237380295013147BD07FBE1D76591867"]
["경량철골천장틀","경량철골천장틀, 캐링찬넬, 38*12*1.2mm","M",null,{"$f":"단가대비표!O30","v":{"v":1250,"d":"1,250.00"}},{"v":0,"d":"0.0"},{"$f":"단가대비표!P30","v":{"v":0,"d":"0.00"}},{"v":0,"d":"0.0"},{"$f":"단가대비표!V30","v":{"v":0,"d":"0.00"}},{"v":0,"d":"0.0"},{"v":1250,"d":"1,250.00"},{"v":0,"d":"0.0"},null,"5702112977EBF6401D6FD866B1DB58","502751237380295013147BD07FBE1D76591B34","F","F","T",{"$nulls":18},"5702112977EBF6401D6FD866B1DB58502751237380295013147BD07FBE1D76591B34"]
["경량철골천장틀","경량철골천장틀, 마이너찬넬, 19*10*1.2mm","M",null,{"$f":"단가대비표!O31","v":{"v":780,"d":"780.00"}},{"v":0,"d":"0.0"},{"$f":"단가대비표!P31","v":{"v":0,"d":"0.00"}},{"v":0,"d":"0.0"},{"$f":"단가대비표!V31","v":{"v":0,"d":"0.00"}},{"v":0,"d":"0.0"},{"v":780,"d":"780.00"},{"v":0,"d":"0.0"},null,"5702112977EBF6401D6FD866B1DB58","502751237380295013147BD07FBE1D76591B35","F","F","T",{"$nulls":18},"5702112977EBF6401D6FD866B1DB58502751237380295013147BD07FBE1D76591B35"]
["경량철골천장틀","경량철골천장틀, 행가및핀, 110*23*18*2.3mm","조",null,{"$f":"단가대비표!O32","v":{"v":250,"d":"250.00"}},{"v":0,"d":"0.0"},{"$f":"단가대비표!P32","v":{"v":0,"d":"0.00"}},{"v":0,"d":"0.0"},{"$f":"단가대비표!V32","v":{"v":0,"d":"0.00"}},{"v":0,"d":"0.0"},{"v":250,"d":"250.00"},{"v":0,"d":"0.0"},null,"5702112977EBF6401D6FD866B1DB58","502751237380295013147BD07FBE1D76591B36","F","F","T",{"$nulls":18},"5702112977EBF6401D6FD866B1DB58502751237380295013147BD07FBE1D76591B36"]
["경량철골천장틀","경량철골천장틀, 찬넬크립, 37*30*10*1.2mm","조",null,{"$f":"단가대비표!O33","v":{"v":111,"d":"111.00"}},{"v":0,"d":"0.0"},{"$f":"단가대비표!P33","v":{"v":0,"d":"0.00"}},{"v":0,"d":"0.0"},{"$f":"단가대비표!V33","v":{"v":0,"d":"0.00"}},{"v":0,"d":"0.0"},{"v":111,"d":"111.00"},{"v":0,"d":"0.0"},null,"5702112977EBF6401D6FD866B1DB58","502751237380295013147BD07FBE1D76591B37","F","F","T",{"$nulls":18},"5702112977EBF6401D6FD866B1DB58502751237380295013147BD07FBE1D76591B37"]
["경량철골천장틀","경량철골천장틀, 캐링조인트, 90*40*13*0.5mm","조",null,{"$f":"단가대비표!O34","v":{"v":107,"d":"107.00"}},{"v":0,"d":"0.0"},{"$f":"단가대비표!P34","v":{"v":0,"d":"0.00"}},{"v":0,"d":"0.0"},{"$f":"단가대비표!V34","v":{"v":0,"d":"0.00"}},{"v":0,"d":"0.0"},{"v":107,"d":"107.00"},{"v":0,"d":"0.0"},null,"5702112977EBF6401D6FD866B1DB58","502751237380295013147BD07FBE1D76591B30","F","F","T",{"$nulls":18},"5702112977EBF6401D6FD866B1DB58502751237380295013147BD07FBE1D76591B30"]
["경량철골천장틀","경량철골천장틀, M-BAR더블, 50*19*0.5mm","M",null,{"$f":"단가대비표!O28","v":{"v":620,"d":"620.00"}},{"v":0,"d":"0.0"},{"$f":"단가대비표!P28","v":{"v":0,"d":"0.00"}},{"v":0,"d":"0.0"},{"$f":"단가대비표!V28","v":{"v":0,"d":"0.00"}},{"v":0,"d":"0.0"},{"v":620,"d":"620.00"},{"v":0,"d":"0.0"},null,"5702112977EBF6401D6FD866B1DB58","502751237380295013147BD07FBE1D76591FAB","F","F","T",{"$nulls":18},"5702112977EBF6401D6FD866B1DB58502751237380295013147BD07FBE1D76591FAB"]
["경량철골천장틀","경량철골천장틀, BAR크립, 더블","개",null,{"$f":"단가대비표!O35","v":{"v":60,"d":"60.00"}},{"v":0,"d":"0.0"},{"$f":"단가대비표!P35","v":{"v":0,"d":"0.00"}},{"v":0,"d":"0.0"},{"$f":"단가대비표!V35","v":{"v":0,"d":"0.00"}},{"v":0,"d":"0.0"},{"v":60,"d":"60.00"},{"v":0,"d":"0.0"},null,"5702112977EBF6401D6FD866B1DB58","502751237380295013147BD07FBE1D76591B31","F","F","T",{"$nulls":18},"5702112977EBF6401D6FD866B1DB58502751237380295013147BD07FBE1D76591B31"]
["경량철골천장틀","경량철골천장틀, BAR조인트, 더블","개",null,{"$f":"단가대비표!O36","v":{"v":80,"d":"80.00"}},{"v":0,"d":"0.0"},{"$f":"단가대비표!P36","v":{"v":0,"d":"0.00"}},{"v":0,"d":"0.0"},{"$f":"단가대비표!V36","v":{"v":0,"d":"0.00"}},{"v":0,"d":"0.0"},{"v":80,"d":"80.00"},{"v":0,"d":"0.0"},null,"5702112977EBF6401D6FD866B1DB58","502751237380295013147BD07FBE1D76591B33","F","F","T",{"$nulls":18},"5702112977EBF6401D6FD866B1DB58502751237380295013147BD07FBE1D76591B33"]
["경량철골천장틀","( 경량철골천장틀, 피스, 3*16mm )","개",null,{"$f":"단가대비표!O37","v":{"v":0,"d":"0.00"}},{"v":0,"d":"0.0"},{"$f":"단가대비표!P37","v":{"v":0,"d":"0.00"}},{"v":0,"d":"0.0"},{"$f":"단가대비표!V37","v":{"v":0,"d":"0.00"}},{"v":0,"d":"0.0"},{"v":0,"d":"0.00"},{"v":0,"d":"0.0"},"필요시 계상","5702112977EBF6401D6FD866B1DB58","502751237380295013147BD07FBE1D76591A2A","F","F","T",{"$nulls":18},"5702112977EBF6401D6FD866B1DB58502751237380295013147BD07FBE1D76591A2A"]
["경량 천장 철골틀 - 노무비",null,"M2",null,{"$f":"일위대가목록!E38","v":{"v":0,"d":"0.00"}},{"v":0,"d":"0.0"},{"$f":"일위대가목록!F38","v":{"v":0,"d":"0.00"}},{"v":0,"d":"0.0"},{"$f":"일위대가목록!G38","v":{"v":0,"d":"0.00"}},{"v":0,"d":"0.0"},{"v":0,"d":"0.00"},{"v":0,"d":"0.0"},null,"5702112977EBF6401D6FD866B1DB58","5702112977EBF6401D6FD866B1D9AB","T","F","F",{"$nulls":18},"5702112977EBF6401D6FD866B1DB585702112977EBF6401D6FD866B1D9AB"]
[" [ 합          계 ]",{"$nulls":4},{"$f":"TRUNC(SUMIF(N21:N32, N20, F21:F32),0)","v":{"v":0,"d":"0.0"}},null,{"$f":"TRUNC(SUMIF(N21:N32, N20, H21:H32),0)","v":{"v":0,"d":"0.0"}},null,{"$f":"TRUNC(SUMIF(N21:N32, N20, J21:J32),0)","v":{"v":0,"d":"0.0"}},null,{"$f":"F33+H33+J33","v":{"v":0,"d":"0.0"}},null,"TOTAL","TOTAL"]
[]
["천장 점검구 설치  AL 백색, 650*650mm  개소  건축 14-9   ( 호표 5 )",{"$nulls":12},"5702112977EC9C1010376EE9E65E0E"]
["점검구","AL(백색), 650*650mm","조",null,{"$f":"단가대비표!O44","v":{"v":18080,"d":"18,080.00"}},{"$f":"TRUNC(E36*D36,1)","v":{"v":0,"d":"0.0"}},{"$f":"단가대비표!P44","v":{"v":0,"d":"0.00"}},{"$f":"TRUNC(G36*D36,1)","v":{"v":0,"d":"0.0"}},{"$f":"단가대비표!V44","v":{"v":0,"d":"0.00"}},{"$f":"TRUNC(I36*D36,1)","v":{"v":0,"d":"0.0"}},{"$f":"TRUNC(E36+G36+I36,1)","v":{"v":18080,"d":"18,080.00"}},{"v":0,"d":"0.0"},null,"5702112977EC9C1010376EE9E65E0E","502751237381CFF01DBBBCFE195E0F48FEF6D1","F","F","T",{"$nulls":3},1,{"$nulls":14},"5702112977EC9C1010376EE9E65E0E502751237381CFF01DBBBCFE195E0F48FEF6D1"]
["잡재료","주재료비의 3%","식",null,{"$f":"TRUNC(SUMIF(V36:V40, RIGHTB(O37, 1), F36:F40)*U37, 2)","v":{"v":0,"d":"0.00"}},{"$f":"TRUNC(E37*D37,1)","v":{"v":0,"d":"0.0"}},{"v":0,"d":"0.00"},{"$f":"TRUNC(G37*D37,1)","v":{"v":0,"d":"0.0"}},{"v":0,"d":"0.00"},{"$f":"TRUNC(I37*D37,1)","v":{"v":0,"d":"0.0"}},{"v":0,"d":"0.00"},{"v":0,"d":"0.0"},null,"5702112977EC9C1010376EE9E65E0E","561B612975325E60133FAF268C0B001","F","F","F",0,0,0.03,{"$nulls":15},"5702112977EC9C1010376EE9E65E0E561B612975325E60133FAF268C0B001"]
["내장공","일반공사 직종","인",null,{"$f":"단가대비표!O81","v":{"v":0,"d":"0.00"}},{"$f":"TRUNC(E38*D38,1)","v":{"v":0,"d":"0.0"}},{"$f":"단가대비표!P81","v":{"v":144150,"d":"144,150.00"}},{"$f":"TRUNC(G38*D38,1)","v":{"v":0,"d":"0.0"}},{"$f":"단가대비표!V81","v":{"v":0,"d":"0.00"}},{"$f":"TRUNC(I38*D38,1)","v":{"v":0,"d":"0.0"}},{"v":144150,"d":"144,150.00"},{"v":0,"d":"0.0"},null,"5702112977EC9C1010376EE9E65E0E","57D121207AA57E8018ED12DDCCCFFFC14BB939","F","F","T",{"$nulls":4},2,{"$nulls":13},"5702112977EC9C1010376EE9E65E0E57D121207AA57E8018ED12DDCCCFFFC14BB939"]
["보통인부","일반공사 직종","인",null,{"$f":"단가대비표!O70","v":{"v":0,"d":"0.00"}},{"$f":"TRUNC(E39*D39,1)","v":{"v":0,"d":"0.0"}},{"$f":"단가대비표!P70","v":{"v":94338,"d":"94,338.00"}},{"$f":"TRUNC(G39*D39,1)","v":{"v":0,"d":"0.0"}},{"$f":"단가대비표!V70","v":{"v":0,"d":"0.00"}},{"$f":"TRUNC(I39*D39,1)","v":{"v":0,"d":"0.0"}},{"v":94338,"d":"94,338.00"},{"v":0,"d":"0.0"},null,"5702112977EC9C1010376EE9E65E0E","57D121207AA57E8018ED12DDCCCFFFC14BBAC2","F","F","T",{"$nulls":4},2,{"$nulls":13},"5702112977EC9C1010376EE9E65E0E57D121207AA57E8018ED12DDCCCFFFC14BBAC2"]
["공구손료","인력품의 3%","식",null,{"v":0,"d":"0.00"},{"$f":"TRUNC(E40*D40,1)","v":{"v":0,"d":"0.0"}},{"v":0,"d":"0.00"},{"$f":"TRUNC(G40*D40,1)","v":{"v":0,"d":"0.0"}},{"$f":"TRUNC(SUMIF(W36:W40, RIGHTB(O40, 1), H36:H40)*U40, 2)","v":{"v":0,"d":"0.00"}},{"$f":"TRUNC(I40*D40,1)","v":{"v":0,"d":"0.0"}},{"v":0,"d":"0.00"},{"v":0,"d":"0.0"},null,"5702112977EC9C1010376EE9E65E0E","561B612975325E60133FAF268C08002","F","F","F",1,2,0.03,{"$nulls":15},"5702112977EC9C1010376EE9E65E0E561B612975325E60133FAF268C08002"]
[" [ 합          계 ]",{"$nulls":4},{"$f":"TRUNC(SUMIF(N36:N40, N35, F36:F40),0)","v":{"v":0,"d":"0.0"}},null,{"$f":"TRUNC(SUMIF(N36:N40, N35, H36:H40),0)","v":{"v":0,"d":"0.0"}},null,{"$f":"TRUNC(SUMIF(N36:N40, N35, J36:J40),0)","v":{"v":0,"d":"0.0"}},null,{"$f":"F41+H41+J41","v":{"v":0,"d":"0.0"}},null,"TOTAL","TOTAL"]
[]
["스텐걸레받이  S'ST1.5t, H:80  M     ( 호표 6 )",{"$nulls":12},"57021129730BE6F01FEF6B66104C0E"]
["스테인리스강판","스테인리스강판, STS304, 1.5mm","kg",null,{"$f":"단가대비표!O22","v":{"v":3470,"d":"3,470.00"}},{"$f":"TRUNC(E44*D44,1)","v":{"v":0,"d":"0.0"}},{"$f":"단가대비표!P22","v":{"v":0,"d":"0.00"}},{"$f":"TRUNC(G44*D44,1)","v":{"v":0,"d":"0.0"}},{"$f":"단가대비표!V22","v":{"v":0,"d":"0.00"}},{"$f":"TRUNC(I44*D44,1)","v":{"v":0,"d":"0.0"}},{"$f":"TRUNC(E44+G44+I44,1)","v":{"v":3470,"d":"3,470.00"}},{"$f":"TRUNC(F44+H44+J44,1)","v":{"v":0,"d":"0.0"}},null,"57021129730BE6F01FEF6B66104C0E","502751237386B24013D9A94B62ADAE97312BD2","F","F","T",{"$nulls":18},"57021129730BE6F01FEF6B66104C0E502751237386B24013D9A94B62ADAE97312BD2"]
["잡철물제작설치(스테인리스)","간단","kg",null,{"$f":"일위대가목록!E39","v":{"v":0,"d":"0.00"}},{"$f":"TRUNC(E45*D45,1)","v":{"v":0,"d":"0.0"}},{"$f":"일위대가목록!F39","v":{"v":0,"d":"0.00"}},{"$f":"TRUNC(G45*D45,1)","v":{"v":0,"d":"0.0"}},{"$f":"일위대가목록!G39","v":{"v":0,"d":"0.00"}},{"$f":"TRUNC(I45*D45,1)","v":{"v":0,"d":"0.0"}},{"$f":"TRUNC(E45+G45+I45,1)","v":{"v":0,"d":"0.00"}},{"$f":"TRUNC(F45+H45+J45,1)","v":{"v":0,"d":"0.0"}},null,"57021129730BE6F01FEF6B66104C0E","57021129730EB9B017E1AB0526A6B4","T","F","F",{"$nulls":18},"57021129730BE6F01FEF6B66104C0E57021129730EB9B017E1AB0526A6B4"]
[" [ 합          계 ]",{"$nulls":4},{"$f":"TRUNC(SUMIF(N44:N45, N43, F44:F45),0)","v":{"v":0,"d":"0.0"}},null,{"$f":"TRUNC(SUMIF(N44:N45, N43, H44:H45),0)","v":{"v":0,"d":"0.0"}},null,{"$f":"TRUNC(SUMIF(N44:N45, N43, J44:J45),0)","v":{"v":0,"d":"0.0"}},null,{"$f":"F46+H46+J46","v":{"v":0,"d":"0.0"}},null,"TOTAL","TOTAL"]
[]
["알루미늄루버설치/천정  45*120,인테리어필름  M     ( 호표 7 )",{"$nulls":12},"57021129730BE6F01FEF6B66104C0D"]
["알루미늄각관","ㅁ-45*120","M",null,{"$f":"단가대비표!O62","v":{"v":10920,"d":"10,920.00"}},{"$f":"TRUNC(E49*D49,1)","v":{"v":0,"d":"0.0"}},{"$f":"단가대비표!P62","v":{"v":0,"d":"0.00"}},{"$f":"TRUNC(G49*D49,1)","v":{"v":0,"d":"0.0"}},{"$f":"단가대비표!V62","v":{"v":0,"d":"0.00"}},{"$f":"TRUNC(I49*D49,1)","v":{"v":0,"d":"0.0"}},{"$f":"TRUNC(E49+G49+I49,1)","v":{"v":10920,"d":"10,920.00"}},{"v":0,"d":"0.0"},null,"57021129730BE6F01FEF6B66104C0D","505C912371FC3970186CA7CE4CB8950E2DDC5B","F","F","T",{"$nulls":3},1,{"$nulls":14},"57021129730BE6F01FEF6B66104C0D505C912371FC3970186CA7CE4CB8950E2DDC5B"]
["인테리어필름","04*1.22, 시공비포함","M2",null,{"$f":"단가대비표!O26","v":{"v":26500,"d":"26,500.00"}},{"v":0,"d":"0.0"},{"$f":"단가대비표!P26","v":{"v":0,"d":"0.00"}},{"v":0,"d":"0.0"},{"$f":"단가대비표!V26","v":{"v":0,"d":"0.00"}},{"v":0,"d":"0.0"},{"v":26500,"d":"26,500.00"},{"v":0,"d":"0.0"},null,"57021129730BE6F01FEF6B66104C0D","50275123738029501040845230CD02FF7D3F4E","F","F","T",{"$nulls":18},"57021129730BE6F01FEF6B66104C0D50275123738029501040845230CD02FF7D3F4E"]
["잡재료","주재료비의 5%","식",null,{"$f":"TRUNC(SUMIF(V49:V54, RIGHTB(O51, 1), F49:F54)*U51, 2)","v":{"v":0,"d":"0.00"}},{"v":0,"d":"0.0"},{"v":0,"d":"0.00"},{"v":0,"d":"0.0"},{"v":0,"d":"0.00"},{"v":0,"d":"0.0"},{"v":0,"d":"0.00"},{"v":0,"d":"0.0"},null,"57021129730BE6F01FEF6B66104C0D","561B612975325E60133FAF268C0B001","F","F","F",0,0,0.05,null,2,{"$nulls":13},"57021129730BE6F01FEF6B66104C0D561B612975325E60133FAF268C0B001"]
["특별인부","일반공사 직종","인",null,{"$f":"단가대비표!O71","v":{"v":0,"d":"0.00"}},{"v":0,"d":"0.0"},{"$f":"단가대비표!P71","v":{"v":115272,"d":"115,272.00"}},{"v":0,"d":"0.0"},{"$f":"단가대비표!V71","v":{"v":0,"d":"0.00"}},{"v":0,"d":"0.0"},{"v":115272,"d":"115,272.00"},{"v":0,"d":"0.0"},null,"57021129730BE6F01FEF6B66104C0D","57D121207AA57E8018ED12DDCCCFFFC14BBAC3","F","F","T",{"$nulls":18},"57021129730BE6F01FEF6B66104C0D57D121207AA57E8018ED12DDCCCFFFC14BBAC3"]
["보통인부","일반공사 직종","인",null,{"$f":"단가대비표!O70","v":{"v":0,"d":"0.00"}},{"v":0,"d":"0.0"},{"$f":"단가대비표!P70","v":{"v":94338,"d":"94,338.00"}},{"v":0,"d":"0.0"},{"$f":"단가대비표!V70","v":{"v":0,"d":"0.00"}},{"v":0,"d":"0.0"},{"v":94338,"d":"94,338.00"},{"v":0,"d":"0.0"},null,"57021129730BE6F01FEF6B66104C0D","57D121207AA57E8018ED12DDCCCFFFC14BBAC2","F","F","T",{"$nulls":18},"57021129730BE6F01FEF6B66104C0D57D121207AA57E8018ED12DDCCCFFFC14BBAC2"]
["공구손료","인력품의 3%","식",null,{"$f":"TRUNC(SUMIF(W49:W54, RIGHTB(O54, 1), H49:H54)*U54, 2)","v":{"v":0,"d":"0.00"}},{"v":0,"d":"0.0"},{"v":0,"d":"0.00"},{"v":0,"d":"0.0"},{"v":0,"d":"0.00"},{"v":0,"d":"0.0"},{"v":0,"d":"0.00"},{"v":0,"d":"0.0"},null,"57021129730BE6F01FEF6B66104C0D","561B612975325E60133FAF268C08002","F","F","F",1,0,0.03,{"$nulls":15},"57021129730BE6F01FEF6B66104C0D561B612975325E60133FAF268C08002"]
[" [ 합          계 ]",{"$nulls":4},{"$f":"TRUNC(SUMIF(N49:N54, N48, F49:F54),0)","v":{"v":0,"d":"0.0"}},null,{"$f":"TRUNC(SUMIF(N49:N54, N48, H49:H54),0)","v":{"v":0,"d":"0.0"}},null,{"$f":"TRUNC(SUMIF(N49:N54, N48, J49:J54),0)","v":{"v":0,"d":"0.0"}},null,{"$f":"F55+H55+J55","v":{"v":0,"d":"0.0"}},null,"TOTAL","TOTAL"]
[]
["우물천정설치/갈바절곡  갈바1.2mm, 350*150, 분체도장  M     ( 호표 8 )",{"$nulls":12},"57021129730BE6F01FEF6B66104C0C"]
["합금화용융아연도금강판","합금화용융아연도금강판, 갈바륨, 1.20mm","kg",null,{"$f":"단가대비표!O21","v":{"v":1271,"d":"1,271.00"}},{"$f":"TRUNC(E58*D58,1)","v":{"v":0,"d":"0.0"}},{"$f":"단가대비표!P21","v":{"v":0,"d":"0.00"}},{"$f":"TRUNC(G58*D58,1)","v":{"v":0,"d":"0.0"}},{"$f":"단가대비표!V21","v":{"v":0,"d":"0.00"}},{"$f":"TRUNC(I58*D58,1)","v":{"v":0,"d":"0.0"}},{"$f":"TRUNC(E58+G58+I58,1)","v":{"v":1271,"d":"1,271.00"}},{"v":0,"d":"0.0"},null,"57021129730BE6F01FEF6B66104C0C","502751237386B24013D9A8A01DCC86BC654973","F","F","T",{"$nulls":18},"57021129730BE6F01FEF6B66104C0C502751237386B24013D9A8A01DCC86BC654973"]
["잡철물제작설치(철재)","간단","kg",null,{"$f":"일위대가목록!E43","v":{"v":0,"d":"0.00"}},{"$f":"TRUNC(E59*D59,1)","v":{"v":0,"d":"0.0"}},{"$f":"일위대가목록!F43","v":{"v":0,"d":"0.00"}},{"$f":"TRUNC(G59*D59,1)","v":{"v":0,"d":"0.0"}},{"$f":"일위대가목록!G43","v":{"v":0,"d":"0.00"}},{"$f":"TRUNC(I59*D59,1)","v":{"v":0,"d":"0.0"}},{"v":0,"d":"0.00"},{"v":0,"d":"0.0"},null,"57021129730BE6F01FEF6B66104C0C","57021129730EB9B017E1A9574A7E93","T","F","F",{"$nulls":18},"57021129730BE6F01FEF6B66104C0C57021129730EB9B017E1A9574A7E93"]
["유성페인트(롤러칠)","철재면, 2회. 1급","M2",null,{"$f":"일위대가목록!E44","v":{"v":0,"d":"0.00"}},{"$f":"TRUNC(E60*D60,1)","v":{"v":0,"d":"0.0"}},{"$f":"일위대가목록!F44","v":{"v":0,"d":"0.00"}},{"$f":"TRUNC(G60*D60,1)","v":{"v":0,"d":"0.0"}},{"$f":"일위대가목록!G44","v":{"v":0,"d":"0.00"}},{"$f":"TRUNC(I60*D60,1)","v":{"v":0,"d":"0.0"}},{"v":0,"d":"0.00"},{"v":0,"d":"0.0"},null,"57021129730BE6F01FEF6B66104C0C","570251237BC6A6E010008965989253","T","F","F",{"$nulls":18},"57021129730BE6F01FEF6B66104C0C570251237BC6A6E010008965989253"]
[" [ 합          계 ]",{"$nulls":4},{"$f":"TRUNC(SUMIF(N58:N60, N57, F58:F60),0)","v":{"v":0,"d":"0.0"}},null,{"$f":"TRUNC(SUMIF(N58:N60, N57, H58:H60),0)","v":{"v":0,"d":"0.0"}},null,{"$f":"TRUNC(SUMIF(N58:N60, N57, J58:J60),0)","v":{"v":0,"d":"0.0"}},null,{"$f":"F61+H61+J61","v":{"v":0,"d":"0.0"}},null,"TOTAL","TOTAL"]
[]
["스테인리스재료분리대  바닥, W45*H20*1.5t  M     ( 호표 9 )",{"$nulls":12},"5702412D742C300019236B83C93DDF"]
["스테인리스강판","스테인리스강판, STS304, 1.5mm","kg",null,{"$f":"단가대비표!O22","v":{"v":3470,"d":"3,470.00"}},{"$f":"TRUNC(E64*D64,1)","v":{"v":0,"d":"0.0"}},{"$f":"단가대비표!P22","v":{"v":0,"d":"0.00"}},{"$f":"TRUNC(G64*D64,1)","v":{"v":0,"d":"0.0"}},{"$f":"단가대비표!V22","v":{"v":0,"d":"0.00"}},{"$f":"TRUNC(I64*D64,1)","v":{"v":0,"d":"0.0"}},{"$f":"TRUNC(E64+G64+I64,1)","v":{"v":3470,"d":"3,470.00"}},{"v":0,"d":"0.0"},null,"5702412D742C300019236B83C93DDF","502751237386B24013D9A94B62ADAE97312BD2","F","F","T",{"$nulls":18},"5702412D742C300019236B83C93DDF502751237386B24013D9A94B62ADAE97312BD2"]
["일반구조용압연강판","일반구조용압연강판, 2.3mm","kg",null,{"$f":"단가대비표!O20","v":{"v":958,"d":"958.00"}},{"v":0,"d":"0.0"},{"$f":"단가대비표!P20","v":{"v":0,"d":"0.00"}},{"v":0,"d":"0.0"},{"$f":"단가대비표!V20","v":{"v":0,"d":"0.00"}},{"v":0,"d":"0.0"},{"v":958,"d":"958.00"},{"v":0,"d":"0.0"},null,"5702412D742C300019236B83C93DDF","502751237386B24013D9A8A01DCC86B30AA433","F","F","T",{"$nulls":18},"5702412D742C300019236B83C93DDF502751237386B24013D9A8A01DCC86B30AA433"]
["일반구조용압연강판","일반구조용압연강판, 1.6mm","kg",null,{"$f":"단가대비표!O19","v":{"v":870,"d":"870.00"}},{"v":0,"d":"0.0"},{"$f":"단가대비표!P19","v":{"v":0,"d":"0.00"}},{"v":0,"d":"0.0"},{"$f":"단가대비표!V19","v":{"v":0,"d":"0.00"}},{"v":0,"d":"0.0"},{"v":870,"d":"870.00"},{"v":0,"d":"0.0"},null,"5702412D742C300019236B83C93DDF","502751237386B24013D9A8A01DCC86B30AA434","F","F","T",{"$nulls":18},"5702412D742C300019236B83C93DDF502751237386B24013D9A8A01DCC86B30AA434"]
["잡철물제작설치(스테인리스)-강판 가공시","간단","kg",null,{"$f":"일위대가목록!E49","v":{"v":0,"d":"0.00"}},{"v":0,"d":"0.0"},{"$f":"일위대가목록!F49","v":{"v":0,"d":"0.00"}},{"v":0,"d":"0.0"},{"$f":"일위대가목록!G49","v":{"v":0,"d":"0.00"}},{"v":0,"d":"0.0"},{"v":0,"d":"0.00"},{"v":0,"d":"0.0"},null,"5702412D742C300019236B83C93DDF","57021129730EB9B01537E9D5610EB8","T","F","F",{"$nulls":18},"5702412D742C300019236B83C93DDF57021129730EB9B01537E9D5610EB8"]
["잡철물제작설치(철재) -강판 가공시","간단","kg",null,{"$f":"일위대가목록!E50","v":{"v":0,"d":"0.00"}},{"v":0,"d":"0.0"},{"$f":"일위대가목록!F50","v":{"v":0,"d":"0.00"}},{"v":0,"d":"0.0"},{"$f":"일위대가목록!G50","v":{"v":0,"d":"0.00"}},{"v":0,"d":"0.0"},{"v":0,"d":"0.00"},{"v":0,"d":"0.0"},null,"5702412D742C300019236B83C93DDF","57021129730EB9B016DE1004AA3B54","T","F","F",{"$nulls":18},"5702412D742C300019236B83C93DDF57021129730EB9B016DE1004AA3B54"]
["철강설","철강설, 스텐레스, 작업설부산물","kg",null,{"$f":"단가대비표!O13","v":{"v":1000,"d":"1,000.00"}},{"v":0,"d":"0.0"},{"$f":"단가대비표!P13","v":{"v":0,"d":"0.00"}},{"v":0,"d":"0.0"},{"$f":"단가대비표!V13","v":{"v":0,"d":"0.00"}},{"v":0,"d":"0.0"},{"v":1000,"d":"1,000.00"},{"v":0,"d":"0.0"},"수집상차도","5702412D742C300019236B83C93DDF","50046121716A2DF01C4A19AD1D60668AA8A33D","F","F","T",{"$nulls":18},"5702412D742C300019236B83C93DDF50046121716A2DF01C4A19AD1D60668AA8A33D"]
["철강설","철강설, 고철, 작업설부산물","kg",null,{"$f":"단가대비표!O12","v":{"v":130,"d":"130.00"}},{"v":0,"d":"0.0"},{"$f":"단가대비표!P12","v":{"v":0,"d":"0.00"}},{"v":0,"d":"0.0"},{"$f":"단가대비표!V12","v":{"v":0,"d":"0.00"}},{"v":0,"d":"0.0"},{"v":130,"d":"130.00"},{"v":0,"d":"0.0"},"수집상차도","5702412D742C300019236B83C93DDF","50046121716A2DF01C4A19AD1D60668AA8A217","F","F","T",{"$nulls":18},"5702412D742C300019236B83C93DDF50046121716A2DF01C4A19AD1D60668AA8A217"]
[" [ 합          계 ]",{"$nulls":4},{"$f":"TRUNC(SUMIF(N64:N70, N63, F64:F70),0)","v":{"v":0,"d":"0.0"}},null,{"$f":"TRUNC(SUMIF(N64:N70, N63, H64:H70),0)","v":{"v":0,"d":"0.0"}},null,{"$f":"TRUNC(SUMIF(N64:N70, N63, J64:J70),0)","v":{"v":0,"d":"0.0"}},null,{"$f":"F71+H71+J71","v":{"v":0,"d":"0.0"}},null,"TOTAL","TOTAL"]
[]
["벽장식구조물/칼라도장  (ㅁ-40*40+30*20), 4480*1180  EA     ( 호표 10 )",{"$nulls":12},"570271207ED9BE901F7CB41125A738"]
["일반구조용각형강관","일반구조용각형강관, 각형강관, 40*40*2.1mm","M",null,{"$f":"단가대비표!O61","v":{"v":2400,"d":"2,400.00"}},{"$f":"TRUNC(E74*D74,1)","v":{"v":0,"d":"0.0"}},{"$f":"단가대비표!P61","v":{"v":0,"d":"0.00"}},{"$f":"TRUNC(G74*D74,1)","v":{"v":0,"d":"0.0"}},{"$f":"단가대비표!V61","v":{"v":0,"d":"0.00"}},{"$f":"TRUNC(I74*D74,1)","v":{"v":0,"d":"0.0"}},{"$f":"TRUNC(E74+G74+I74,1)","v":{"v":2400,"d":"2,400.00"}},{"v":0,"d":"0.0"},null,"570271207ED9BE901F7CB41125A738","505C912371FC3970186CA8D1C4C714BD277AD7","F","F","T",{"$nulls":3},1,{"$nulls":14},"570271207ED9BE901F7CB41125A738505C912371FC3970186CA8D1C4C714BD277AD7"]
["일반구조용각형강관","일반구조용각형강관, 각형강관, 30*20*1.6mm","M",null,{"$f":"단가대비표!O59","v":{"v":870,"d":"870.00"}},{"v":0,"d":"0.0"},{"$f":"단가대비표!P59","v":{"v":0,"d":"0.00"}},{"v":0,"d":"0.0"},{"$f":"단가대비표!V59","v":{"v":0,"d":"0.00"}},{"v":0,"d":"0.0"},{"v":870,"d":"870.00"},{"v":0,"d":"0.0"},null,"570271207ED9BE901F7CB41125A738","505C912371FC3970186CA8D1C4C714BD20C248","F","F","T",{"$nulls":3},1,{"$nulls":14},"570271207ED9BE901F7CB41125A738505C912371FC3970186CA8D1C4C714BD20C248"]
["잡재료","주재료비의 5%","식",null,{"$f":"TRUNC(SUMIF(V74:V79, RIGHTB(O76, 1), F74:F79)*U76, 2)","v":{"v":0,"d":"0.00"}},{"v":0,"d":"0.0"},{"v":0,"d":"0.00"},{"v":0,"d":"0.0"},{"v":0,"d":"0.00"},{"v":0,"d":"0.0"},{"v":0,"d":"0.00"},{"v":0,"d":"0.0"},null,"570271207ED9BE901F7CB41125A738","561B612975325E60133FAF268C0B001","F","F","F",0,0,0.05,{"$nulls":15},"570271207ED9BE901F7CB41125A738561B612975325E60133FAF268C0B001"]
["잡철물제작설치(철재)","간단","kg",null,{"$f":"일위대가목록!E43","v":{"v":0,"d":"0.00"}},{"v":0,"d":"0.0"},{"$f":"일위대가목록!F43","v":{"v":0,"d":"0.00"}},{"v":0,"d":"0.0"},{"$f":"일위대가목록!G43","v":{"v":0,"d":"0.00"}},{"v":0,"d":"0.0"},{"v":0,"d":"0.00"},{"v":0,"d":"0.0"},null,"570271207ED9BE901F7CB41125A738","57021129730EB9B017E1A9574A7E93","T","F","F",{"$nulls":18},"570271207ED9BE901F7CB41125A73857021129730EB9B017E1A9574A7E93"]
["녹막이페인트(붓칠)","철재면, 1회, 1종","M2",null,{"$f":"일위대가목록!E55","v":{"v":0,"d":"0.00"}},{"v":0,"d":"0.0"},{"$f":"일위대가목록!F55","v":{"v":0,"d":"0.00"}},{"v":0,"d":"0.0"},{"$f":"일위대가목록!G55","v":{"v":0,"d":"0.00"}},{"v":0,"d":"0.0"},{"v":0,"d":"0.00"},{"v":0,"d":"0.0"},null,"570271207ED9BE901F7CB41125A738","5702512378734F701A4BD054533C6F","T","F","F",{"$nulls":18},"570271207ED9BE901F7CB41125A7385702512378734F701A4BD054533C6F"]
["유성페인트(붓칠)","철재면, 2회. 1급","M2",null,{"$f":"일위대가목록!E56","v":{"v":0,"d":"0.00"}},{"v":0,"d":"0.0"},{"$f":"일위대가목록!F56","v":{"v":0,"d":"0.00"}},{"v":0,"d":"0.0"},{"$f":"일위대가목록!G56","v":{"v":0,"d":"0.00"}},{"v":0,"d":"0.0"},{"v":0,"d":"0.00"},{"v":0,"d":"0.0"},null,"570271207ED9BE901F7CB41125A738","570251237BC6A6E010050C420835F9","T","F","F",{"$nulls":18},"570271207ED9BE901F7CB41125A738570251237BC6A6E010050C420835F9"]
[" [ 합          계 ]",{"$nulls":4},{"$f":"TRUNC(SUMIF(N74:N79, N73, F74:F79),0)","v":{"v":0,"d":"0.0"}},null,{"$f":"TRUNC(SUMIF(N74:N79, N73, H74:H79),0)","v":{"v":0,"d":"0.0"}},null,{"$f":"TRUNC(SUMIF(N74:N79, N73, J74:J79),0)","v":{"v":0,"d":"0.0"}},null,{"$f":"F80+H80+J80","v":{"v":0,"d":"0.0"}},null,"TOTAL","TOTAL"]
[]
["AW01[갈바절곡창호,분체도장]  8.150 x 3.000  EA     ( 호표 11 )",{"$nulls":12},"570271207687A1201B01D15F1996E4"]
["갈바고정창호/분체도장","1.2MM, 120mm","M2",null,{"$f":"단가대비표!O40","v":{"v":114000,"d":"114,000.00"}},{"$f":"TRUNC(E83*D83,1)","v":{"v":0,"d":"0.0"}},{"$f":"단가대비표!P40","v":{"v":0,"d":"0.00"}},{"$f":"TRUNC(G83*D83,1)","v":{"v":0,"d":"0.0"}},{"$f":"단가대비표!V40","v":{"v":0,"d":"0.00"}},{"$f":"TRUNC(I83*D83,1)","v":{"v":0,"d":"0.0"}},{"$f":"TRUNC(E83+G83+I83,1)","v":{"v":114000,"d":"114,000.00"}},{"$f":"TRUNC(F83+H83+J83,1)","v":{"v":0,"d":"0.0"}},null,"570271207687A1201B01D15F1996E4","502751237381CFF01DB37F8F92CE73759C7731","F","F","T",{"$nulls":18},"570271207687A1201B01D15F1996E4502751237381CFF01DB37F8F92CE73759C7731"]
[" [ 합          계 ]",{"$nulls":4},{"$f":"TRUNC(SUMIF(N83:N83, N82, F83:F83),0)","v":{"v":0,"d":"0.0"}},null,{"$f":"TRUNC(SUMIF(N83:N83, N82, H83:H83),0)","v":{"v":0,"d":"0.0"}},null,{"$f":"TRUNC(SUMIF(N83:N83, N82, J83:J83),0)","v":{"v":0,"d":"0.0"}},null,{"$f":"F84+H84+J84","v":{"v":0,"d":"0.0"}},null,"TOTAL","TOTAL"]
[]
["AW02[갈바절곡창호,분체도장]  1.000 x 2.100  EA     ( 호표 12 )",{"$nulls":12},"570271207687A1201B01D15F1996E6"]
["갈바고정창호/분체도장","1.2MM, 120mm","M2",null,{"$f":"단가대비표!O40","v":{"v":114000,"d":"114,000.00"}},{"$f":"TRUNC(E87*D87,1)","v":{"v":0,"d":"0.0"}},{"$f":"단가대비표!P40","v":{"v":0,"d":"0.00"}},{"$f":"TRUNC(G87*D87,1)","v":{"v":0,"d":"0.0"}},{"$f":"단가대비표!V40","v":{"v":0,"d":"0.00"}},{"$f":"TRUNC(I87*D87,1)","v":{"v":0,"d":"0.0"}},{"$f":"TRUNC(E87+G87+I87,1)","v":{"v":114000,"d":"114,000.00"}},{"$f":"TRUNC(F87+H87+J87,1)","v":{"v":0,"d":"0.0"}},null,"570271207687A1201B01D15F1996E6","502751237381CFF01DB37F8F92CE73759C7731","F","F","T",{"$nulls":18},"570271207687A1201B01D15F1996E6502751237381CFF01DB37F8F92CE73759C7731"]
[" [ 합          계 ]",{"$nulls":4},{"$f":"TRUNC(SUMIF(N87:N87, N86, F87:F87),0)","v":{"v":0,"d":"0.0"}},null,{"$f":"TRUNC(SUMIF(N87:N87, N86, H87:H87),0)","v":{"v":0,"d":"0.0"}},null,{"$f":"TRUNC(SUMIF(N87:N87, N86, J87:J87),0)","v":{"v":0,"d":"0.0"}},null,{"$f":"F88+H88+J88","v":{"v":0,"d":"0.0"}},null,"TOTAL","TOTAL"]
[]
["플로어힌지설치  재료비 별도  개소  건축 16-2   ( 호표 13 )",{"$nulls":12},"57027120710754601E2C6A82A6094C"]
["창호공","일반공사 직종","인",null,{"$f":"단가대비표!O77","v":{"v":0,"d":"0.00"}},{"$f":"TRUNC(E91*D91,1)","v":{"v":0,"d":"0.0"}},{"$f":"단가대비표!P77","v":{"v":139607,"d":"139,607.00"}},{"$f":"TRUNC(G91*D91,1)","v":{"v":0,"d":"0.0"}},{"$f":"단가대비표!V77","v":{"v":0,"d":"0.00"}},{"$f":"TRUNC(I91*D91,1)","v":{"v":0,"d":"0.0"}},{"$f":"TRUNC(E91+G91+I91,1)","v":{"v":139607,"d":"139,607.00"}},{"v":0,"d":"0.0"},null,"57027120710754601E2C6A82A6094C","57D121207AA57E8018ED12DDCCCFFFC14BB816","F","F","T",{"$nulls":3},1,{"$nulls":14},"57027120710754601E2C6A82A6094C57D121207AA57E8018ED12DDCCCFFFC14BB816"]
["보통인부","일반공사 직종","인",null,{"$f":"단가대비표!O70","v":{"v":0,"d":"0.00"}},{"$f":"TRUNC(E92*D92,1)","v":{"v":0,"d":"0.0"}},{"$f":"단가대비표!P70","v":{"v":94338,"d":"94,338.00"}},{"$f":"TRUNC(G92*D92,1)","v":{"v":0,"d":"0.0"}},{"$f":"단가대비표!V70","v":{"v":0,"d":"0.00"}},{"$f":"TRUNC(I92*D92,1)","v":{"v":0,"d":"0.0"}},{"v":94338,"d":"94,338.00"},{"v":0,"d":"0.0"},null,"57027120710754601E2C6A82A6094C","57D121207AA57E8018ED12DDCCCFFFC14BBAC2","F","F","T",{"$nulls":3},1,{"$nulls":14},"57027120710754601E2C6A82A6094C57D121207AA57E8018ED12DDCCCFFFC14BBAC2"]
["공구손료","인력품의 2%","식",null,{"v":0,"d":"0.00"},{"$f":"TRUNC(E93*D93,1)","v":{"v":0,"d":"0.0"}},{"v":0,"d":"0.00"},{"$f":"TRUNC(G93*D93,1)","v":{"v":0,"d":"0.0"}},{"$f":"TRUNC(SUMIF(V91:V93, RIGHTB(O93, 1), H91:H93)*U93, 2)","v":{"v":0,"d":"0.00"}},{"$f":"TRUNC(I93*D93,1)","v":{"v":0,"d":"0.0"}},{"v":0,"d":"0.00"},{"v":0,"d":"0.0"},null,"57027120710754601E2C6A82A6094C","561B612975325E60133FAF268C0B001","F","F","F",1,2,0.02,{"$nulls":15},"57027120710754601E2C6A82A6094C561B612975325E60133FAF268C0B001"]
[" [ 합          계 ]",{"$nulls":4},{"$f":"TRUNC(SUMIF(N91:N93, N90, F91:F93),0)","v":{"v":0,"d":"0.0"}},null,{"$f":"TRUNC(SUMIF(N91:N93, N90, H91:H93),0)","v":{"v":0,"d":"0.0"}},null,{"$f":"TRUNC(SUMIF(N91:N93, N90, J91:J93),0)","v":{"v":0,"d":"0.0"}},null,{"$f":"F94+H94+J94","v":{"v":0,"d":"0.0"}},null,"TOTAL","TOTAL"]
[]
["창문틀 주위 충전  발포우레탄  M  건축 16-3-2   ( 호표 14 )",{"$nulls":12},"570271207101CDE01E61F47CDE96AF"]
["창문틀 주위 충전","발포우레탄 충전","10M",null,{"$f":"일위대가목록!E61","v":{"v":0,"d":"0.00"}},{"$f":"TRUNC(E97*D97,1)","v":{"v":0,"d":"0.0"}},{"$f":"일위대가목록!F61","v":{"v":0,"d":"0.00"}},{"$f":"TRUNC(G97*D97,1)","v":{"v":0,"d":"0.0"}},{"$f":"일위대가목록!G61","v":{"v":0,"d":"0.00"}},{"$f":"TRUNC(I97*D97,1)","v":{"v":0,"d":"0.0"}},{"$f":"TRUNC(E97+G97+I97,1)","v":{"v":0,"d":"0.00"}},{"$f":"TRUNC(F97+H97+J97,1)","v":{"v":0,"d":"0.0"}},null,"570271207101CDE01E61F47CDE96AF","570271207101CDE01E61F47CDFBC91","T","F","F",{"$nulls":18},"570271207101CDE01E61F47CDE96AF570271207101CDE01E61F47CDFBC91"]
["우레탄폼",null,"M3",null,{"$f":"단가대비표!O49","v":{"v":250000,"d":"250,000.00"}},{"$f":"TRUNC(E98*D98,1)","v":{"v":0,"d":"0.0"}},{"$f":"단가대비표!P49","v":{"v":0,"d":"0.00"}},{"$f":"TRUNC(G98*D98,1)","v":{"v":0,"d":"0.0"}},{"$f":"단가대비표!V49","v":{"v":0,"d":"0.00"}},{"$f":"TRUNC(I98*D98,1)","v":{"v":0,"d":"0.0"}},{"$f":"TRUNC(E98+G98+I98,1)","v":{"v":250000,"d":"250,000.00"}},{"$f":"TRUNC(F98+H98+J98,1)","v":{"v":0,"d":"0.0"}},null,"570271207101CDE01E61F47CDE96AF","502741227AEE52301723D588EE5A416B72AF6D","F","F","T",{"$nulls":18},"570271207101CDE01E61F47CDE96AF502741227AEE52301723D588EE5A416B72AF6D"]
[" [ 합          계 ]",{"$nulls":4},{"$f":"TRUNC(SUMIF(N97:N98, N96, F97:F98),0)","v":{"v":0,"d":"0.0"}},null,{"$f":"TRUNC(SUMIF(N97:N98, N96, H97:H98),0)","v":{"v":0,"d":"0.0"}},null,{"$f":"TRUNC(SUMIF(N97:N98, N96, J97:J98),0)","v":{"v":0,"d":"0.0"}},null,{"$f":"F99+H99+J99","v":{"v":0,"d":"0.0"}},null,"TOTAL","TOTAL"]
[]
["수밀코킹(실리콘)  삼각, 10mm, 창호주위  M  건축 12-12-1   ( 호표 15 )",{"$nulls":12},"5702312E7A1C7B70109B246605A7AB"]
["실링재","실링재, 실리콘, 비초산, 유리용, 창호주위","L",null,{"$f":"단가대비표!O57","v":{"v":9310,"d":"9,310.00"}},{"$f":"TRUNC(E102*D102,1)","v":{"v":0,"d":"0.0"}},{"$f":"단가대비표!P57","v":{"v":0,"d":"0.00"}},{"$f":"TRUNC(G102*D102,1)","v":{"v":0,"d":"0.0"}},{"$f":"단가대비표!V57","v":{"v":0,"d":"0.00"}},{"$f":"TRUNC(I102*D102,1)","v":{"v":0,"d":"0.0"}},{"$f":"TRUNC(E102+G102+I102,1)","v":{"v":9310,"d":"9,310.00"}},{"$f":"TRUNC(F102+H102+J102,1)","v":{"v":0,"d":"0.0"}},null,"5702312E7A1C7B70109B246605A7AB","5027412279C01B401F5267F666D7158758EA81","F","F","T",{"$nulls":18},"5702312E7A1C7B70109B246605A7AB5027412279C01B401F5267F666D7158758EA81"]
["수밀코킹(시공비)","재료비 별도","M",null,{"$f":"일위대가목록!E62","v":{"v":0,"d":"0.00"}},{"$f":"TRUNC(E103*D103,1)","v":{"v":0,"d":"0.0"}},{"$f":"일위대가목록!F62","v":{"v":0,"d":"0.00"}},{"$f":"TRUNC(G103*D103,1)","v":{"v":0,"d":"0.0"}},{"$f":"일위대가목록!G62","v":{"v":0,"d":"0.00"}},{"$f":"TRUNC(I103*D103,1)","v":{"v":0,"d":"0.0"}},{"$f":"TRUNC(E103+G103+I103,1)","v":{"v":0,"d":"0.00"}},{"$f":"TRUNC(F103+H103+J103,1)","v":{"v":0,"d":"0.0"}},null,"5702312E7A1C7B70109B246605A7AB","5702312E7A1FCE601A6E955CC78BA2","T","F","F",{"$nulls":18},"5702312E7A1C7B70109B246605A7AB5702312E7A1FCE601A6E955CC78BA2"]
[" [ 합          계 ]",{"$nulls":4},{"$f":"TRUNC(SUMIF(N102:N103, N101, F102:F103),0)","v":{"v":0,"d":"0.0"}},null,{"$f":"TRUNC(SUMIF(N102:N103, N101, H102:H103),0)","v":{"v":0,"d":"0.0"}},null,{"$f":"TRUNC(SUMIF(N102:N103, N101, J102:J103),0)","v":{"v":0,"d":"0.0"}},null,{"$f":"F104+H104+J104","v":{"v":0,"d":"0.0"}},null,"TOTAL","TOTAL"]
[]
["유리주위코킹  5*5, 실리콘  M  건축 12-12-1   ( 호표 16 )",{"$nulls":12},"5702312E7A1D01301FE0F9C5BEED3E"]
["실링재","실링재, 실리콘, 비초산, 유리용, 창호주위","L",null,{"$f":"단가대비표!O57","v":{"v":9310,"d":"9,310.00"}},{"$f":"TRUNC(E107*D107,1)","v":{"v":0,"d":"0.0"}},{"$f":"단가대비표!P57","v":{"v":0,"d":"0.00"}},{"$f":"TRUNC(G107*D107,1)","v":{"v":0,"d":"0.0"}},{"$f":"단가대비표!V57","v":{"v":0,"d":"0.00"}},{"$f":"TRUNC(I107*D107,1)","v":{"v":0,"d":"0.0"}},{"$f":"TRUNC(E107+G107+I107,1)","v":{"v":9310,"d":"9,310.00"}},{"$f":"TRUNC(F107+H107+J107,1)","v":{"v":0,"d":"0.0"}},null,"5702312E7A1D01301FE0F9C5BEED3E","5027412279C01B401F5267F666D7158758EA81","F","F","T",{"$nulls":18},"5702312E7A1D01301FE0F9C5BEED3E5027412279C01B401F5267F666D7158758EA81"]
[" [ 합          계 ]",{"$nulls":4},{"$f":"TRUNC(SUMIF(N107:N107, N106, F107:F107),0)","v":{"v":0,"d":"0.0"}},null,{"$f":"TRUNC(SUMIF(N107:N107, N106, H107:H107),0)","v":{"v":0,"d":"0.0"}},null,{"$f":"TRUNC(SUMIF(N107:N107, N106, J107:J107),0)","v":{"v":0,"d":"0.0"}},null,{"$f":"F108+H108+J108","v":{"v":0,"d":"0.0"}},null,"TOTAL","TOTAL"]
[]
["유리끼우기 - 판유리  10mm 이상  M2  건축 16-5-1   ( 호표 17 )",{"$nulls":12},"57027120707FFCC013A61618E3113C"]
["유리공","일반공사 직종","인",null,{"$f":"단가대비표!O78","v":{"v":0,"d":"0.00"}},{"$f":"TRUNC(E111*D111,1)","v":{"v":0,"d":"0.0"}},{"$f":"단가대비표!P78","v":{"v":133910,"d":"133,910.00"}},{"$f":"TRUNC(G111*D111,1)","v":{"v":0,"d":"0.0"}},{"$f":"단가대비표!V78","v":{"v":0,"d":"0.00"}},{"$f":"TRUNC(I111*D111,1)","v":{"v":0,"d":"0.0"}},{"$f":"TRUNC(E111+G111+I111,1)","v":{"v":133910,"d":"133,910.00"}},{"$f":"TRUNC(F111+H111+J111,1)","v":{"v":0,"d":"0.0"}},null,"57027120707FFCC013A61618E3113C","57D121207AA57E8018ED12DDCCCFFFC14BB817","F","F","T",{"$nulls":18},"57027120707FFCC013A61618E3113C57D121207AA57E8018ED12DDCCCFFFC14BB817"]
[" [ 합          계 ]",{"$nulls":4},{"$f":"TRUNC(SUMIF(N111:N111, N110, F111:F111),0)","v":{"v":0,"d":"0.0"}},null,{"$f":"TRUNC(SUMIF(N111:N111, N110, H111:H111),0)","v":{"v":0,"d":"0.0"}},null,{"$f":"TRUNC(SUMIF(N111:N111, N110, J111:J111),0)","v":{"v":0,"d":"0.0"}},null,{"$f":"F112+H112+J112","v":{"v":0,"d":"0.0"}},null,"TOTAL","TOTAL"]
[]
["브론즈경설치  W150*5mm, 틀 포함  M     ( 호표 18 )",{"$nulls":12},"570271207ED9BE901F7CB41125A739"]
["방습거울설치 - 합판 12mm+STS 1.5mm","5mm, 틀 포함","M2",null,{"$f":"일위대가목록!E63","v":{"v":0,"d":"0.00"}},{"$f":"TRUNC(E115*D115,1)","v":{"v":0,"d":"0.0"}},{"$f":"일위대가목록!F63","v":{"v":0,"d":"0.00"}},{"$f":"TRUNC(G115*D115,1)","v":{"v":0,"d":"0.0"}},{"$f":"일위대가목록!G63","v":{"v":0,"d":"0.00"}},{"$f":"TRUNC(I115*D115,1)","v":{"v":0,"d":"0.0"}},{"$f":"TRUNC(E115+G115+I115,1)","v":{"v":0,"d":"0.00"}},{"$f":"TRUNC(F115+H115+J115,1)","v":{"v":0,"d":"0.0"}},null,"570271207ED9BE901F7CB41125A739","570271207ED9BE901F7CB41125A73B","T","F","F",{"$nulls":18},"570271207ED9BE901F7CB41125A739570271207ED9BE901F7CB41125A73B"]
[" [ 합          계 ]",{"$nulls":4},{"$f":"TRUNC(SUMIF(N115:N115, N114, F115:F115),0)","v":{"v":0,"d":"0.0"}},null,{"$f":"TRUNC(SUMIF(N115:N115, N114, H115:H115),0)","v":{"v":0,"d":"0.0"}},null,{"$f":"TRUNC(SUMIF(N115:N115, N114, J115:J115),0)","v":{"v":0,"d":"0.0"}},null,{"$f":"F116+H116+J116","v":{"v":0,"d":"0.0"}},null,"TOTAL","TOTAL"]
[]
["바탕만들기 - 친환경  석고보드면(줄퍼티)  M2  건축 17-1-1.2   ( 호표 19 )",{"$nulls":12},"570251227A94AB301E23E0DBB6C996"]
["F-Tape","W:35~100mm","M",null,{"$f":"단가대비표!O52","v":{"v":73,"d":"73.00"}},{"$f":"TRUNC(E119*D119,1)","v":{"v":0,"d":"0.0"}},{"$f":"단가대비표!P52","v":{"v":0,"d":"0.00"}},{"$f":"TRUNC(G119*D119,1)","v":{"v":0,"d":"0.0"}},{"$f":"단가대비표!V52","v":{"v":0,"d":"0.00"}},{"$f":"TRUNC(I119*D119,1)","v":{"v":0,"d":"0.0"}},{"$f":"TRUNC(E119+G119+I119,1)","v":{"v":73,"d":"73.00"}},{"v":0,"d":"0.0"},null,"570251227A94AB301E23E0DBB6C996","5027412279C120801A512E6518534BE0E45AFD","F","F","T",{"$nulls":18},"570251227A94AB301E23E0DBB6C9965027412279C120801A512E6518534BE0E45AFD"]
["휠러",null,"kg",null,{"$f":"단가대비표!O53","v":{"v":1150,"d":"1,150.00"}},{"v":0,"d":"0.0"},{"$f":"단가대비표!P53","v":{"v":0,"d":"0.00"}},{"v":0,"d":"0.0"},{"$f":"단가대비표!V53","v":{"v":0,"d":"0.00"}},{"v":0,"d":"0.0"},{"v":1150,"d":"1,150.00"},{"v":0,"d":"0.0"},null,"570251227A94AB301E23E0DBB6C996","5027412279C120801A512E6518534BE0E45B86","F","F","T",{"$nulls":18},"570251227A94AB301E23E0DBB6C9965027412279C120801A512E6518534BE0E45B86"]
["퍼티","퍼티, 친환경, 내부","kg",null,{"$f":"단가대비표!O51","v":{"v":1044.44,"d":"1,044.44"}},{"v":0,"d":"0.0"},{"$f":"단가대비표!P51","v":{"v":0,"d":"0.00"}},{"v":0,"d":"0.0"},{"$f":"단가대비표!V51","v":{"v":0,"d":"0.00"}},{"v":0,"d":"0.0"},{"v":1044.4,"d":"1,044.40"},{"v":0,"d":"0.0"},null,"570251227A94AB301E23E0DBB6C996","5027412279C120801A512E6518534BE0E60961","F","F","T",{"$nulls":18},"570251227A94AB301E23E0DBB6C9965027412279C120801A512E6518534BE0E60961"]
["연마지","연마지, #120~180, 230*280mm","장",null,{"$f":"단가대비표!O48","v":{"v":200,"d":"200.00"}},{"v":0,"d":"0.0"},{"$f":"단가대비표!P48","v":{"v":0,"d":"0.00"}},{"v":0,"d":"0.0"},{"$f":"단가대비표!V48","v":{"v":0,"d":"0.00"}},{"v":0,"d":"0.0"},{"v":200,"d":"200.00"},{"v":0,"d":"0.0"},null,"570251227A94AB301E23E0DBB6C996","502741227AEE52301723DDC2087C4A138990BA","F","F","T",{"$nulls":18},"570251227A94AB301E23E0DBB6C996502741227AEE52301723DDC2087C4A138990BA"]
["도장공","일반공사 직종","인",null,{"$f":"단가대비표!O80","v":{"v":0,"d":"0.00"}},{"v":0,"d":"0.0"},{"$f":"단가대비표!P80","v":{"v":132552,"d":"132,552.00"}},{"v":0,"d":"0.0"},{"$f":"단가대비표!V80","v":{"v":0,"d":"0.00"}},{"v":0,"d":"0.0"},{"v":132552,"d":"132,552.00"},{"v":0,"d":"0.0"},null,"570251227A94AB301E23E0DBB6C996","57D121207AA57E8018ED12DDCCCFFFC14BB81B","F","F","T",{"$nulls":3},1,{"$nulls":14},"570251227A94AB301E23E0DBB6C99657D121207AA57E8018ED12DDCCCFFFC14BB81B"]
["보통인부","일반공사 직종","인",null,{"$f":"단가대비표!O70","v":{"v":0,"d":"0.00"}},{"v":0,"d":"0.0"},{"$f":"단가대비표!P70","v":{"v":94338,"d":"94,338.00"}},{"v":0,"d":"0.0"},{"$f":"단가대비표!V70","v":{"v":0,"d":"0.00"}},{"v":0,"d":"0.0"},{"v":94338,"d":"94,338.00"},{"v":0,"d":"0.0"},null,"570251227A94AB301E23E0DBB6C996","57D121207AA57E8018ED12DDCCCFFFC14BBAC2","F","F","T",{"$nulls":3},1,{"$nulls":14},"570251227A94AB301E23E0DBB6C99657D121207AA57E8018ED12DDCCCFFFC14BBAC2"]
["공구손료","인력품의 2%","식",null,{"v":0,"d":"0.00"},{"v":0,"d":"0.0"},{"v":0,"d":"0.00"},{"v":0,"d":"0.0"},{"$f":"TRUNC(SUMIF(V119:V125, RIGHTB(O125, 1), H119:H125)*U125, 2)","v":{"v":0,"d":"0.00"}},{"v":0,"d":"0.0"},{"v":0,"d":"0.00"},{"v":0,"d":"0.0"},null,"570251227A94AB301E23E0DBB6C996","561B612975325E60133FAF268C0B001","F","F","F",1,2,0.02,{"$nulls":15},"570251227A94AB301E23E0DBB6C996561B612975325E60133FAF268C0B001"]
[" [ 합          계 ]",{"$nulls":4},{"$f":"TRUNC(SUMIF(N119:N125, N118, F119:F125),0)","v":{"v":0,"d":"0.0"}},null,{"$f":"TRUNC(SUMIF(N119:N125, N118, H119:H125),0)","v":{"v":0,"d":"0.0"}},null,{"$f":"TRUNC(SUMIF(N119:N125, N118, J119:J125),0)","v":{"v":0,"d":"0.0"}},null,{"$f":"F126+H126+J126","v":{"v":0,"d":"0.0"}},null,"TOTAL","TOTAL"]
[]
["바탕만들기 - 친환경  석고보드면(줄퍼티), 천장  M2  건축 17-1-1.2   ( 호표 20 )",{"$nulls":12},"570251227A94AB301E23E0DBB526C8"]
["F-Tape","W:35~100mm","M",null,{"$f":"단가대비표!O52","v":{"v":73,"d":"73.00"}},{"$f":"TRUNC(E129*D129,1)","v":{"v":0,"d":"0.0"}},{"$f":"단가대비표!P52","v":{"v":0,"d":"0.00"}},{"$f":"TRUNC(G129*D129,1)","v":{"v":0,"d":"0.0"}},{"$f":"단가대비표!V52","v":{"v":0,"d":"0.00"}},{"$f":"TRUNC(I129*D129,1)","v":{"v":0,"d":"0.0"}},{"$f":"TRUNC(E129+G129+I129,1)","v":{"v":73,"d":"73.00"}},{"v":0,"d":"0.0"},null,"570251227A94AB301E23E0DBB526C8","5027412279C120801A512E6518534BE0E45AFD","F","F","T",{"$nulls":18},"570251227A94AB301E23E0DBB526C85027412279C120801A512E6518534BE0E45AFD"]
["휠러",null,"kg",null,{"$f":"단가대비표!O53","v":{"v":1150,"d":"1,150.00"}},{"v":0,"d":"0.0"},{"$f":"단가대비표!P53","v":{"v":0,"d":"0.00"}},{"v":0,"d":"0.0"},{"$f":"단가대비표!V53","v":{"v":0,"d":"0.00"}},{"v":0,"d":"0.0"},{"v":1150,"d":"1,150.00"},{"v":0,"d":"0.0"},null,"570251227A94AB301E23E0DBB526C8","5027412279C120801A512E6518534BE0E45B86","F","F","T",{"$nulls":18},"570251227A94AB301E23E0DBB526C85027412279C120801A512E6518534BE0E45B86"]
["퍼티","퍼티, 친환경, 내부","kg",null,{"$f":"단가대비표!O51","v":{"v":1044.44,"d":"1,044.44"}},{"v":0,"d":"0.0"},{"$f":"단가대비표!P51","v":{"v":0,"d":"0.00"}},{"v":0,"d":"0.0"},{"$f":"단가대비표!V51","v":{"v":0,"d":"0.00"}},{"v":0,"d":"0.0"},{"v":1044.4,"d":"1,044.40"},{"v":0,"d":"0.0"},null,"570251227A94AB301E23E0DBB526C8","5027412279C120801A512E6518534BE0E60961","F","F","T",{"$nulls":18},"570251227A94AB301E23E0DBB526C85027412279C120801A512E6518534BE0E60961"]
["연마지","연마지, #120~180, 230*280mm","장",null,{"$f":"단가대비표!O48","v":{"v":200,"d":"200.00"}},{"v":0,"d":"0.0"},{"$f":"단가대비표!P48","v":{"v":0,"d":"0.00"}},{"v":0,"d":"0.0"},{"$f":"단가대비표!V48","v":{"v":0,"d":"0.00"}},{"v":0,"d":"0.0"},{"v":200,"d":"200.00"},{"v":0,"d":"0.0"},null,"570251227A94AB301E23E0DBB526C8","502741227AEE52301723DDC2087C4A138990BA","F","F","T",{"$nulls":18},"570251227A94AB301E23E0DBB526C8502741227AEE52301723DDC2087C4A138990BA"]
["도장공","일반공사 직종","인",null,{"$f":"단가대비표!O80","v":{"v":0,"d":"0.00"}},{"v":0,"d":"0.0"},{"$f":"단가대비표!P80","v":{"v":132552,"d":"132,552.00"}},{"v":0,"d":"0.0"},{"$f":"단가대비표!V80","v":{"v":0,"d":"0.00"}},{"v":0,"d":"0.0"},{"v":132552,"d":"132,552.00"},{"v":0,"d":"0.0"},null,"570251227A94AB301E23E0DBB526C8","57D121207AA57E8018ED12DDCCCFFFC14BB81B","F","F","T",{"$nulls":3},1,2,{"$nulls":13},"570251227A94AB301E23E0DBB526C857D121207AA57E8018ED12DDCCCFFFC14BB81B"]
["보통인부","일반공사 직종","인",null,{"$f":"단가대비표!O70","v":{"v":0,"d":"0.00"}},{"v":0,"d":"0.0"},{"$f":"단가대비표!P70","v":{"v":94338,"d":"94,338.00"}},{"v":0,"d":"0.0"},{"$f":"단가대비표!V70","v":{"v":0,"d":"0.00"}},{"v":0,"d":"0.0"},{"v":94338,"d":"94,338.00"},{"v":0,"d":"0.0"},null,"570251227A94AB301E23E0DBB526C8","57D121207AA57E8018ED12DDCCCFFFC14BBAC2","F","F","T",{"$nulls":3},1,2,{"$nulls":13},"570251227A94AB301E23E0DBB526C857D121207AA57E8018ED12DDCCCFFFC14BBAC2"]
["노임할증","인력품의 20%","식",null,{"v":0,"d":"0.00"},{"v":0,"d":"0.0"},{"$f":"TRUNC(SUMIF(V129:V136, RIGHTB(O135, 1), H129:H136)*U135, 2)","v":{"v":0,"d":"0.00"}},{"v":0,"d":"0.0"},{"v":0,"d":"0.00"},{"v":0,"d":"0.0"},{"v":0,"d":"0.00"},{"v":0,"d":"0.0"},null,"570251227A94AB301E23E0DBB526C8","561B612975325E60133FAF268C0B001","F","F","F",1,1,0.2,{"$nulls":15},"570251227A94AB301E23E0DBB526C8561B612975325E60133FAF268C08002"]
["공구손료","인력품의 2%","식",null,{"v":0,"d":"0.00"},{"v":0,"d":"0.0"},{"v":0,"d":"0.00"},{"v":0,"d":"0.0"},{"$f":"TRUNC(SUMIF(W129:W136, RIGHTB(O136, 1), H129:H136)*U136, 2)","v":{"v":0,"d":"0.00"}},{"v":0,"d":"0.0"},{"v":0,"d":"0.00"},{"v":0,"d":"0.0"},null,"570251227A94AB301E23E0DBB526C8","561B612975325E60133FAF268C08002","F","F","F",1,2,0.02,{"$nulls":15},"570251227A94AB301E23E0DBB526C8561B612975325E60133FAF268C0B001"]
[" [ 합          계 ]",{"$nulls":4},{"$f":"TRUNC(SUMIF(N129:N136, N128, F129:F136),0)","v":{"v":0,"d":"0.0"}},null,{"$f":"TRUNC(SUMIF(N129:N136, N128, H129:H136),0)","v":{"v":0,"d":"0.0"}},null,{"$f":"TRUNC(SUMIF(N129:N136, N128, J129:J136),0)","v":{"v":0,"d":"0.0"}},null,{"$f":"F137+H137+J137","v":{"v":0,"d":"0.0"}},null,"TOTAL","TOTAL"]
[]
["인조대리석마감  20T  M2  건축 9-1-1   ( 호표 21 )",{"$nulls":12},"570261227200141014F2292A11BF52"]
["인조대리석","인조대리석, 400*400*20mm, 글로톤, GP/MJ/SK/MA","M2",null,{"$f":"단가대비표!O39","v":{"v":41000,"d":"41,000.00"}},{"$f":"TRUNC(E140*D140,1)","v":{"v":0,"d":"0.0"}},{"$f":"단가대비표!P39","v":{"v":0,"d":"0.00"}},{"$f":"TRUNC(G140*D140,1)","v":{"v":0,"d":"0.0"}},{"$f":"단가대비표!V39","v":{"v":0,"d":"0.00"}},{"$f":"TRUNC(I140*D140,1)","v":{"v":0,"d":"0.0"}},{"$f":"TRUNC(E140+G140+I140,1)","v":{"v":41000,"d":"41,000.00"}},{"v":0,"d":"0.0"},null,"570261227200141014F2292A11BF52","5027512373802950120E129BD49A7FA9669EBD","F","F","T",{"$nulls":18},"570261227200141014F2292A11BF525027512373802950120E129BD49A7FA9669EBD"]
["에폭시접착제","에폭시접착제, 석재용","kg",null,{"$f":"단가대비표!O54","v":{"v":2550,"d":"2,550.00"}},{"$f":"TRUNC(E141*D141,1)","v":{"v":0,"d":"0.0"}},{"$f":"단가대비표!P54","v":{"v":0,"d":"0.00"}},{"$f":"TRUNC(G141*D141,1)","v":{"v":0,"d":"0.0"}},{"$f":"단가대비표!V54","v":{"v":0,"d":"0.00"}},{"$f":"TRUNC(I141*D141,1)","v":{"v":0,"d":"0.0"}},{"v":2550,"d":"2,550.00"},{"v":0,"d":"0.0"},null,"570261227200141014F2292A11BF52","5027412279C120801A512CBB18828B90D17DC1","F","F","T",{"$nulls":18},"570261227200141014F2292A11BF525027412279C120801A512CBB18828B90D17DC1"]
["대리석/테라조판붙임(습식)","벽, 자재별도(시공비)","M2",null,{"$f":"일위대가목록!E64","v":{"v":0,"d":"0.00"}},{"$f":"TRUNC(E142*D142,1)","v":{"v":0,"d":"0.0"}},{"$f":"일위대가목록!F64","v":{"v":0,"d":"0.00"}},{"$f":"TRUNC(G142*D142,1)","v":{"v":0,"d":"0.0"}},{"$f":"일위대가목록!G64","v":{"v":0,"d":"0.00"}},{"$f":"TRUNC(I142*D142,1)","v":{"v":0,"d":"0.0"}},{"v":0,"d":"0.00"},{"v":0,"d":"0.0"},null,"570261227200141014F2292A11BF52","57026122720017E0182F5C8CF18D2F","T","F","F",{"$nulls":18},"570261227200141014F2292A11BF5257026122720017E0182F5C8CF18D2F"]
[" [ 합          계 ]",{"$nulls":4},{"$f":"TRUNC(SUMIF(N140:N142, N139, F140:F142),0)","v":{"v":0,"d":"0.0"}},null,{"$f":"TRUNC(SUMIF(N140:N142, N139, H140:H142),0)","v":{"v":0,"d":"0.0"}},null,{"$f":"TRUNC(SUMIF(N140:N142, N139, J140:J142),0)","v":{"v":0,"d":"0.0"}},null,{"$f":"F143+H143+J143","v":{"v":0,"d":"0.0"}},null,"TOTAL","TOTAL"]
[]
["석고판 붙임(바탕+치장)  벽, 일반9.5mm 2겹  M2     ( 호표 22 )",{"$nulls":12},"5702412D70B0C2301A7422D4027BDF"]
["석고보드","석고보드, 평보드, 9.5*900*1800mm(㎡)","M2",null,{"$f":"단가대비표!O27","v":{"v":1830,"d":"1,830.00"}},{"$f":"TRUNC(E146*D146,1)","v":{"v":0,"d":"0.0"}},{"$f":"단가대비표!P27","v":{"v":0,"d":"0.00"}},{"$f":"TRUNC(G146*D146,1)","v":{"v":0,"d":"0.0"}},{"$f":"단가대비표!V27","v":{"v":0,"d":"0.00"}},{"$f":"TRUNC(I146*D146,1)","v":{"v":0,"d":"0.0"}},{"$f":"TRUNC(E146+G146+I146,1)","v":{"v":1830,"d":"1,830.00"}},{"$f":"TRUNC(F146+H146+J146,1)","v":{"v":0,"d":"0.0"}},null,"5702412D70B0C2301A7422D4027BDF","5027512373802950104088CA03990BB21C213E","F","F","T",{"$nulls":18},"5702412D70B0C2301A7422D4027BDF5027512373802950104088CA03990BB21C213E"]
["석고판 나사 고정(바탕용) 설치비","벽, 2겹 붙임","M2",null,{"$f":"일위대가목록!E65","v":{"v":0,"d":"0.00"}},{"$f":"TRUNC(E147*D147,1)","v":{"v":0,"d":"0.0"}},{"$f":"일위대가목록!F65","v":{"v":0,"d":"0.00"}},{"$f":"TRUNC(G147*D147,1)","v":{"v":0,"d":"0.0"}},{"$f":"일위대가목록!G65","v":{"v":0,"d":"0.00"}},{"$f":"TRUNC(I147*D147,1)","v":{"v":0,"d":"0.0"}},{"$f":"TRUNC(E147+G147+I147,1)","v":{"v":0,"d":"0.00"}},{"$f":"TRUNC(F147+H147+J147,1)","v":{"v":0,"d":"0.0"}},null,"5702412D70B0C2301A7422D4027BDF","5702412D70B0C2301A7422D40303B7","T","F","F",{"$nulls":18},"5702412D70B0C2301A7422D4027BDF5702412D70B0C2301A7422D40303B7"]
[" [ 합          계 ]",{"$nulls":4},{"$f":"TRUNC(SUMIF(N146:N147, N145, F146:F147),0)","v":{"v":0,"d":"0.0"}},null,{"$f":"TRUNC(SUMIF(N146:N147, N145, H146:H147),0)","v":{"v":0,"d":"0.0"}},null,{"$f":"TRUNC(SUMIF(N146:N147, N145, J146:J147),0)","v":{"v":0,"d":"0.0"}},null,{"$f":"F148+H148+J148","v":{"v":0,"d":"0.0"}},null,"TOTAL","TOTAL"]
[]
["석고판 붙임(바탕+치장)  천장, 일반9.5mm 2겹  M2     ( 호표 23 )",{"$nulls":12},"5702412D70B0C230196ED746EBDC30"]
["석고판 나사 고정(바탕용) 설치비","천장, 2겹 붙임","M2",null,{"$f":"일위대가목록!E66","v":{"v":0,"d":"0.00"}},{"$f":"TRUNC(E151*D151,1)","v":{"v":0,"d":"0.0"}},{"$f":"일위대가목록!F66","v":{"v":0,"d":"0.00"}},{"$f":"TRUNC(G151*D151,1)","v":{"v":0,"d":"0.0"}},{"$f":"일위대가목록!G66","v":{"v":0,"d":"0.00"}},{"$f":"TRUNC(I151*D151,1)","v":{"v":0,"d":"0.0"}},{"$f":"TRUNC(E151+G151+I151,1)","v":{"v":0,"d":"0.00"}},{"$f":"TRUNC(F151+H151+J151,1)","v":{"v":0,"d":"0.0"}},null,"5702412D70B0C230196ED746EBDC30","5702412D70B0C230196ED746EBD97C","T","F","F",{"$nulls":18},"5702412D70B0C230196ED746EBDC305702412D70B0C230196ED746EBD97C"]
["석고보드","석고보드, 평보드, 9.5*900*1800mm(㎡)","M2",null,{"$f":"단가대비표!O27","v":{"v":1830,"d":"1,830.00"}},{"$f":"TRUNC(E152*D152,1)","v":{"v":0,"d":"0.0"}},{"$f":"단가대비표!P27","v":{"v":0,"d":"0.00"}},{"$f":"TRUNC(G152*D152,1)","v":{"v":0,"d":"0.0"}},{"$f":"단가대비표!V27","v":{"v":0,"d":"0.00"}},{"$f":"TRUNC(I152*D152,1)","v":{"v":0,"d":"0.0"}},{"$f":"TRUNC(E152+G152+I152,1)","v":{"v":1830,"d":"1,830.00"}},{"$f":"TRUNC(F152+H152+J152,1)","v":{"v":0,"d":"0.0"}},null,"5702412D70B0C230196ED746EBDC30","5027512373802950104088CA03990BB21C213E","F","F","T",{"$nulls":18},"5702412D70B0C230196ED746EBDC305027512373802950104088CA03990BB21C213E"]
[" [ 합          계 ]",{"$nulls":4},{"$f":"TRUNC(SUMIF(N151:N152, N150, F151:F152),0)","v":{"v":0,"d":"0.0"}},null,{"$f":"TRUNC(SUMIF(N151:N152, N150, H151:H152),0)","v":{"v":0,"d":"0.0"}},null,{"$f":"TRUNC(SUMIF(N151:N152, N150, J151:J152),0)","v":{"v":0,"d":"0.0"}},null,{"$f":"F153+H153+J153","v":{"v":0,"d":"0.0"}},null,"TOTAL","TOTAL"]
[]
["모르타르 바름  바닥, 30mm  M2  건축 10-1 준용   ( 호표 24 )",{"$nulls":12},"5702C12878813730115E9C42A7D401"]
["모르타르(비빔품 제외)","배합비 1:3, 시멘트, 모래 별도","M3",null,{"$f":"일위대가목록!E67","v":{"v":0,"d":"0.00"}},{"$f":"TRUNC(E156*D156,1)","v":{"v":0,"d":"0.0"}},{"$f":"일위대가목록!F67","v":{"v":0,"d":"0.00"}},{"$f":"TRUNC(G156*D156,1)","v":{"v":0,"d":"0.0"}},{"$f":"일위대가목록!G67","v":{"v":0,"d":"0.00"}},{"$f":"TRUNC(I156*D156,1)","v":{"v":0,"d":"0.0"}},{"$f":"TRUNC(E156+G156+I156,1)","v":{"v":0,"d":"0.00"}},{"$f":"TRUNC(F156+H156+J156,1)","v":{"v":0,"d":"0.0"}},null,"5702C12878813730115E9C42A7D401","5702C128788134701EBA3CF989DBF3","T","F","F",{"$nulls":18},"5702C12878813730115E9C42A7D4015702C128788134701EBA3CF989DBF3"]
["바탕고르기","바닥, 24mm 이하 기준","M2",null,{"$f":"일위대가목록!E68","v":{"v":0,"d":"0.00"}},{"$f":"TRUNC(E157*D157,1)","v":{"v":0,"d":"0.0"}},{"$f":"일위대가목록!F68","v":{"v":0,"d":"0.00"}},{"$f":"TRUNC(G157*D157,1)","v":{"v":0,"d":"0.0"}},{"$f":"일위대가목록!G68","v":{"v":0,"d":"0.00"}},{"$f":"TRUNC(I157*D157,1)","v":{"v":0,"d":"0.0"}},{"$f":"TRUNC(E157+G157+I157,1)","v":{"v":0,"d":"0.00"}},{"$f":"TRUNC(F157+H157+J157,1)","v":{"v":0,"d":"0.0"}},null,"5702C12878813730115E9C42A7D401","57026122717B70B011412C1A2B5AE4","T","F","F",{"$nulls":18},"5702C12878813730115E9C42A7D40157026122717B70B011412C1A2B5AE4"]
[" [ 합          계 ]",{"$nulls":4},{"$f":"TRUNC(SUMIF(N156:N157, N155, F156:F157),0)","v":{"v":0,"d":"0.0"}},null,{"$f":"TRUNC(SUMIF(N156:N157, N155, H156:H157),0)","v":{"v":0,"d":"0.0"}},null,{"$f":"TRUNC(SUMIF(N156:N157, N155, J156:J157),0)","v":{"v":0,"d":"0.0"}},null,{"$f":"F158+H158+J158","v":{"v":0,"d":"0.0"}},null,"TOTAL","TOTAL"]
[]
["석고보드 철거(천장)  9.5mm*2겹  M2     ( 호표 25 )",{"$nulls":12},"5703A12276CF2A8017764497A1BAE6"]
["건축목공","일반공사 직종","인",null,{"$f":"단가대비표!O76","v":{"v":0,"d":"0.00"}},{"$f":"TRUNC(E161*D161,1)","v":{"v":0,"d":"0.0"}},{"$f":"단가대비표!P76","v":{"v":148851,"d":"148,851.00"}},{"$f":"TRUNC(G161*D161,1)","v":{"v":0,"d":"0.0"}},{"$f":"단가대비표!V76","v":{"v":0,"d":"0.00"}},{"$f":"TRUNC(I161*D161,1)","v":{"v":0,"d":"0.0"}},{"$f":"TRUNC(E161+G161+I161,1)","v":{"v":148851,"d":"148,851.00"}},{"$f":"TRUNC(F161+H161+J161,1)","v":{"v":0,"d":"0.0"}},null,"5703A12276CF2A8017764497A1BAE6","57D121207AA57E8018ED12DDCCCFFFC14BB811","F","F","T",{"$nulls":18},"5703A12276CF2A8017764497A1BAE657D121207AA57E8018ED12DDCCCFFFC14BB811"]
["보통인부","일반공사 직종","인",null,{"$f":"단가대비표!O70","v":{"v":0,"d":"0.00"}},{"$f":"TRUNC(E162*D162,1)","v":{"v":0,"d":"0.0"}},{"$f":"단가대비표!P70","v":{"v":94338,"d":"94,338.00"}},{"$f":"TRUNC(G162*D162,1)","v":{"v":0,"d":"0.0"}},{"$f":"단가대비표!V70","v":{"v":0,"d":"0.00"}},{"$f":"TRUNC(I162*D162,1)","v":{"v":0,"d":"0.0"}},{"$f":"TRUNC(E162+G162+I162,1)","v":{"v":94338,"d":"94,338.00"}},{"$f":"TRUNC(F162+H162+J162,1)","v":{"v":0,"d":"0.0"}},null,"5703A12276CF2A8017764497A1BAE6","57D121207AA57E8018ED12DDCCCFFFC14BBAC2","F","F","T",{"$nulls":18},"5703A12276CF2A8017764497A1BAE657D121207AA57E8018ED12DDCCCFFFC14BBAC2"]
[" [ 합          계 ]",{"$nulls":4},{"$f":"TRUNC(SUMIF(N161:N162, N160, F161:F162),0)","v":{"v":0,"d":"0.0"}},null,{"$f":"TRUNC(SUMIF(N161:N162, N160, H161:H162),0)","v":{"v":0,"d":"0.0"}},null,{"$f":"TRUNC(SUMIF(N161:N162, N160, J161:J162),0)","v":{"v":0,"d":"0.0"}},null,{"$f":"F163+H163+J163","v":{"v":0,"d":"0.0"}},null,"TOTAL","TOTAL"]
[]
["벽돌 및 불럭벽 철거  소형브레이커  M3  건축 18-1-3,2   ( 호표 26 )",{"$nulls":12},"5703A12276CC562015614BAEA16A6C"]
["페이브먼트 브레이커","25.0kg(55#)","HR",null,{"$f":"일위대가목록!E69","v":{"v":0,"d":"0.00"}},{"$f":"TRUNC(E166*D166,1)","v":{"v":0,"d":"0.0"}},{"$f":"일위대가목록!F69","v":{"v":0,"d":"0.00"}},{"$f":"TRUNC(G166*D166,1)","v":{"v":0,"d":"0.0"}},{"$f":"일위대가목록!G69","v":{"v":0,"d":"0.00"}},{"$f":"TRUNC(I166*D166,1)","v":{"v":0,"d":"0.0"}},{"$f":"TRUNC(E166+G166+I166,1)","v":{"v":0,"d":"0.00"}},{"v":0,"d":"0.0"},null,"5703A12276CC562015614BAEA16A6C","5016E12C7048E9C018EAE1E70E00E023383D2FA8","T","F","F",{"$nulls":18},"5703A12276CC562015614BAEA16A6C5016E12C7048E9C018EAE1E70E00E023383D2FA8"]
["공기압축기(이동식)","3.5㎥/min","HR",null,{"$f":"일위대가목록!E70","v":{"v":0,"d":"0.00"}},{"$f":"TRUNC(E167*D167,1)","v":{"v":0,"d":"0.0"}},{"$f":"일위대가목록!F70","v":{"v":0,"d":"0.00"}},{"$f":"TRUNC(G167*D167,1)","v":{"v":0,"d":"0.0"}},{"$f":"일위대가목록!G70","v":{"v":0,"d":"0.00"}},{"$f":"TRUNC(I167*D167,1)","v":{"v":0,"d":"0.0"}},{"v":0,"d":"0.00"},{"v":0,"d":"0.0"},null,"5703A12276CC562015614BAEA16A6C","5016E12C7048E9C018EB8DD2B2438D9E9CAD705D","T","F","F",{"$nulls":18},"5703A12276CC562015614BAEA16A6C5016E12C7048E9C018EB8DD2B2438D9E9CAD705D"]
["착암공","일반공사 직종","인",null,{"$f":"단가대비표!O75","v":{"v":0,"d":"0.00"}},{"$f":"TRUNC(E168*D168,1)","v":{"v":0,"d":"0.0"}},{"$f":"단가대비표!P75","v":{"v":113289,"d":"113,289.00"}},{"$f":"TRUNC(G168*D168,1)","v":{"v":0,"d":"0.0"}},{"$f":"단가대비표!V75","v":{"v":0,"d":"0.00"}},{"$f":"TRUNC(I168*D168,1)","v":{"v":0,"d":"0.0"}},{"v":113289,"d":"113,289.00"},{"v":0,"d":"0.0"},null,"5703A12276CC562015614BAEA16A6C","57D121207AA57E8018ED12DDCCCFFFC14BBBE3","F","F","T",{"$nulls":3},1,{"$nulls":14},"5703A12276CC562015614BAEA16A6C57D121207AA57E8018ED12DDCCCFFFC14BBBE3"]
["보통인부","일반공사 직종","인",null,{"$f":"단가대비표!O70","v":{"v":0,"d":"0.00"}},{"$f":"TRUNC(E169*D169,1)","v":{"v":0,"d":"0.0"}},{"$f":"단가대비표!P70","v":{"v":94338,"d":"94,338.00"}},{"$f":"TRUNC(G169*D169,1)","v":{"v":0,"d":"0.0"}},{"$f":"단가대비표!V70","v":{"v":0,"d":"0.00"}},{"$f":"TRUNC(I169*D169,1)","v":{"v":0,"d":"0.0"}},{"v":94338,"d":"94,338.00"},{"v":0,"d":"0.0"},null,"5703A12276CC562015614BAEA16A6C","57D121207AA57E8018ED12DDCCCFFFC14BBAC2","F","F","T",{"$nulls":3},1,{"$nulls":14},"5703A12276CC562015614BAEA16A6C57D121207AA57E8018ED12DDCCCFFFC14BBAC2"]
["잡재료","인력품의 1%","식",null,{"$f":"TRUNC(SUMIF(V166:V170, RIGHTB(O170, 1), H166:H170)*U170, 2)","v":{"v":0,"d":"0.00"}},{"$f":"TRUNC(E170*D170,1)","v":{"v":0,"d":"0.0"}},{"v":0,"d":"0.00"},{"$f":"TRUNC(G170*D170,1)","v":{"v":0,"d":"0.0"}},{"v":0,"d":"0.00"},{"$f":"TRUNC(I170*D170,1)","v":{"v":0,"d":"0.0"}},{"v":0,"d":"0.00"},{"v":0,"d":"0.0"},null,"5703A12276CC562015614BAEA16A6C","561B612975325E60133FAF268C0B001","F","F","F",1,0,0.01,{"$nulls":15},"5703A12276CC562015614BAEA16A6C561B612975325E60133FAF268C0B001"]
[" [ 합          계 ]",{"$nulls":4},{"$f":"TRUNC(SUMIF(N166:N170, N165, F166:F170),0)","v":{"v":0,"d":"0.0"}},null,{"$f":"TRUNC(SUMIF(N166:N170, N165, H166:H170),0)","v":{"v":0,"d":"0.0"}},null,{"$f":"TRUNC(SUMIF(N166:N170, N165, J166:J170),0)","v":{"v":0,"d":"0.0"}},null,{"$f":"F171+H171+J171","v":{"v":0,"d":"0.0"}},null,"TOTAL","TOTAL"]
[]
["목조, 칸막이벽 철거  해체재 재사용 안 함  M2  건축 18-1-2   ( 호표 27 )",{"$nulls":12},"5703A12276CF2A8014A38C81D175F0"]
["건축목공","일반공사 직종","인",null,{"$f":"단가대비표!O76","v":{"v":0,"d":"0.00"}},{"$f":"TRUNC(E174*D174,1)","v":{"v":0,"d":"0.0"}},{"$f":"단가대비표!P76","v":{"v":148851,"d":"148,851.00"}},{"$f":"TRUNC(G174*D174,1)","v":{"v":0,"d":"0.0"}},{"$f":"단가대비표!V76","v":{"v":0,"d":"0.00"}},{"$f":"TRUNC(I174*D174,1)","v":{"v":0,"d":"0.0"}},{"$f":"TRUNC(E174+G174+I174,1)","v":{"v":148851,"d":"148,851.00"}},{"$f":"TRUNC(F174+H174+J174,1)","v":{"v":0,"d":"0.0"}},null,"5703A12276CF2A8014A38C81D175F0","57D121207AA57E8018ED12DDCCCFFFC14BB811","F","F","T",{"$nulls":18},"5703A12276CF2A8014A38C81D175F057D121207AA57E8018ED12DDCCCFFFC14BB811"]
["보통인부","일반공사 직종","인",null,{"$f":"단가대비표!O70","v":{"v":0,"d":"0.00"}},{"$f":"TRUNC(E175*D175,1)","v":{"v":0,"d":"0.0"}},{"$f":"단가대비표!P70","v":{"v":94338,"d":"94,338.00"}},{"$f":"TRUNC(G175*D175,1)","v":{"v":0,"d":"0.0"}},{"$f":"단가대비표!V70","v":{"v":0,"d":"0.00"}},{"$f":"TRUNC(I175*D175,1)","v":{"v":0,"d":"0.0"}},{"$f":"TRUNC(E175+G175+I175,1)","v":{"v":94338,"d":"94,338.00"}},{"$f":"TRUNC(F175+H175+J175,1)","v":{"v":0,"d":"0.0"}},null,"5703A12276CF2A8014A38C81D175F0","57D121207AA57E8018ED12DDCCCFFFC14BBAC2","F","F","T",{"$nulls":18},"5703A12276CF2A8014A38C81D175F057D121207AA57E8018ED12DDCCCFFFC14BBAC2"]
[" [ 합          계 ]",{"$nulls":4},{"$f":"TRUNC(SUMIF(N174:N175, N173, F174:F175),0)","v":{"v":0,"d":"0.0"}},null,{"$f":"TRUNC(SUMIF(N174:N175, N173, H174:H175),0)","v":{"v":0,"d":"0.0"}},null,{"$f":"TRUNC(SUMIF(N174:N175, N173, J174:J175),0)","v":{"v":0,"d":"0.0"}},null,{"$f":"F176+H176+J176","v":{"v":0,"d":"0.0"}},null,"TOTAL","TOTAL"]
[]
["경량철골천정틀철거    M2     ( 호표 28 )",{"$nulls":12},"5703A12276C6CBC01B8F5377A65C12"]
["보통인부","일반공사 직종","인",null,{"$f":"단가대비표!O70","v":{"v":0,"d":"0.00"}},{"$f":"TRUNC(E179*D179,1)","v":{"v":0,"d":"0.0"}},{"$f":"단가대비표!P70","v":{"v":94338,"d":"94,338.00"}},{"$f":"TRUNC(G179*D179,1)","v":{"v":0,"d":"0.0"}},{"$f":"단가대비표!V70","v":{"v":0,"d":"0.00"}},{"$f":"TRUNC(I179*D179,1)","v":{"v":0,"d":"0.0"}},{"$f":"TRUNC(E179+G179+I179,1)","v":{"v":94338,"d":"94,338.00"}},{"$f":"TRUNC(F179+H179+J179,1)","v":{"v":0,"d":"0.0"}},null,"5703A12276C6CBC01B8F5377A65C12","57D121207AA57E8018ED12DDCCCFFFC14BBAC2","F","F","T",{"$nulls":18},"5703A12276C6CBC01B8F5377A65C1257D121207AA57E8018ED12DDCCCFFFC14BBAC2"]
["특별인부","일반공사 직종","인",null,{"$f":"단가대비표!O71","v":{"v":0,"d":"0.00"}},{"$f":"TRUNC(E180*D180,1)","v":{"v":0,"d":"0.0"}},{"$f":"단가대비표!P71","v":{"v":115272,"d":"115,272.00"}},{"$f":"TRUNC(G180*D180,1)","v":{"v":0,"d":"0.0"}},{"$f":"단가대비표!V71","v":{"v":0,"d":"0.00"}},{"$f":"TRUNC(I180*D180,1)","v":{"v":0,"d":"0.0"}},{"$f":"TRUNC(E180+G180+I180,1)","v":{"v":115272,"d":"115,272.00"}},{"$f":"TRUNC(F180+H180+J180,1)","v":{"v":0,"d":"0.0"}},null,"5703A12276C6CBC01B8F5377A65C12","57D121207AA57E8018ED12DDCCCFFFC14BBAC3","F","F","T",{"$nulls":18},"5703A12276C6CBC01B8F5377A65C1257D121207AA57E8018ED12DDCCCFFFC14BBAC3"]
[" [ 합          계 ]",{"$nulls":4},{"$f":"TRUNC(SUMIF(N179:N180, N178, F179:F180),0)","v":{"v":0,"d":"0.0"}},null,{"$f":"TRUNC(SUMIF(N179:N180, N178, H179:H180),0)","v":{"v":0,"d":"0.0"}},null,{"$f":"TRUNC(SUMIF(N179:N180, N178, J179:J180),0)","v":{"v":0,"d":"0.0"}},null,{"$f":"F181+H181+J181","v":{"v":0,"d":"0.0"}},null,"TOTAL","TOTAL"]
[]
["창호철거    M2     ( 호표 29 )",{"$nulls":12},"5703A12276C6CBC01B8F5377AA388B"]
["보통인부","일반공사 직종","인",null,{"$f":"단가대비표!O70","v":{"v":0,"d":"0.00"}},{"$f":"TRUNC(E184*D184,1)","v":{"v":0,"d":"0.0"}},{"$f":"단가대비표!P70","v":{"v":94338,"d":"94,338.00"}},{"$f":"TRUNC(G184*D184,1)","v":{"v":0,"d":"0.0"}},{"$f":"단가대비표!V70","v":{"v":0,"d":"0.00"}},{"$f":"TRUNC(I184*D184,1)","v":{"v":0,"d":"0.0"}},{"$f":"TRUNC(E184+G184+I184,1)","v":{"v":94338,"d":"94,338.00"}},{"$f":"TRUNC(F184+H184+J184,1)","v":{"v":0,"d":"0.0"}},null,"5703A12276C6CBC01B8F5377AA388B","57D121207AA57E8018ED12DDCCCFFFC14BBAC2","F","F","T",{"$nulls":18},"5703A12276C6CBC01B8F5377AA388B57D121207AA57E8018ED12DDCCCFFFC14BBAC2"]
[" [ 합          계 ]",{"$nulls":4},{"$f":"TRUNC(SUMIF(N184:N184, N183, F184:F184),0)","v":{"v":0,"d":"0.0"}},null,{"$f":"TRUNC(SUMIF(N184:N184, N183, H184:H184),0)","v":{"v":0,"d":"0.0"}},null,{"$f":"TRUNC(SUMIF(N184:N184, N183, J184:J184),0)","v":{"v":0,"d":"0.0"}},null,{"$f":"F185+H185+J185","v":{"v":0,"d":"0.0"}},null,"TOTAL","TOTAL"]
[]
["화강석판석철거    M2     ( 호표 30 )",{"$nulls":12},"5703A12276C6CBC01B8F53769560F7"]
["보통인부","일반공사 직종","인",null,{"$f":"단가대비표!O70","v":{"v":0,"d":"0.00"}},{"$f":"TRUNC(E188*D188,1)","v":{"v":0,"d":"0.0"}},{"$f":"단가대비표!P70","v":{"v":94338,"d":"94,338.00"}},{"$f":"TRUNC(G188*D188,1)","v":{"v":0,"d":"0.0"}},{"$f":"단가대비표!V70","v":{"v":0,"d":"0.00"}},{"$f":"TRUNC(I188*D188,1)","v":{"v":0,"d":"0.0"}},{"$f":"TRUNC(E188+G188+I188,1)","v":{"v":94338,"d":"94,338.00"}},{"$f":"TRUNC(F188+H188+J188,1)","v":{"v":0,"d":"0.0"}},null,"5703A12276C6CBC01B8F53769560F7","57D121207AA57E8018ED12DDCCCFFFC14BBAC2","F","F","T",{"$nulls":18},"5703A12276C6CBC01B8F53769560F757D121207AA57E8018ED12DDCCCFFFC14BBAC2"]
[" [ 합          계 ]",{"$nulls":4},{"$f":"TRUNC(SUMIF(N188:N188, N187, F188:F188),0)","v":{"v":0,"d":"0.0"}},null,{"$f":"TRUNC(SUMIF(N188:N188, N187, H188:H188),0)","v":{"v":0,"d":"0.0"}},null,{"$f":"TRUNC(SUMIF(N188:N188, N187, J188:J188),0)","v":{"v":0,"d":"0.0"}},null,{"$f":"F189+H189+J189","v":{"v":0,"d":"0.0"}},null,"TOTAL","TOTAL"]
[]
["악세스후로아철거  카펫타일포함  M2     ( 호표 31 )",{"$nulls":12},"5703A12276C6CBC01B8F53769560F6"]
["보통인부","일반공사 직종","인",null,{"$f":"단가대비표!O70","v":{"v":0,"d":"0.00"}},{"$f":"TRUNC(E192*D192,1)","v":{"v":0,"d":"0.0"}},{"$f":"단가대비표!P70","v":{"v":94338,"d":"94,338.00"}},{"$f":"TRUNC(G192*D192,1)","v":{"v":0,"d":"0.0"}},{"$f":"단가대비표!V70","v":{"v":0,"d":"0.00"}},{"$f":"TRUNC(I192*D192,1)","v":{"v":0,"d":"0.0"}},{"$f":"TRUNC(E192+G192+I192,1)","v":{"v":94338,"d":"94,338.00"}},{"$f":"TRUNC(F192+H192+J192,1)","v":{"v":0,"d":"0.0"}},null,"5703A12276C6CBC01B8F53769560F6","57D121207AA57E8018ED12DDCCCFFFC14BBAC2","F","F","T",{"$nulls":18},"5703A12276C6CBC01B8F53769560F657D121207AA57E8018ED12DDCCCFFFC14BBAC2"]
[" [ 합          계 ]",{"$nulls":4},{"$f":"TRUNC(SUMIF(N192:N192, N191, F192:F192),0)","v":{"v":0,"d":"0.0"}},null,{"$f":"TRUNC(SUMIF(N192:N192, N191, H192:H192),0)","v":{"v":0,"d":"0.0"}},null,{"$f":"TRUNC(SUMIF(N192:N192, N191, J192:J192),0)","v":{"v":0,"d":"0.0"}},null,{"$f":"F193+H193+J193","v":{"v":0,"d":"0.0"}},null,"TOTAL","TOTAL"]
[]
["플로어링 마루  플로어링보드, 15mm, 삼겹적층플로어링, 도장제품(UV)  M2  건축 11-2-3   ( 호표 32 )",{"$nulls":12},"5702212874485A401CB1D431F5F8DE"]
["플로어링보드","플로어링보드, 15mm, 삼겹적층플로어링, 도장제품(UV)","M2",null,{"$f":"단가대비표!O38","v":{"v":39060,"d":"39,060.00"}},{"$f":"TRUNC(E196*D196,1)","v":{"v":0,"d":"0.0"}},{"$f":"단가대비표!P38","v":{"v":0,"d":"0.00"}},{"$f":"TRUNC(G196*D196,1)","v":{"v":0,"d":"0.0"}},{"$f":"단가대비표!V38","v":{"v":0,"d":"0.00"}},{"$f":"TRUNC(I196*D196,1)","v":{"v":0,"d":"0.0"}},{"$f":"TRUNC(E196+G196+I196,1)","v":{"v":39060,"d":"39,060.00"}},{"$f":"TRUNC(F196+H196+J196,1)","v":{"v":0,"d":"0.0"}},null,"5702212874485A401CB1D431F5F8DE","5027512373802950120E16774BD3283BC8CC00","F","F","T",{"$nulls":18},"5702212874485A401CB1D431F5F8DE5027512373802950120E16774BD3283BC8CC00"]
["플로어링 마루 - 노무비 및 공구손료",null,"M2",null,{"$f":"일위대가목록!E36","v":{"v":0,"d":"0.00"}},{"$f":"TRUNC(E197*D197,1)","v":{"v":0,"d":"0.0"}},{"$f":"일위대가목록!F36","v":{"v":0,"d":"0.00"}},{"$f":"TRUNC(G197*D197,1)","v":{"v":0,"d":"0.0"}},{"$f":"일위대가목록!G36","v":{"v":0,"d":"0.00"}},{"$f":"TRUNC(I197*D197,1)","v":{"v":0,"d":"0.0"}},{"$f":"TRUNC(E197+G197+I197,1)","v":{"v":0,"d":"0.00"}},{"$f":"TRUNC(F197+H197+J197,1)","v":{"v":0,"d":"0.0"}},null,"5702212874485A401CB1D431F5F8DE","5702212874485A401CB1D435502F46","T","F","F",{"$nulls":18},"5702212874485A401CB1D431F5F8DE5702212874485A401CB1D435502F46"]
[" [ 합          계 ]",{"$nulls":4},{"$f":"TRUNC(SUMIF(N196:N197, N195, F196:F197),0)","v":{"v":0,"d":"0.0"}},null,{"$f":"TRUNC(SUMIF(N196:N197, N195, H196:H197),0)","v":{"v":0,"d":"0.0"}},null,{"$f":"TRUNC(SUMIF(N196:N197, N195, J196:J197),0)","v":{"v":0,"d":"0.0"}},null,{"$f":"F198+H198+J198","v":{"v":0,"d":"0.0"}},null,"TOTAL","TOTAL"]
[]
["플로어링 마루 - 노무비 및 공구손료    M2  건축 11-2-3   ( 호표 33 )",{"$nulls":12},"5702212874485A401CB1D435502F46"]
["내장공","일반공사 직종","인",null,{"$f":"단가대비표!O81","v":{"v":0,"d":"0.00"}},{"$f":"TRUNC(E201*D201,1)","v":{"v":0,"d":"0.0"}},{"$f":"단가대비표!P81","v":{"v":144150,"d":"144,150.00"}},{"$f":"TRUNC(G201*D201,1)","v":{"v":0,"d":"0.0"}},{"$f":"단가대비표!V81","v":{"v":0,"d":"0.00"}},{"$f":"TRUNC(I201*D201,1)","v":{"v":0,"d":"0.0"}},{"$f":"TRUNC(E201+G201+I201,1)","v":{"v":144150,"d":"144,150.00"}},{"v":0,"d":"0.0"},null,"5702212874485A401CB1D435502F46","57D121207AA57E8018ED12DDCCCFFFC14BB939","F","F","T",{"$nulls":3},1,{"$nulls":14},"5702212874485A401CB1D435502F4657D121207AA57E8018ED12DDCCCFFFC14BB939"]
["보통인부","일반공사 직종","인",null,{"$f":"단가대비표!O70","v":{"v":0,"d":"0.00"}},{"$f":"TRUNC(E202*D202,1)","v":{"v":0,"d":"0.0"}},{"$f":"단가대비표!P70","v":{"v":94338,"d":"94,338.00"}},{"$f":"TRUNC(G202*D202,1)","v":{"v":0,"d":"0.0"}},{"$f":"단가대비표!V70","v":{"v":0,"d":"0.00"}},{"$f":"TRUNC(I202*D202,1)","v":{"v":0,"d":"0.0"}},{"v":94338,"d":"94,338.00"},{"v":0,"d":"0.0"},null,"5702212874485A401CB1D435502F46","57D121207AA57E8018ED12DDCCCFFFC14BBAC2","F","F","T",{"$nulls":3},1,{"$nulls":14},"5702212874485A401CB1D435502F4657D121207AA57E8018ED12DDCCCFFFC14BBAC2"]
["공구손료","인력품의 2%","식",null,{"v":0,"d":"0.00"},{"$f":"TRUNC(E203*D203,1)","v":{"v":0,"d":"0.0"}},{"v":0,"d":"0.00"},{"$f":"TRUNC(G203*D203,1)","v":{"v":0,"d":"0.0"}},{"$f":"TRUNC(SUMIF(V201:V203, RIGHTB(O203, 1), H201:H203)*U203, 2)","v":{"v":0,"d":"0.00"}},{"$f":"TRUNC(I203*D203,1)","v":{"v":0,"d":"0.0"}},{"v":0,"d":"0.00"},{"v":0,"d":"0.0"},null,"5702212874485A401CB1D435502F46","561B612975325E60133FAF268C0B001","F","F","F",1,2,0.02,{"$nulls":15},"5702212874485A401CB1D435502F46561B612975325E60133FAF268C0B001"]
[" [ 합          계 ]",{"$nulls":4},{"$f":"TRUNC(SUMIF(N201:N203, N200, F201:F203),0)","v":{"v":0,"d":"0.0"}},null,{"$f":"TRUNC(SUMIF(N201:N203, N200, H201:H203),0)","v":{"v":0,"d":"0.0"}},null,{"$f":"TRUNC(SUMIF(N201:N203, N200, J201:J203),0)","v":{"v":0,"d":"0.0"}},null,{"$f":"F204+H204+J204","v":{"v":0,"d":"0.0"}},null,"TOTAL","TOTAL"]
[]
["벽체틀  자재 별도  M2  건축 11-1-3.1   ( 호표 34 )",{"$nulls":12},"570221287703B51012B77AF35FC7C8"]
["건축목공","일반공사 직종","인",null,{"$f":"단가대비표!O76","v":{"v":0,"d":"0.00"}},{"$f":"TRUNC(E207*D207,1)","v":{"v":0,"d":"0.0"}},{"$f":"단가대비표!P76","v":{"v":148851,"d":"148,851.00"}},{"$f":"TRUNC(G207*D207,1)","v":{"v":0,"d":"0.0"}},{"$f":"단가대비표!V76","v":{"v":0,"d":"0.00"}},{"$f":"TRUNC(I207*D207,1)","v":{"v":0,"d":"0.0"}},{"$f":"TRUNC(E207+G207+I207,1)","v":{"v":148851,"d":"148,851.00"}},{"v":0,"d":"0.0"},null,"570221287703B51012B77AF35FC7C8","57D121207AA57E8018ED12DDCCCFFFC14BB811","F","F","T",{"$nulls":3},1,{"$nulls":14},"570221287703B51012B77AF35FC7C857D121207AA57E8018ED12DDCCCFFFC14BB811"]
["보통인부","일반공사 직종","인",null,{"$f":"단가대비표!O70","v":{"v":0,"d":"0.00"}},{"$f":"TRUNC(E208*D208,1)","v":{"v":0,"d":"0.0"}},{"$f":"단가대비표!P70","v":{"v":94338,"d":"94,338.00"}},{"$f":"TRUNC(G208*D208,1)","v":{"v":0,"d":"0.0"}},{"$f":"단가대비표!V70","v":{"v":0,"d":"0.00"}},{"$f":"TRUNC(I208*D208,1)","v":{"v":0,"d":"0.0"}},{"v":94338,"d":"94,338.00"},{"v":0,"d":"0.0"},null,"570221287703B51012B77AF35FC7C8","57D121207AA57E8018ED12DDCCCFFFC14BBAC2","F","F","T",{"$nulls":3},1,{"$nulls":14},"570221287703B51012B77AF35FC7C857D121207AA57E8018ED12DDCCCFFFC14BBAC2"]
["공구손료","인력품의 2%","식",null,{"v":0,"d":"0.00"},{"$f":"TRUNC(E209*D209,1)","v":{"v":0,"d":"0.0"}},{"v":0,"d":"0.00"},{"$f":"TRUNC(G209*D209,1)","v":{"v":0,"d":"0.0"}},{"$f":"TRUNC(SUMIF(V207:V209, RIGHTB(O209, 1), H207:H209)*U209, 2)","v":{"v":0,"d":"0.00"}},{"$f":"TRUNC(I209*D209,1)","v":{"v":0,"d":"0.0"}},{"v":0,"d":"0.00"},{"v":0,"d":"0.0"},null,"570221287703B51012B77AF35FC7C8","561B612975325E60133FAF268C0B001","F","F","F",1,2,0.02,{"$nulls":15},"570221287703B51012B77AF35FC7C8561B612975325E60133FAF268C0B001"]
[" [ 합          계 ]",{"$nulls":4},{"$f":"TRUNC(SUMIF(N207:N209, N206, F207:F209),0)","v":{"v":0,"d":"0.0"}},null,{"$f":"TRUNC(SUMIF(N207:N209, N206, H207:H209),0)","v":{"v":0,"d":"0.0"}},null,{"$f":"TRUNC(SUMIF(N207:N209, N206, J207:J209),0)","v":{"v":0,"d":"0.0"}},null,{"$f":"F210+H210+J210","v":{"v":0,"d":"0.0"}},null,"TOTAL","TOTAL"]
[]
["경량 천장 철골틀 - 노무비    M2  건축 14-4   ( 호표 35 )",{"$nulls":12},"5702112977EBF6401D6FD866B1D9AB"]
["내장공","일반공사 직종","인",null,{"$f":"단가대비표!O81","v":{"v":0,"d":"0.00"}},{"$f":"TRUNC(E213*D213,1)","v":{"v":0,"d":"0.0"}},{"$f":"단가대비표!P81","v":{"v":144150,"d":"144,150.00"}},{"$f":"TRUNC(G213*D213,1)","v":{"v":0,"d":"0.0"}},{"$f":"단가대비표!V81","v":{"v":0,"d":"0.00"}},{"$f":"TRUNC(I213*D213,1)","v":{"v":0,"d":"0.0"}},{"$f":"TRUNC(E213+G213+I213,1)","v":{"v":144150,"d":"144,150.00"}},{"v":0,"d":"0.0"},null,"5702112977EBF6401D6FD866B1D9AB","57D121207AA57E8018ED12DDCCCFFFC14BB939","F","F","T",{"$nulls":3},1,{"$nulls":14},"5702112977EBF6401D6FD866B1D9AB57D121207AA57E8018ED12DDCCCFFFC14BB939"]
["보통인부","일반공사 직종","인",null,{"$f":"단가대비표!O70","v":{"v":0,"d":"0.00"}},{"$f":"TRUNC(E214*D214,1)","v":{"v":0,"d":"0.0"}},{"$f":"단가대비표!P70","v":{"v":94338,"d":"94,338.00"}},{"$f":"TRUNC(G214*D214,1)","v":{"v":0,"d":"0.0"}},{"$f":"단가대비표!V70","v":{"v":0,"d":"0.00"}},{"$f":"TRUNC(I214*D214,1)","v":{"v":0,"d":"0.0"}},{"v":94338,"d":"94,338.00"},{"v":0,"d":"0.0"},null,"5702112977EBF6401D6FD866B1D9AB","57D121207AA57E8018ED12DDCCCFFFC14BBAC2","F","F","T",{"$nulls":3},1,{"$nulls":14},"5702112977EBF6401D6FD866B1D9AB57D121207AA57E8018ED12DDCCCFFFC14BBAC2"]
["공구손료","인력품의 6%","식",null,{"v":0,"d":"0.00"},{"$f":"TRUNC(E215*D215,1)","v":{"v":0,"d":"0.0"}},{"v":0,"d":"0.00"},{"$f":"TRUNC(G215*D215,1)","v":{"v":0,"d":"0.0"}},{"$f":"TRUNC(SUMIF(V213:V215, RIGHTB(O215, 1), H213:H215)*U215, 2)","v":{"v":0,"d":"0.00"}},{"$f":"TRUNC(I215*D215,1)","v":{"v":0,"d":"0.0"}},{"v":0,"d":"0.00"},{"v":0,"d":"0.0"},null,"5702112977EBF6401D6FD866B1D9AB","561B612975325E60133FAF268C0B001","F","F","F",1,2,0.06,{"$nulls":15},"5702112977EBF6401D6FD866B1D9AB561B612975325E60133FAF268C0B001"]
[" [ 합          계 ]",{"$nulls":4},{"$f":"TRUNC(SUMIF(N213:N215, N212, F213:F215),0)","v":{"v":0,"d":"0.0"}},null,{"$f":"TRUNC(SUMIF(N213:N215, N212, H213:H215),0)","v":{"v":0,"d":"0.0"}},null,{"$f":"TRUNC(SUMIF(N213:N215, N212, J213:J215),0)","v":{"v":0,"d":"0.0"}},null,{"$f":"F216+H216+J216","v":{"v":0,"d":"0.0"}},null,"TOTAL","TOTAL"]
[]
["잡철물제작설치(스테인리스)  간단  kg  건축 14-5   ( 호표 36 )",{"$nulls":12},"57021129730EB9B017E1AB0526A6B4"]
["잡철물제작(스테인리스)","간단","kg",null,{"$f":"일위대가목록!E40","v":{"v":0,"d":"0.00"}},{"$f":"TRUNC(E219*D219,1)","v":{"v":0,"d":"0.0"}},{"$f":"일위대가목록!F40","v":{"v":0,"d":"0.00"}},{"$f":"TRUNC(G219*D219,1)","v":{"v":0,"d":"0.0"}},{"$f":"일위대가목록!G40","v":{"v":0,"d":"0.00"}},{"$f":"TRUNC(I219*D219,1)","v":{"v":0,"d":"0.0"}},{"$f":"TRUNC(E219+G219+I219,1)","v":{"v":0,"d":"0.00"}},{"$f":"TRUNC(F219+H219+J219,1)","v":{"v":0,"d":"0.0"}},null,"57021129730EB9B017E1AB0526A6B4","57021129730EB9B017E24D0DD5AD47","T","F","F",{"$nulls":18},"57021129730EB9B017E1AB0526A6B457021129730EB9B017E24D0DD5AD47"]
["잡철물설치(스테인리스)","간단","kg",null,{"$f":"일위대가목록!E41","v":{"v":0,"d":"0.00"}},{"$f":"TRUNC(E220*D220,1)","v":{"v":0,"d":"0.0"}},{"$f":"일위대가목록!F41","v":{"v":0,"d":"0.00"}},{"$f":"TRUNC(G220*D220,1)","v":{"v":0,"d":"0.0"}},{"$f":"일위대가목록!G41","v":{"v":0,"d":"0.00"}},{"$f":"TRUNC(I220*D220,1)","v":{"v":0,"d":"0.0"}},{"$f":"TRUNC(E220+G220+I220,1)","v":{"v":0,"d":"0.00"}},{"$f":"TRUNC(F220+H220+J220,1)","v":{"v":0,"d":"0.0"}},null,"57021129730EB9B017E1AB0526A6B4","57021129730EB9B017E24D0CCEBBF0","T","F","F",{"$nulls":18},"57021129730EB9B017E1AB0526A6B457021129730EB9B017E24D0CCEBBF0"]
[" [ 합          계 ]",{"$nulls":4},{"$f":"TRUNC(SUMIF(N219:N220, N218, F219:F220),0)","v":{"v":0,"d":"0.0"}},null,{"$f":"TRUNC(SUMIF(N219:N220, N218, H219:H220),0)","v":{"v":0,"d":"0.0"}},null,{"$f":"TRUNC(SUMIF(N219:N220, N218, J219:J220),0)","v":{"v":0,"d":"0.0"}},null,{"$f":"F221+H221+J221","v":{"v":0,"d":"0.0"}},null,"TOTAL","TOTAL"]
[]
["잡철물제작(스테인리스)  간단  kg  건축 14-5   ( 호표 37 )",{"$nulls":12},"57021129730EB9B017E24D0DD5AD47"]
["스테인리스강용피복아크용접봉","스테인리스강용피복아크용접봉, Φ3.2mm, AWSE308","kg",null,{"$f":"단가대비표!O18","v":{"v":0,"d":"0.00"}},{"$f":"TRUNC(E224*D224,1)","v":{"v":0,"d":"0.0"}},{"$f":"단가대비표!P18","v":{"v":0,"d":"0.00"}},{"$f":"TRUNC(G224*D224,1)","v":{"v":0,"d":"0.0"}},{"$f":"단가대비표!V18","v":{"v":0,"d":"0.00"}},{"$f":"TRUNC(I224*D224,1)","v":{"v":0,"d":"0.0"}},{"$f":"TRUNC(E224+G224+I224,1)","v":{"v":0,"d":"0.00"}},{"$f":"TRUNC(F224+H224+J224,1)","v":{"v":0,"d":"0.0"}},null,"57021129730EB9B017E24D0DD5AD47","5031812C73EA7400155BAF1273890679308D69","F","F","T",{"$nulls":18},"57021129730EB9B017E24D0DD5AD475031812C73EA7400155BAF1273890679308D69"]
["산소가스","기체","L",null,{"$f":"단가대비표!O14","v":{"v":2,"d":"2.00"}},{"v":0,"d":"0.0"},{"$f":"단가대비표!P14","v":{"v":0,"d":"0.00"}},{"v":0,"d":"0.0"},{"$f":"단가대비표!V14","v":{"v":0,"d":"0.00"}},{"v":0,"d":"0.0"},{"v":2,"d":"2.00"},{"v":0,"d":"0.0"},null,"57021129730EB9B017E24D0DD5AD47","50045120784057E018EBB4EBD58DAA1BA5EF39","F","F","T",{"$nulls":18},"57021129730EB9B017E24D0DD5AD4750045120784057E018EBB4EBD58DAA1BA5EF39"]
["아세틸렌가스","아세틸렌가스, kg","kg",null,{"$f":"단가대비표!O16","v":{"v":9500,"d":"9,500.00"}},{"v":0,"d":"0.0"},{"$f":"단가대비표!P16","v":{"v":0,"d":"0.00"}},{"v":0,"d":"0.0"},{"$f":"단가대비표!V16","v":{"v":0,"d":"0.00"}},{"v":0,"d":"0.0"},{"v":9500,"d":"9,500.00"},{"v":0,"d":"0.0"},null,"57021129730EB9B017E24D0DD5AD47","5004212B7404C5D0199229C98DBAF15327D1A4","F","F","T",{"$nulls":18},"57021129730EB9B017E24D0DD5AD475004212B7404C5D0199229C98DBAF15327D1A4"]
["용접기(교류)","500Amp","HR",null,{"$f":"일위대가목록!E42","v":{"v":0,"d":"0.00"}},{"v":0,"d":"0.0"},{"$f":"일위대가목록!F42","v":{"v":0,"d":"0.00"}},{"v":0,"d":"0.0"},{"$f":"일위대가목록!G42","v":{"v":0,"d":"0.00"}},{"v":0,"d":"0.0"},{"v":0,"d":"0.00"},{"v":0,"d":"0.0"},null,"57021129730EB9B017E24D0DD5AD47","5016E12C7048EBF01E3DC3FA33389B3E21C50C39","T","F","F",{"$nulls":18},"57021129730EB9B017E24D0DD5AD475016E12C7048EBF01E3DC3FA33389B3E21C50C39"]
["공통자재","일반경비, 전력","kwh",null,{"$f":"단가대비표!O69","v":{"v":0,"d":"0.00"}},{"v":0,"d":"0.0"},{"$f":"단가대비표!P69","v":{"v":0,"d":"0.00"}},{"v":0,"d":"0.0"},{"$f":"단가대비표!V69","v":{"v":87,"d":"87.00"}},{"v":0,"d":"0.0"},{"v":87,"d":"87.00"},{"v":0,"d":"0.0"},null,"57021129730EB9B017E24D0DD5AD47","5743612E7625F1B01AC7ED557F416E3FA36CA5","F","F","T",{"$nulls":18},"57021129730EB9B017E24D0DD5AD475743612E7625F1B01AC7ED557F416E3FA36CA5"]
["철공","일반공사 직종","인",null,{"$f":"단가대비표!O72","v":{"v":0,"d":"0.00"}},{"v":0,"d":"0.0"},{"$f":"단가대비표!P72","v":{"v":146509,"d":"146,509.00"}},{"v":0,"d":"0.0"},{"$f":"단가대비표!V72","v":{"v":0,"d":"0.00"}},{"v":0,"d":"0.0"},{"v":146509,"d":"146,509.00"},{"v":0,"d":"0.0"},null,"57021129730EB9B017E24D0DD5AD47","57D121207AA57E8018ED12DDCCCFFFC14BBAC9","F","F","T",{"$nulls":3},1,{"$nulls":14},"57021129730EB9B017E24D0DD5AD4757D121207AA57E8018ED12DDCCCFFFC14BBAC9"]
["보통인부","일반공사 직종","인",null,{"$f":"단가대비표!O70","v":{"v":0,"d":"0.00"}},{"v":0,"d":"0.0"},{"$f":"단가대비표!P70","v":{"v":94338,"d":"94,338.00"}},{"v":0,"d":"0.0"},{"$f":"단가대비표!V70","v":{"v":0,"d":"0.00"}},{"v":0,"d":"0.0"},{"v":94338,"d":"94,338.00"},{"v":0,"d":"0.0"},null,"57021129730EB9B017E24D0DD5AD47","57D121207AA57E8018ED12DDCCCFFFC14BBAC2","F","F","T",{"$nulls":3},1,{"$nulls":14},"57021129730EB9B017E24D0DD5AD4757D121207AA57E8018ED12DDCCCFFFC14BBAC2"]
["용접공","일반공사 직종","인",null,{"$f":"단가대비표!O74","v":{"v":0,"d":"0.00"}},{"v":0,"d":"0.0"},{"$f":"단가대비표!P74","v":{"v":143509,"d":"143,509.00"}},{"v":0,"d":"0.0"},{"$f":"단가대비표!V74","v":{"v":0,"d":"0.00"}},{"v":0,"d":"0.0"},{"v":143509,"d":"143,509.00"},{"v":0,"d":"0.0"},null,"57021129730EB9B017E24D0DD5AD47","57D121207AA57E8018ED12DDCCCFFFC14BBBE4","F","F","T",{"$nulls":3},1,{"$nulls":14},"57021129730EB9B017E24D0DD5AD4757D121207AA57E8018ED12DDCCCFFFC14BBBE4"]
["특별인부","일반공사 직종","인",null,{"$f":"단가대비표!O71","v":{"v":0,"d":"0.00"}},{"v":0,"d":"0.0"},{"$f":"단가대비표!P71","v":{"v":115272,"d":"115,272.00"}},{"v":0,"d":"0.0"},{"$f":"단가대비표!V71","v":{"v":0,"d":"0.00"}},{"v":0,"d":"0.0"},{"v":115272,"d":"115,272.00"},{"v":0,"d":"0.0"},null,"57021129730EB9B017E24D0DD5AD47","57D121207AA57E8018ED12DDCCCFFFC14BBAC3","F","F","T",{"$nulls":3},1,{"$nulls":14},"57021129730EB9B017E24D0DD5AD4757D121207AA57E8018ED12DDCCCFFFC14BBAC3"]
["공구손료","인력품의 3%","식",null,{"$f":"TRUNC(SUMIF(V224:V233, RIGHTB(O233, 1), H224:H233)*U233, 2)","v":{"v":0,"d":"0.00"}},{"v":0,"d":"0.0"},{"v":0,"d":"0.00"},{"v":0,"d":"0.0"},{"v":0,"d":"0.00"},{"v":0,"d":"0.0"},{"v":0,"d":"0.00"},{"v":0,"d":"0.0"},null,"57021129730EB9B017E24D0DD5AD47","561B612975325E60133FAF268C0B001","F","F","F",1,0,0.03,{"$nulls":15},"57021129730EB9B017E24D0DD5AD47561B612975325E60133FAF268C0B001"]
[" [ 합          계 ]",{"$nulls":4},{"$f":"TRUNC(SUMIF(N224:N233, N223, F224:F233),0)","v":{"v":0,"d":"0.0"}},null,{"$f":"TRUNC(SUMIF(N224:N233, N223, H224:H233),0)","v":{"v":0,"d":"0.0"}},null,{"$f":"TRUNC(SUMIF(N224:N233, N223, J224:J233),0)","v":{"v":0,"d":"0.0"}},null,{"$f":"F234+H234+J234","v":{"v":0,"d":"0.0"}},null,"TOTAL","TOTAL"]
[]
["잡철물설치(스테인리스)  간단  kg  건축 14-5   ( 호표 38 )",{"$nulls":12},"57021129730EB9B017E24D0CCEBBF0"]
["스테인리스강용피복아크용접봉","스테인리스강용피복아크용접봉, Φ3.2mm, AWSE308","kg",null,{"$f":"단가대비표!O18","v":{"v":0,"d":"0.00"}},{"$f":"TRUNC(E237*D237,1)","v":{"v":0,"d":"0.0"}},{"$f":"단가대비표!P18","v":{"v":0,"d":"0.00"}},{"$f":"TRUNC(G237*D237,1)","v":{"v":0,"d":"0.0"}},{"$f":"단가대비표!V18","v":{"v":0,"d":"0.00"}},{"$f":"TRUNC(I237*D237,1)","v":{"v":0,"d":"0.0"}},{"$f":"TRUNC(E237+G237+I237,1)","v":{"v":0,"d":"0.00"}},{"$f":"TRUNC(F237+H237+J237,1)","v":{"v":0,"d":"0.0"}},null,"57021129730EB9B017E24D0CCEBBF0","5031812C73EA7400155BAF1273890679308D69","F","F","T",{"$nulls":18},"57021129730EB9B017E24D0CCEBBF05031812C73EA7400155BAF1273890679308D69"]
["산소가스","기체","L",null,{"$f":"단가대비표!O14","v":{"v":2,"d":"2.00"}},{"v":0,"d":"0.0"},{"$f":"단가대비표!P14","v":{"v":0,"d":"0.00"}},{"v":0,"d":"0.0"},{"$f":"단가대비표!V14","v":{"v":0,"d":"0.00"}},{"v":0,"d":"0.0"},{"v":2,"d":"2.00"},{"v":0,"d":"0.0"},null,"57021129730EB9B017E24D0CCEBBF0","50045120784057E018EBB4EBD58DAA1BA5EF39","F","F","T",{"$nulls":18},"57021129730EB9B017E24D0CCEBBF050045120784057E018EBB4EBD58DAA1BA5EF39"]
["아세틸렌가스","아세틸렌가스, kg","kg",null,{"$f":"단가대비표!O16","v":{"v":9500,"d":"9,500.00"}},{"v":0,"d":"0.0"},{"$f":"단가대비표!P16","v":{"v":0,"d":"0.00"}},{"v":0,"d":"0.0"},{"$f":"단가대비표!V16","v":{"v":0,"d":"0.00"}},{"v":0,"d":"0.0"},{"v":9500,"d":"9,500.00"},{"v":0,"d":"0.0"},null,"57021129730EB9B017E24D0CCEBBF0","5004212B7404C5D0199229C98DBAF15327D1A4","F","F","T",{"$nulls":18},"57021129730EB9B017E24D0CCEBBF05004212B7404C5D0199229C98DBAF15327D1A4"]
["용접기(교류)","500Amp","HR",null,{"$f":"일위대가목록!E42","v":{"v":0,"d":"0.00"}},{"v":0,"d":"0.0"},{"$f":"일위대가목록!F42","v":{"v":0,"d":"0.00"}},{"v":0,"d":"0.0"},{"$f":"일위대가목록!G42","v":{"v":0,"d":"0.00"}},{"v":0,"d":"0.0"},{"v":0,"d":"0.00"},{"v":0,"d":"0.0"},null,"57021129730EB9B017E24D0CCEBBF0","5016E12C7048EBF01E3DC3FA33389B3E21C50C39","T","F","F",{"$nulls":18},"57021129730EB9B017E24D0CCEBBF05016E12C7048EBF01E3DC3FA33389B3E21C50C39"]
["공통자재","일반경비, 전력","kwh",null,{"$f":"단가대비표!O69","v":{"v":0,"d":"0.00"}},{"v":0,"d":"0.0"},{"$f":"단가대비표!P69","v":{"v":0,"d":"0.00"}},{"v":0,"d":"0.0"},{"$f":"단가대비표!V69","v":{"v":87,"d":"87.00"}},{"v":0,"d":"0.0"},{"v":87,"d":"87.00"},{"v":0,"d":"0.0"},null,"57021129730EB9B017E24D0CCEBBF0","5743612E7625F1B01AC7ED557F416E3FA36CA5","F","F","T",{"$nulls":18},"57021129730EB9B017E24D0CCEBBF05743612E7625F1B01AC7ED557F416E3FA36CA5"]
["철공","일반공사 직종","인",null,{"$f":"단가대비표!O72","v":{"v":0,"d":"0.00"}},{"v":0,"d":"0.0"},{"$f":"단가대비표!P72","v":{"v":146509,"d":"146,509.00"}},{"v":0,"d":"0.0"},{"$f":"단가대비표!V72","v":{"v":0,"d":"0.00"}},{"v":0,"d":"0.0"},{"v":146509,"d":"146,509.00"},{"v":0,"d":"0.0"},null,"57021129730EB9B017E24D0CCEBBF0","57D121207AA57E8018ED12DDCCCFFFC14BBAC9","F","F","T",{"$nulls":3},1,{"$nulls":14},"57021129730EB9B017E24D0CCEBBF057D121207AA57E8018ED12DDCCCFFFC14BBAC9"]
["보통인부","일반공사 직종","인",null,{"$f":"단가대비표!O70","v":{"v":0,"d":"0.00"}},{"v":0,"d":"0.0"},{"$f":"단가대비표!P70","v":{"v":94338,"d":"94,338.00"}},{"v":0,"d":"0.0"},{"$f":"단가대비표!V70","v":{"v":0,"d":"0.00"}},{"v":0,"d":"0.0"},{"v":94338,"d":"94,338.00"},{"v":0,"d":"0.0"},null,"57021129730EB9B017E24D0CCEBBF0","57D121207AA57E8018ED12DDCCCFFFC14BBAC2","F","F","T",{"$nulls":3},1,{"$nulls":14},"57021129730EB9B017E24D0CCEBBF057D121207AA57E8018ED12DDCCCFFFC14BBAC2"]
["용접공","일반공사 직종","인",null,{"$f":"단가대비표!O74","v":{"v":0,"d":"0.00"}},{"v":0,"d":"0.0"},{"$f":"단가대비표!P74","v":{"v":143509,"d":"143,509.00"}},{"v":0,"d":"0.0"},{"$f":"단가대비표!V74","v":{"v":0,"d":"0.00"}},{"v":0,"d":"0.0"},{"v":143509,"d":"143,509.00"},{"v":0,"d":"0.0"},null,"57021129730EB9B017E24D0CCEBBF0","57D121207AA57E8018ED12DDCCCFFFC14BBBE4","F","F","T",{"$nulls":3},1,{"$nulls":14},"57021129730EB9B017E24D0CCEBBF057D121207AA57E8018ED12DDCCCFFFC14BBBE4"]
["특별인부","일반공사 직종","인",null,{"$f":"단가대비표!O71","v":{"v":0,"d":"0.00"}},{"v":0,"d":"0.0"},{"$f":"단가대비표!P71","v":{"v":115272,"d":"115,272.00"}},{"v":0,"d":"0.0"},{"$f":"단가대비표!V71","v":{"v":0,"d":"0.00"}},{"v":0,"d":"0.0"},{"v":115272,"d":"115,272.00"},{"v":0,"d":"0.0"},null,"57021129730EB9B017E24D0CCEBBF0","57D121207AA57E8018ED12DDCCCFFFC14BBAC3","F","F","T",{"$nulls":3},1,{"$nulls":14},"57021129730EB9B017E24D0CCEBBF057D121207AA57E8018ED12DDCCCFFFC14BBAC3"]
["공구손료","인력품의 3%","식",null,{"$f":"TRUNC(SUMIF(V237:V246, RIGHTB(O246, 1), H237:H246)*U246, 2)","v":{"v":0,"d":"0.00"}},{"v":0,"d":"0.0"},{"v":0,"d":"0.00"},{"v":0,"d":"0.0"},{"v":0,"d":"0.00"},{"v":0,"d":"0.0"},{"v":0,"d":"0.00"},{"v":0,"d":"0.0"},null,"57021129730EB9B017E24D0CCEBBF0","561B612975325E60133FAF268C0B001","F","F","F",1,0,0.03,{"$nulls":15},"57021129730EB9B017E24D0CCEBBF0561B612975325E60133FAF268C0B001"]
[" [ 합          계 ]",{"$nulls":4},{"$f":"TRUNC(SUMIF(N237:N246, N236, F237:F246),0)","v":{"v":0,"d":"0.0"}},null,{"$f":"TRUNC(SUMIF(N237:N246, N236, H237:H246),0)","v":{"v":0,"d":"0.0"}},null,{"$f":"TRUNC(SUMIF(N237:N246, N236, J237:J246),0)","v":{"v":0,"d":"0.0"}},null,{"$f":"F247+H247+J247","v":{"v":0,"d":"0.0"}},null,"TOTAL","TOTAL"]
[]
["용접기(교류)  500Amp  HR  토목 9-44-43   ( 호표 39 )",{"$nulls":12},"5016E12C7048EBF01E3DC3FA33389B3E21C50C39"]
["용접기(교류)","500Amp","대",null,{"$f":"단가대비표!O7","v":{"v":0,"d":"0.00"}},{"$f":"TRUNC(E250*D250,1)","v":{"v":0,"d":"0.0"}},{"$f":"단가대비표!P7","v":{"v":0,"d":"0.00"}},{"$f":"TRUNC(G250*D250,1)","v":{"v":0,"d":"0.0"}},{"$f":"단가대비표!V7","v":{"v":544,"d":"544.00"}},{"$f":"TRUNC(I250*D250,1)","v":{"v":0,"d":"0.0"}},{"$f":"TRUNC(E250+G250+I250,1)","v":{"v":544,"d":"544.00"}},{"$f":"TRUNC(F250+H250+J250,1)","v":{"v":0,"d":"0.0"}},"천원","5016E12C7048EBF01E3DC3FA33389B3E21C50C39","5016E12C7048EBF01E3DC3FA33389B3E21C50C","F","F","T",{"$nulls":18},"5016E12C7048EBF01E3DC3FA33389B3E21C50C395016E12C7048EBF01E3DC3FA33389B3E21C50C"]
[" [ 합          계 ]",{"$nulls":4},{"$f":"TRUNC(SUMIF(N250:N250, N249, F250:F250),0)","v":{"v":0,"d":"0.0"}},null,{"$f":"TRUNC(SUMIF(N250:N250, N249, H250:H250),0)","v":{"v":0,"d":"0.0"}},null,{"$f":"TRUNC(SUMIF(N250:N250, N249, J250:J250),0)","v":{"v":0,"d":"0.0"}},null,{"$f":"F251+H251+J251","v":{"v":0,"d":"0.0"}},null,"TOTAL","TOTAL"]
[]
["잡철물제작설치(철재)  간단  kg  건축 14-5   ( 호표 40 )",{"$nulls":12},"57021129730EB9B017E1A9574A7E93"]
["잡철물제작(철재)","간단","kg",null,{"$f":"일위대가목록!E45","v":{"v":0,"d":"0.00"}},{"$f":"TRUNC(E254*D254,1)","v":{"v":0,"d":"0.0"}},{"$f":"일위대가목록!F45","v":{"v":0,"d":"0.00"}},{"$f":"TRUNC(G254*D254,1)","v":{"v":0,"d":"0.0"}},{"$f":"일위대가목록!G45","v":{"v":0,"d":"0.00"}},{"$f":"TRUNC(I254*D254,1)","v":{"v":0,"d":"0.0"}},{"$f":"TRUNC(E254+G254+I254,1)","v":{"v":0,"d":"0.00"}},{"$f":"TRUNC(F254+H254+J254,1)","v":{"v":0,"d":"0.0"}},null,"57021129730EB9B017E1A9574A7E93","57021129730EB9B017E24F3BD02679","T","F","F",{"$nulls":18},"57021129730EB9B017E1A9574A7E9357021129730EB9B017E24F3BD02679"]
["잡철물설치(철재)","간단","kg",null,{"$f":"일위대가목록!E46","v":{"v":0,"d":"0.00"}},{"$f":"TRUNC(E255*D255,1)","v":{"v":0,"d":"0.0"}},{"$f":"일위대가목록!F46","v":{"v":0,"d":"0.00"}},{"$f":"TRUNC(G255*D255,1)","v":{"v":0,"d":"0.0"}},{"$f":"일위대가목록!G46","v":{"v":0,"d":"0.00"}},{"$f":"TRUNC(I255*D255,1)","v":{"v":0,"d":"0.0"}},{"$f":"TRUNC(E255+G255+I255,1)","v":{"v":0,"d":"0.00"}},{"$f":"TRUNC(F255+H255+J255,1)","v":{"v":0,"d":"0.0"}},null,"57021129730EB9B017E1A9574A7E93","57021129730EB9B017E24F3ACADBEB","T","F","F",{"$nulls":18},"57021129730EB9B017E1A9574A7E9357021129730EB9B017E24F3ACADBEB"]
[" [ 합          계 ]",{"$nulls":4},{"$f":"TRUNC(SUMIF(N254:N255, N253, F254:F255),0)","v":{"v":0,"d":"0.0"}},null,{"$f":"TRUNC(SUMIF(N254:N255, N253, H254:H255),0)","v":{"v":0,"d":"0.0"}},null,{"$f":"TRUNC(SUMIF(N254:N255, N253, J254:J255),0)","v":{"v":0,"d":"0.0"}},null,{"$f":"F256+H256+J256","v":{"v":0,"d":"0.0"}},null,"TOTAL","TOTAL"]
[]
["유성페인트(롤러칠)  철재면, 2회. 1급  M2  건축 17-3-2   ( 호표 41 )",{"$nulls":12},"570251237BC6A6E010008965989253"]
["유성페인트(롤러칠) - 재료비","철재면, 2회 칠, 1급","M2",null,{"$f":"일위대가목록!E47","v":{"v":0,"d":"0.00"}},{"$f":"TRUNC(E259*D259,1)","v":{"v":0,"d":"0.0"}},{"$f":"일위대가목록!F47","v":{"v":0,"d":"0.00"}},{"$f":"TRUNC(G259*D259,1)","v":{"v":0,"d":"0.0"}},{"$f":"일위대가목록!G47","v":{"v":0,"d":"0.00"}},{"$f":"TRUNC(I259*D259,1)","v":{"v":0,"d":"0.0"}},{"$f":"TRUNC(E259+G259+I259,1)","v":{"v":0,"d":"0.00"}},{"$f":"TRUNC(F259+H259+J259,1)","v":{"v":0,"d":"0.0"}},null,"570251237BC6A6E010008965989253","570251237BC6A6E010008DC08A08C3","T","F","F",{"$nulls":18},"570251237BC6A6E010008965989253570251237BC6A6E010008DC08A08C3"]
["유성페인트(롤러칠) - 노무비","철재면, 2회 칠","M2",null,{"$f":"일위대가목록!E48","v":{"v":0,"d":"0.00"}},{"$f":"TRUNC(E260*D260,1)","v":{"v":0,"d":"0.0"}},{"$f":"일위대가목록!F48","v":{"v":0,"d":"0.00"}},{"$f":"TRUNC(G260*D260,1)","v":{"v":0,"d":"0.0"}},{"$f":"일위대가목록!G48","v":{"v":0,"d":"0.00"}},{"$f":"TRUNC(I260*D260,1)","v":{"v":0,"d":"0.0"}},{"$f":"TRUNC(E260+G260+I260,1)","v":{"v":0,"d":"0.00"}},{"$f":"TRUNC(F260+H260+J260,1)","v":{"v":0,"d":"0.0"}},null,"570251237BC6A6E010008965989253","570251237BC6A6E010008DC0885940","T","F","F",{"$nulls":18},"570251237BC6A6E010008965989253570251237BC6A6E010008DC0885940"]
[" [ 합          계 ]",{"$nulls":4},{"$f":"TRUNC(SUMIF(N259:N260, N258, F259:F260),0)","v":{"v":0,"d":"0.0"}},null,{"$f":"TRUNC(SUMIF(N259:N260, N258, H259:H260),0)","v":{"v":0,"d":"0.0"}},null,{"$f":"TRUNC(SUMIF(N259:N260, N258, J259:J260),0)","v":{"v":0,"d":"0.0"}},null,{"$f":"F261+H261+J261","v":{"v":0,"d":"0.0"}},null,"TOTAL","TOTAL"]
[]
["잡철물제작(철재)  간단  kg  건축 14-5   ( 호표 42 )",{"$nulls":12},"57021129730EB9B017E24F3BD02679"]
["연강용피복아크용접봉","연강용피복아크용접봉, CR-13, Φ3.2mm","kg",null,{"$f":"단가대비표!O17","v":{"v":0,"d":"0.00"}},{"$f":"TRUNC(E264*D264,1)","v":{"v":0,"d":"0.0"}},{"$f":"단가대비표!P17","v":{"v":0,"d":"0.00"}},{"$f":"TRUNC(G264*D264,1)","v":{"v":0,"d":"0.0"}},{"$f":"단가대비표!V17","v":{"v":0,"d":"0.00"}},{"$f":"TRUNC(I264*D264,1)","v":{"v":0,"d":"0.0"}},{"$f":"TRUNC(E264+G264+I264,1)","v":{"v":0,"d":"0.00"}},{"$f":"TRUNC(F264+H264+J264,1)","v":{"v":0,"d":"0.0"}},null,"57021129730EB9B017E24F3BD02679","5031812C73EA7400155BAF1273890679335F1E","F","F","T",{"$nulls":18},"57021129730EB9B017E24F3BD026795031812C73EA7400155BAF1273890679335F1E"]
["산소가스","기체","L",null,{"$f":"단가대비표!O14","v":{"v":2,"d":"2.00"}},{"v":0,"d":"0.0"},{"$f":"단가대비표!P14","v":{"v":0,"d":"0.00"}},{"v":0,"d":"0.0"},{"$f":"단가대비표!V14","v":{"v":0,"d":"0.00"}},{"v":0,"d":"0.0"},{"v":2,"d":"2.00"},{"v":0,"d":"0.0"},null,"57021129730EB9B017E24F3BD02679","50045120784057E018EBB4EBD58DAA1BA5EF39","F","F","T",{"$nulls":18},"57021129730EB9B017E24F3BD0267950045120784057E018EBB4EBD58DAA1BA5EF39"]
["아세틸렌가스","아세틸렌가스, kg","kg",null,{"$f":"단가대비표!O16","v":{"v":9500,"d":"9,500.00"}},{"v":0,"d":"0.0"},{"$f":"단가대비표!P16","v":{"v":0,"d":"0.00"}},{"v":0,"d":"0.0"},{"$f":"단가대비표!V16","v":{"v":0,"d":"0.00"}},{"v":0,"d":"0.0"},{"v":9500,"d":"9,500.00"},{"v":0,"d":"0.0"},null,"57021129730EB9B017E24F3BD02679","5004212B7404C5D0199229C98DBAF15327D1A4","F","F","T",{"$nulls":18},"57021129730EB9B017E24F3BD026795004212B7404C5D0199229C98DBAF15327D1A4"]
["용접기(교류)","500Amp","HR",null,{"$f":"일위대가목록!E42","v":{"v":0,"d":"0.00"}},{"v":0,"d":"0.0"},{"$f":"일위대가목록!F42","v":{"v":0,"d":"0.00"}},{"v":0,"d":"0.0"},{"$f":"일위대가목록!G42","v":{"v":0,"d":"0.00"}},{"v":0,"d":"0.0"},{"v":0,"d":"0.00"},{"v":0,"d":"0.0"},null,"57021129730EB9B017E24F3BD02679","5016E12C7048EBF01E3DC3FA33389B3E21C50C39","T","F","F",{"$nulls":18},"57021129730EB9B017E24F3BD026795016E12C7048EBF01E3DC3FA33389B3E21C50C39"]
["공통자재","일반경비, 전력","kwh",null,{"$f":"단가대비표!O69","v":{"v":0,"d":"0.00"}},{"v":0,"d":"0.0"},{"$f":"단가대비표!P69","v":{"v":0,"d":"0.00"}},{"v":0,"d":"0.0"},{"$f":"단가대비표!V69","v":{"v":87,"d":"87.00"}},{"v":0,"d":"0.0"},{"v":87,"d":"87.00"},{"v":0,"d":"0.0"},null,"57021129730EB9B017E24F3BD02679","5743612E7625F1B01AC7ED557F416E3FA36CA5","F","F","T",{"$nulls":18},"57021129730EB9B017E24F3BD026795743612E7625F1B01AC7ED557F416E3FA36CA5"]
["철공","일반공사 직종","인",null,{"$f":"단가대비표!O72","v":{"v":0,"d":"0.00"}},{"v":0,"d":"0.0"},{"$f":"단가대비표!P72","v":{"v":146509,"d":"146,509.00"}},{"v":0,"d":"0.0"},{"$f":"단가대비표!V72","v":{"v":0,"d":"0.00"}},{"v":0,"d":"0.0"},{"v":146509,"d":"146,509.00"},{"v":0,"d":"0.0"},null,"57021129730EB9B017E24F3BD02679","57D121207AA57E8018ED12DDCCCFFFC14BBAC9","F","F","T",{"$nulls":3},1,{"$nulls":14},"57021129730EB9B017E24F3BD0267957D121207AA57E8018ED12DDCCCFFFC14BBAC9"]
["보통인부","일반공사 직종","인",null,{"$f":"단가대비표!O70","v":{"v":0,"d":"0.00"}},{"v":0,"d":"0.0"},{"$f":"단가대비표!P70","v":{"v":94338,"d":"94,338.00"}},{"v":0,"d":"0.0"},{"$f":"단가대비표!V70","v":{"v":0,"d":"0.00"}},{"v":0,"d":"0.0"},{"v":94338,"d":"94,338.00"},{"v":0,"d":"0.0"},null,"57021129730EB9B017E24F3BD02679","57D121207AA57E8018ED12DDCCCFFFC14BBAC2","F","F","T",{"$nulls":3},1,{"$nulls":14},"57021129730EB9B017E24F3BD0267957D121207AA57E8018ED12DDCCCFFFC14BBAC2"]
["용접공","일반공사 직종","인",null,{"$f":"단가대비표!O74","v":{"v":0,"d":"0.00"}},{"v":0,"d":"0.0"},{"$f":"단가대비표!P74","v":{"v":143509,"d":"143,509.00"}},{"v":0,"d":"0.0"},{"$f":"단가대비표!V74","v":{"v":0,"d":"0.00"}},{"v":0,"d":"0.0"},{"v":143509,"d":"143,509.00"},{"v":0,"d":"0.0"},null,"57021129730EB9B017E24F3BD02679","57D121207AA57E8018ED12DDCCCFFFC14BBBE4","F","F","T",{"$nulls":3},1,{"$nulls":14},"57021129730EB9B017E24F3BD0267957D121207AA57E8018ED12DDCCCFFFC14BBBE4"]
["특별인부","일반공사 직종","인",null,{"$f":"단가대비표!O71","v":{"v":0,"d":"0.00"}},{"v":0,"d":"0.0"},{"$f":"단가대비표!P71","v":{"v":115272,"d":"115,272.00"}},{"v":0,"d":"0.0"},{"$f":"단가대비표!V71","v":{"v":0,"d":"0.00"}},{"v":0,"d":"0.0"},{"v":115272,"d":"115,272.00"},{"v":0,"d":"0.0"},null,"57021129730EB9B017E24F3BD02679","57D121207AA57E8018ED12DDCCCFFFC14BBAC3","F","F","T",{"$nulls":3},1,{"$nulls":14},"57021129730EB9B017E24F3BD0267957D121207AA57E8018ED12DDCCCFFFC14BBAC3"]
["공구손료","인력품의 3%","식",null,{"$f":"TRUNC(SUMIF(V264:V273, RIGHTB(O273, 1), H264:H273)*U273, 2)","v":{"v":0,"d":"0.00"}},{"v":0,"d":"0.0"},{"v":0,"d":"0.00"},{"v":0,"d":"0.0"},{"v":0,"d":"0.00"},{"v":0,"d":"0.0"},{"v":0,"d":"0.00"},{"v":0,"d":"0.0"},null,"57021129730EB9B017E24F3BD02679","561B612975325E60133FAF268C0B001","F","F","F",1,0,0.03,{"$nulls":15},"57021129730EB9B017E24F3BD02679561B612975325E60133FAF268C0B001"]
[" [ 합          계 ]",{"$nulls":4},{"$f":"TRUNC(SUMIF(N264:N273, N263, F264:F273),0)","v":{"v":0,"d":"0.0"}},null,{"$f":"TRUNC(SUMIF(N264:N273, N263, H264:H273),0)","v":{"v":0,"d":"0.0"}},null,{"$f":"TRUNC(SUMIF(N264:N273, N263, J264:J273),0)","v":{"v":0,"d":"0.0"}},null,{"$f":"F274+H274+J274","v":{"v":0,"d":"0.0"}},null,"TOTAL","TOTAL"]
[]
["잡철물설치(철재)  간단  kg  건축 14-5   ( 호표 43 )",{"$nulls":12},"57021129730EB9B017E24F3ACADBEB"]
["연강용피복아크용접봉","연강용피복아크용접봉, CR-13, Φ3.2mm","kg",null,{"$f":"단가대비표!O17","v":{"v":0,"d":"0.00"}},{"$f":"TRUNC(E277*D277,1)","v":{"v":0,"d":"0.0"}},{"$f":"단가대비표!P17","v":{"v":0,"d":"0.00"}},{"$f":"TRUNC(G277*D277,1)","v":{"v":0,"d":"0.0"}},{"$f":"단가대비표!V17","v":{"v":0,"d":"0.00"}},{"$f":"TRUNC(I277*D277,1)","v":{"v":0,"d":"0.0"}},{"$f":"TRUNC(E277+G277+I277,1)","v":{"v":0,"d":"0.00"}},{"$f":"TRUNC(F277+H277+J277,1)","v":{"v":0,"d":"0.0"}},null,"57021129730EB9B017E24F3ACADBEB","5031812C73EA7400155BAF1273890679335F1E","F","F","T",{"$nulls":18},"57021129730EB9B017E24F3ACADBEB5031812C73EA7400155BAF1273890679335F1E"]
["산소가스","기체","L",null,{"$f":"단가대비표!O14","v":{"v":2,"d":"2.00"}},{"v":0,"d":"0.0"},{"$f":"단가대비표!P14","v":{"v":0,"d":"0.00"}},{"v":0,"d":"0.0"},{"$f":"단가대비표!V14","v":{"v":0,"d":"0.00"}},{"v":0,"d":"0.0"},{"v":2,"d":"2.00"},{"v":0,"d":"0.0"},null,"57021129730EB9B017E24F3ACADBEB","50045120784057E018EBB4EBD58DAA1BA5EF39","F","F","T",{"$nulls":18},"57021129730EB9B017E24F3ACADBEB50045120784057E018EBB4EBD58DAA1BA5EF39"]
["아세틸렌가스","아세틸렌가스, kg","kg",null,{"$f":"단가대비표!O16","v":{"v":9500,"d":"9,500.00"}},{"v":0,"d":"0.0"},{"$f":"단가대비표!P16","v":{"v":0,"d":"0.00"}},{"v":0,"d":"0.0"},{"$f":"단가대비표!V16","v":{"v":0,"d":"0.00"}},{"v":0,"d":"0.0"},{"v":9500,"d":"9,500.00"},{"v":0,"d":"0.0"},null,"57021129730EB9B017E24F3ACADBEB","5004212B7404C5D0199229C98DBAF15327D1A4","F","F","T",{"$nulls":18},"57021129730EB9B017E24F3ACADBEB5004212B7404C5D0199229C98DBAF15327D1A4"]
["용접기(교류)","500Amp","HR",null,{"$f":"일위대가목록!E42","v":{"v":0,"d":"0.00"}},{"v":0,"d":"0.0"},{"$f":"일위대가목록!F42","v":{"v":0,"d":"0.00"}},{"v":0,"d":"0.0"},{"$f":"일위대가목록!G42","v":{"v":0,"d":"0.00"}},{"v":0,"d":"0.0"},{"v":0,"d":"0.00"},{"v":0,"d":"0.0"},null,"57021129730EB9B017E24F3ACADBEB","5016E12C7048EBF01E3DC3FA33389B3E21C50C39","T","F","F",{"$nulls":18},"57021129730EB9B017E24F3ACADBEB5016E12C7048EBF01E3DC3FA33389B3E21C50C39"]
["공통자재","일반경비, 전력","kwh",null,{"$f":"단가대비표!O69","v":{"v":0,"d":"0.00"}},{"v":0,"d":"0.0"},{"$f":"단가대비표!P69","v":{"v":0,"d":"0.00"}},{"v":0,"d":"0.0"},{"$f":"단가대비표!V69","v":{"v":87,"d":"87.00"}},{"v":0,"d":"0.0"},{"v":87,"d":"87.00"},{"v":0,"d":"0.0"},null,"57021129730EB9B017E24F3ACADBEB","5743612E7625F1B01AC7ED557F416E3FA36CA5","F","F","T",{"$nulls":18},"57021129730EB9B017E24F3ACADBEB5743612E7625F1B01AC7ED557F416E3FA36CA5"]
["철공","일반공사 직종","인",null,{"$f":"단가대비표!O72","v":{"v":0,"d":"0.00"}},{"v":0,"d":"0.0"},{"$f":"단가대비표!P72","v":{"v":146509,"d":"146,509.00"}},{"v":0,"d":"0.0"},{"$f":"단가대비표!V72","v":{"v":0,"d":"0.00"}},{"v":0,"d":"0.0"},{"v":146509,"d":"146,509.00"},{"v":0,"d":"0.0"},null,"57021129730EB9B017E24F3ACADBEB","57D121207AA57E8018ED12DDCCCFFFC14BBAC9","F","F","T",{"$nulls":3},1,{"$nulls":14},"57021129730EB9B017E24F3ACADBEB57D121207AA57E8018ED12DDCCCFFFC14BBAC9"]
["보통인부","일반공사 직종","인",null,{"$f":"단가대비표!O70","v":{"v":0,"d":"0.00"}},{"v":0,"d":"0.0"},{"$f":"단가대비표!P70","v":{"v":94338,"d":"94,338.00"}},{"v":0,"d":"0.0"},{"$f":"단가대비표!V70","v":{"v":0,"d":"0.00"}},{"v":0,"d":"0.0"},{"v":94338,"d":"94,338.00"},{"v":0,"d":"0.0"},null,"57021129730EB9B017E24F3ACADBEB","57D121207AA57E8018ED12DDCCCFFFC14BBAC2","F","F","T",{"$nulls":3},1,{"$nulls":14},"57021129730EB9B017E24F3ACADBEB57D121207AA57E8018ED12DDCCCFFFC14BBAC2"]
["용접공","일반공사 직종","인",null,{"$f":"단가대비표!O74","v":{"v":0,"d":"0.00"}},{"v":0,"d":"0.0"},{"$f":"단가대비표!P74","v":{"v":143509,"d":"143,509.00"}},{"v":0,"d":"0.0"},{"$f":"단가대비표!V74","v":{"v":0,"d":"0.00"}},{"v":0,"d":"0.0"},{"v":143509,"d":"143,509.00"},{"v":0,"d":"0.0"},null,"57021129730EB9B017E24F3ACADBEB","57D121207AA57E8018ED12DDCCCFFFC14BBBE4","F","F","T",{"$nulls":3},1,{"$nulls":14},"57021129730EB9B017E24F3ACADBEB57D121207AA57E8018ED12DDCCCFFFC14BBBE4"]
["특별인부","일반공사 직종","인",null,{"$f":"단가대비표!O71","v":{"v":0,"d":"0.00"}},{"v":0,"d":"0.0"},{"$f":"단가대비표!P71","v":{"v":115272,"d":"115,272.00"}},{"v":0,"d":"0.0"},{"$f":"단가대비표!V71","v":{"v":0,"d":"0.00"}},{"v":0,"d":"0.0"},{"v":115272,"d":"115,272.00"},{"v":0,"d":"0.0"},null,"57021129730EB9B017E24F3ACADBEB","57D121207AA57E8018ED12DDCCCFFFC14BBAC3","F","F","T",{"$nulls":3},1,{"$nulls":14},"57021129730EB9B017E24F3ACADBEB57D121207AA57E8018ED12DDCCCFFFC14BBAC3"]
["공구손료","인력품의 3%","식",null,{"$f":"TRUNC(SUMIF(V277:V286, RIGHTB(O286, 1), H277:H286)*U286, 2)","v":{"v":0,"d":"0.00"}},{"v":0,"d":"0.0"},{"v":0,"d":"0.00"},{"v":0,"d":"0.0"},{"v":0,"d":"0.00"},{"v":0,"d":"0.0"},{"v":0,"d":"0.00"},{"v":0,"d":"0.0"},null,"57021129730EB9B017E24F3ACADBEB","561B612975325E60133FAF268C0B001","F","F","F",1,0,0.03,{"$nulls":15},"57021129730EB9B017E24F3ACADBEB561B612975325E60133FAF268C0B001"]
[" [ 합          계 ]",{"$nulls":4},{"$f":"TRUNC(SUMIF(N277:N286, N276, F277:F286),0)","v":{"v":0,"d":"0.0"}},null,{"$f":"TRUNC(SUMIF(N277:N286, N276, H277:H286),0)","v":{"v":0,"d":"0.0"}},null,{"$f":"TRUNC(SUMIF(N277:N286, N276, J277:J286),0)","v":{"v":0,"d":"0.0"}},null,{"$f":"F287+H287+J287","v":{"v":0,"d":"0.0"}},null,"TOTAL","TOTAL"]
[]
["유성페인트(롤러칠) - 재료비  철재면, 2회 칠, 1급  M2  건축 17-3-2   ( 호표 44 )",{"$nulls":12},"570251237BC6A6E010008DC08A08C3"]
["조합페인트","조합페인트, KSM6020-1종1급, 백색","L",null,{"$f":"단가대비표!O56","v":{"v":5060,"d":"5,060.00"}},{"$f":"TRUNC(E290*D290,1)","v":{"v":0,"d":"0.0"}},{"$f":"단가대비표!P56","v":{"v":0,"d":"0.00"}},{"$f":"TRUNC(G290*D290,1)","v":{"v":0,"d":"0.0"}},{"$f":"단가대비표!V56","v":{"v":0,"d":"0.00"}},{"$f":"TRUNC(I290*D290,1)","v":{"v":0,"d":"0.0"}},{"$f":"TRUNC(E290+G290+I290,1)","v":{"v":5060,"d":"5,060.00"}},{"v":0,"d":"0.0"},null,"570251237BC6A6E010008DC08A08C3","5027412279C01B401DACD9ECD693FC93C90B61","F","F","T",{"$nulls":3},1,{"$nulls":14},"570251237BC6A6E010008DC08A08C35027412279C01B401DACD9ECD693FC93C90B61"]
["시너","시너, KSM6060, 1종","L",null,{"$f":"단가대비표!O58","v":{"v":2433.33,"d":"2,433.33"}},{"$f":"TRUNC(E291*D291,1)","v":{"v":0,"d":"0.0"}},{"$f":"단가대비표!P58","v":{"v":0,"d":"0.00"}},{"$f":"TRUNC(G291*D291,1)","v":{"v":0,"d":"0.0"}},{"$f":"단가대비표!V58","v":{"v":0,"d":"0.00"}},{"$f":"TRUNC(I291*D291,1)","v":{"v":0,"d":"0.0"}},{"v":2433.3,"d":"2,433.30"},{"v":0,"d":"0.0"},null,"570251237BC6A6E010008DC08A08C3","5027412279C01B4010ED900F7CCBCBB449D6A5","F","F","T",{"$nulls":3},1,{"$nulls":14},"570251237BC6A6E010008DC08A08C35027412279C01B4010ED900F7CCBCBB449D6A5"]
["잡재료","주재료비의 4%","식",null,{"$f":"TRUNC(SUMIF(V290:V292, RIGHTB(O292, 1), F290:F292)*U292, 2)","v":{"v":0,"d":"0.00"}},{"$f":"TRUNC(E292*D292,1)","v":{"v":0,"d":"0.0"}},{"v":0,"d":"0.00"},{"$f":"TRUNC(G292*D292,1)","v":{"v":0,"d":"0.0"}},{"v":0,"d":"0.00"},{"$f":"TRUNC(I292*D292,1)","v":{"v":0,"d":"0.0"}},{"v":0,"d":"0.00"},{"v":0,"d":"0.0"},null,"570251237BC6A6E010008DC08A08C3","561B612975325E60133FAF268C0B001","F","F","F",0,0,0.04,{"$nulls":15},"570251237BC6A6E010008DC08A08C3561B612975325E60133FAF268C0B001"]
[" [ 합          계 ]",{"$nulls":4},{"$f":"TRUNC(SUMIF(N290:N292, N289, F290:F292),0)","v":{"v":0,"d":"0.0"}},null,{"$f":"TRUNC(SUMIF(N290:N292, N289, H290:H292),0)","v":{"v":0,"d":"0.0"}},null,{"$f":"TRUNC(SUMIF(N290:N292, N289, J290:J292),0)","v":{"v":0,"d":"0.0"}},null,{"$f":"F293+H293+J293","v":{"v":0,"d":"0.0"}},null,"TOTAL","TOTAL"]
[]
["유성페인트(롤러칠) - 노무비  철재면, 2회 칠  M2  건축 17-3-2   ( 호표 45 )",{"$nulls":12},"570251237BC6A6E010008DC0885940"]
["도장공","일반공사 직종","인",null,{"$f":"단가대비표!O80","v":{"v":0,"d":"0.00"}},{"$f":"TRUNC(E296*D296,1)","v":{"v":0,"d":"0.0"}},{"$f":"단가대비표!P80","v":{"v":132552,"d":"132,552.00"}},{"$f":"TRUNC(G296*D296,1)","v":{"v":0,"d":"0.0"}},{"$f":"단가대비표!V80","v":{"v":0,"d":"0.00"}},{"$f":"TRUNC(I296*D296,1)","v":{"v":0,"d":"0.0"}},{"$f":"TRUNC(E296+G296+I296,1)","v":{"v":132552,"d":"132,552.00"}},{"v":0,"d":"0.0"},null,"570251237BC6A6E010008DC0885940","57D121207AA57E8018ED12DDCCCFFFC14BB81B","F","F","T",{"$nulls":18},"570251237BC6A6E010008DC088594057D121207AA57E8018ED12DDCCCFFFC14BB81B"]
["보통인부","일반공사 직종","인",null,{"$f":"단가대비표!O70","v":{"v":0,"d":"0.00"}},{"$f":"TRUNC(E297*D297,1)","v":{"v":0,"d":"0.0"}},{"$f":"단가대비표!P70","v":{"v":94338,"d":"94,338.00"}},{"$f":"TRUNC(G297*D297,1)","v":{"v":0,"d":"0.0"}},{"$f":"단가대비표!V70","v":{"v":0,"d":"0.00"}},{"$f":"TRUNC(I297*D297,1)","v":{"v":0,"d":"0.0"}},{"v":94338,"d":"94,338.00"},{"v":0,"d":"0.0"},null,"570251237BC6A6E010008DC0885940","57D121207AA57E8018ED12DDCCCFFFC14BBAC2","F","F","T",{"$nulls":18},"570251237BC6A6E010008DC088594057D121207AA57E8018ED12DDCCCFFFC14BBAC2"]
["도장공","일반공사 직종","인",null,{"$f":"단가대비표!O80","v":{"v":0,"d":"0.00"}},{"$f":"TRUNC(E298*D298,1)","v":{"v":0,"d":"0.0"}},{"$f":"단가대비표!P80","v":{"v":132552,"d":"132,552.00"}},{"$f":"TRUNC(G298*D298,1)","v":{"v":0,"d":"0.0"}},{"$f":"단가대비표!V80","v":{"v":0,"d":"0.00"}},{"$f":"TRUNC(I298*D298,1)","v":{"v":0,"d":"0.0"}},{"v":132552,"d":"132,552.00"},{"v":0,"d":"0.0"},null,"570251237BC6A6E010008DC0885940","57D121207AA57E8018ED12DDCCCFFFC14BB81B","F","F","T",{"$nulls":18},"570251237BC6A6E010008DC088594057D121207AA57E8018ED12DDCCCFFFC14BB81B"]
["보통인부","일반공사 직종","인",null,{"$f":"단가대비표!O70","v":{"v":0,"d":"0.00"}},{"$f":"TRUNC(E299*D299,1)","v":{"v":0,"d":"0.0"}},{"$f":"단가대비표!P70","v":{"v":94338,"d":"94,338.00"}},{"$f":"TRUNC(G299*D299,1)","v":{"v":0,"d":"0.0"}},{"$f":"단가대비표!V70","v":{"v":0,"d":"0.00"}},{"$f":"TRUNC(I299*D299,1)","v":{"v":0,"d":"0.0"}},{"v":94338,"d":"94,338.00"},{"v":0,"d":"0.0"},null,"570251237BC6A6E010008DC0885940","57D121207AA57E8018ED12DDCCCFFFC14BBAC2","F","F","T",{"$nulls":18},"570251237BC6A6E010008DC088594057D121207AA57E8018ED12DDCCCFFFC14BBAC2"]
[" [ 합          계 ]",{"$nulls":4},{"$f":"TRUNC(SUMIF(N296:N299, N295, F296:F299),0)","v":{"v":0,"d":"0.0"}},null,{"$f":"TRUNC(SUMIF(N296:N299, N295, H296:H299),0)","v":{"v":0,"d":"0.0"}},null,{"$f":"TRUNC(SUMIF(N296:N299, N295, J296:J299),0)","v":{"v":0,"d":"0.0"}},null,{"$f":"F300+H300+J300","v":{"v":0,"d":"0.0"}},null,"TOTAL","TOTAL"]
[]
["잡철물제작설치(스테인리스)-강판 가공시  간단  kg  건축 14-5   ( 호표 46 )",{"$nulls":12},"57021129730EB9B01537E9D5610EB8"]
["잡철물제작(스테인리스) -강판 가공시","간단","kg",null,{"$f":"일위대가목록!E51","v":{"v":0,"d":"0.00"}},{"$f":"TRUNC(E303*D303,1)","v":{"v":0,"d":"0.0"}},{"$f":"일위대가목록!F51","v":{"v":0,"d":"0.00"}},{"$f":"TRUNC(G303*D303,1)","v":{"v":0,"d":"0.0"}},{"$f":"일위대가목록!G51","v":{"v":0,"d":"0.00"}},{"$f":"TRUNC(I303*D303,1)","v":{"v":0,"d":"0.0"}},{"$f":"TRUNC(E303+G303+I303,1)","v":{"v":0,"d":"0.00"}},{"$f":"TRUNC(F303+H303+J303,1)","v":{"v":0,"d":"0.0"}},null,"57021129730EB9B01537E9D5610EB8","57021129730EB9B0153414911465F3","T","F","F",{"$nulls":18},"57021129730EB9B01537E9D5610EB857021129730EB9B0153414911465F3"]
["잡철물설치(스테인리스) -강판 가공시","간단","kg",null,{"$f":"일위대가목록!E52","v":{"v":0,"d":"0.00"}},{"$f":"TRUNC(E304*D304,1)","v":{"v":0,"d":"0.0"}},{"$f":"일위대가목록!F52","v":{"v":0,"d":"0.00"}},{"$f":"TRUNC(G304*D304,1)","v":{"v":0,"d":"0.0"}},{"$f":"일위대가목록!G52","v":{"v":0,"d":"0.00"}},{"$f":"TRUNC(I304*D304,1)","v":{"v":0,"d":"0.0"}},{"$f":"TRUNC(E304+G304+I304,1)","v":{"v":0,"d":"0.00"}},{"$f":"TRUNC(F304+H304+J304,1)","v":{"v":0,"d":"0.0"}},null,"57021129730EB9B01537E9D5610EB8","57021129730EB9B0153414900D733B","T","F","F",{"$nulls":18},"57021129730EB9B01537E9D5610EB857021129730EB9B0153414900D733B"]
[" [ 합          계 ]",{"$nulls":4},{"$f":"TRUNC(SUMIF(N303:N304, N302, F303:F304),0)","v":{"v":0,"d":"0.0"}},null,{"$f":"TRUNC(SUMIF(N303:N304, N302, H303:H304),0)","v":{"v":0,"d":"0.0"}},null,{"$f":"TRUNC(SUMIF(N303:N304, N302, J303:J304),0)","v":{"v":0,"d":"0.0"}},null,{"$f":"F305+H305+J305","v":{"v":0,"d":"0.0"}},null,"TOTAL","TOTAL"]
[]
["잡철물제작설치(철재) -강판 가공시  간단  kg  건축 14-5   ( 호표 47 )",{"$nulls":12},"57021129730EB9B016DE1004AA3B54"]
["잡철물제작(철재) -강판 가공시","간단","kg",null,{"$f":"일위대가목록!E53","v":{"v":0,"d":"0.00"}},{"$f":"TRUNC(E308*D308,1)","v":{"v":0,"d":"0.0"}},{"$f":"일위대가목록!F53","v":{"v":0,"d":"0.00"}},{"$f":"TRUNC(G308*D308,1)","v":{"v":0,"d":"0.0"}},{"$f":"일위대가목록!G53","v":{"v":0,"d":"0.00"}},{"$f":"TRUNC(I308*D308,1)","v":{"v":0,"d":"0.0"}},{"$f":"TRUNC(E308+G308+I308,1)","v":{"v":0,"d":"0.00"}},{"$f":"TRUNC(F308+H308+J308,1)","v":{"v":0,"d":"0.0"}},null,"57021129730EB9B016DE1004AA3B54","57021129730EB9B016DD0BDF1E556C","T","F","F",{"$nulls":18},"57021129730EB9B016DE1004AA3B5457021129730EB9B016DD0BDF1E556C"]
["잡철물설치(철재) -강판 가공시","간단","kg",null,{"$f":"일위대가목록!E54","v":{"v":0,"d":"0.00"}},{"$f":"TRUNC(E309*D309,1)","v":{"v":0,"d":"0.0"}},{"$f":"일위대가목록!F54","v":{"v":0,"d":"0.00"}},{"$f":"TRUNC(G309*D309,1)","v":{"v":0,"d":"0.0"}},{"$f":"일위대가목록!G54","v":{"v":0,"d":"0.00"}},{"$f":"TRUNC(I309*D309,1)","v":{"v":0,"d":"0.0"}},{"$f":"TRUNC(E309+G309+I309,1)","v":{"v":0,"d":"0.00"}},{"$f":"TRUNC(F309+H309+J309,1)","v":{"v":0,"d":"0.0"}},null,"57021129730EB9B016DE1004AA3B54","57021129730EB9B016DD0BDE77EB1B","T","F","F",{"$nulls":18},"57021129730EB9B016DE1004AA3B5457021129730EB9B016DD0BDE77EB1B"]
[" [ 합          계 ]",{"$nulls":4},{"$f":"TRUNC(SUMIF(N308:N309, N307, F308:F309),0)","v":{"v":0,"d":"0.0"}},null,{"$f":"TRUNC(SUMIF(N308:N309, N307, H308:H309),0)","v":{"v":0,"d":"0.0"}},null,{"$f":"TRUNC(SUMIF(N308:N309, N307, J308:J309),0)","v":{"v":0,"d":"0.0"}},null,{"$f":"F310+H310+J310","v":{"v":0,"d":"0.0"}},null,"TOTAL","TOTAL"]
[]
["잡철물제작(스테인리스) -강판 가공시  간단  kg  건축 14-5   ( 호표 48 )",{"$nulls":12},"57021129730EB9B0153414911465F3"]
["스테인리스강용피복아크용접봉","스테인리스강용피복아크용접봉, Φ3.2mm, AWSE308","kg",null,{"$f":"단가대비표!O18","v":{"v":0,"d":"0.00"}},{"$f":"TRUNC(E313*D313,1)","v":{"v":0,"d":"0.0"}},{"$f":"단가대비표!P18","v":{"v":0,"d":"0.00"}},{"$f":"TRUNC(G313*D313,1)","v":{"v":0,"d":"0.0"}},{"$f":"단가대비표!V18","v":{"v":0,"d":"0.00"}},{"$f":"TRUNC(I313*D313,1)","v":{"v":0,"d":"0.0"}},{"$f":"TRUNC(E313+G313+I313,1)","v":{"v":0,"d":"0.00"}},{"$f":"TRUNC(F313+H313+J313,1)","v":{"v":0,"d":"0.0"}},null,"57021129730EB9B0153414911465F3","5031812C73EA7400155BAF1273890679308D69","F","F","T",{"$nulls":18},"57021129730EB9B0153414911465F35031812C73EA7400155BAF1273890679308D69"]
["산소가스","기체","L",null,{"$f":"단가대비표!O14","v":{"v":2,"d":"2.00"}},{"v":0,"d":"0.0"},{"$f":"단가대비표!P14","v":{"v":0,"d":"0.00"}},{"v":0,"d":"0.0"},{"$f":"단가대비표!V14","v":{"v":0,"d":"0.00"}},{"v":0,"d":"0.0"},{"v":2,"d":"2.00"},{"v":0,"d":"0.0"},null,"57021129730EB9B0153414911465F3","50045120784057E018EBB4EBD58DAA1BA5EF39","F","F","T",{"$nulls":18},"57021129730EB9B0153414911465F350045120784057E018EBB4EBD58DAA1BA5EF39"]
["아세틸렌가스","아세틸렌가스, kg","kg",null,{"$f":"단가대비표!O16","v":{"v":9500,"d":"9,500.00"}},{"v":0,"d":"0.0"},{"$f":"단가대비표!P16","v":{"v":0,"d":"0.00"}},{"v":0,"d":"0.0"},{"$f":"단가대비표!V16","v":{"v":0,"d":"0.00"}},{"v":0,"d":"0.0"},{"v":9500,"d":"9,500.00"},{"v":0,"d":"0.0"},null,"57021129730EB9B0153414911465F3","5004212B7404C5D0199229C98DBAF15327D1A4","F","F","T",{"$nulls":18},"57021129730EB9B0153414911465F35004212B7404C5D0199229C98DBAF15327D1A4"]
["용접기(교류)","500Amp","HR",null,{"$f":"일위대가목록!E42","v":{"v":0,"d":"0.00"}},{"v":0,"d":"0.0"},{"$f":"일위대가목록!F42","v":{"v":0,"d":"0.00"}},{"v":0,"d":"0.0"},{"$f":"일위대가목록!G42","v":{"v":0,"d":"0.00"}},{"v":0,"d":"0.0"},{"v":0,"d":"0.00"},{"v":0,"d":"0.0"},null,"57021129730EB9B0153414911465F3","5016E12C7048EBF01E3DC3FA33389B3E21C50C39","T","F","F",{"$nulls":18},"57021129730EB9B0153414911465F35016E12C7048EBF01E3DC3FA33389B3E21C50C39"]
["공통자재","일반경비, 전력","kwh",null,{"$f":"단가대비표!O69","v":{"v":0,"d":"0.00"}},{"v":0,"d":"0.0"},{"$f":"단가대비표!P69","v":{"v":0,"d":"0.00"}},{"v":0,"d":"0.0"},{"$f":"단가대비표!V69","v":{"v":87,"d":"87.00"}},{"v":0,"d":"0.0"},{"v":87,"d":"87.00"},{"v":0,"d":"0.0"},null,"57021129730EB9B0153414911465F3","5743612E7625F1B01AC7ED557F416E3FA36CA5","F","F","T",{"$nulls":18},"57021129730EB9B0153414911465F35743612E7625F1B01AC7ED557F416E3FA36CA5"]
["철판공","일반공사 직종","인",null,{"$f":"단가대비표!O73","v":{"v":0,"d":"0.00"}},{"v":0,"d":"0.0"},{"$f":"단가대비표!P73","v":{"v":131821,"d":"131,821.00"}},{"v":0,"d":"0.0"},{"$f":"단가대비표!V73","v":{"v":0,"d":"0.00"}},{"v":0,"d":"0.0"},{"v":131821,"d":"131,821.00"},{"v":0,"d":"0.0"},null,"57021129730EB9B0153414911465F3","57D121207AA57E8018ED12DDCCCFFFC14BBBE6","F","F","T",{"$nulls":3},1,{"$nulls":14},"57021129730EB9B0153414911465F357D121207AA57E8018ED12DDCCCFFFC14BBBE6"]
["보통인부","일반공사 직종","인",null,{"$f":"단가대비표!O70","v":{"v":0,"d":"0.00"}},{"v":0,"d":"0.0"},{"$f":"단가대비표!P70","v":{"v":94338,"d":"94,338.00"}},{"v":0,"d":"0.0"},{"$f":"단가대비표!V70","v":{"v":0,"d":"0.00"}},{"v":0,"d":"0.0"},{"v":94338,"d":"94,338.00"},{"v":0,"d":"0.0"},null,"57021129730EB9B0153414911465F3","57D121207AA57E8018ED12DDCCCFFFC14BBAC2","F","F","T",{"$nulls":3},1,{"$nulls":14},"57021129730EB9B0153414911465F357D121207AA57E8018ED12DDCCCFFFC14BBAC2"]
["용접공","일반공사 직종","인",null,{"$f":"단가대비표!O74","v":{"v":0,"d":"0.00"}},{"v":0,"d":"0.0"},{"$f":"단가대비표!P74","v":{"v":143509,"d":"143,509.00"}},{"v":0,"d":"0.0"},{"$f":"단가대비표!V74","v":{"v":0,"d":"0.00"}},{"v":0,"d":"0.0"},{"v":143509,"d":"143,509.00"},{"v":0,"d":"0.0"},null,"57021129730EB9B0153414911465F3","57D121207AA57E8018ED12DDCCCFFFC14BBBE4","F","F","T",{"$nulls":3},1,{"$nulls":14},"57021129730EB9B0153414911465F357D121207AA57E8018ED12DDCCCFFFC14BBBE4"]
["특별인부","일반공사 직종","인",null,{"$f":"단가대비표!O71","v":{"v":0,"d":"0.00"}},{"v":0,"d":"0.0"},{"$f":"단가대비표!P71","v":{"v":115272,"d":"115,272.00"}},{"v":0,"d":"0.0"},{"$f":"단가대비표!V71","v":{"v":0,"d":"0.00"}},{"v":0,"d":"0.0"},{"v":115272,"d":"115,272.00"},{"v":0,"d":"0.0"},null,"57021129730EB9B0153414911465F3","57D121207AA57E8018ED12DDCCCFFFC14BBAC3","F","F","T",{"$nulls":3},1,{"$nulls":14},"57021129730EB9B0153414911465F357D121207AA57E8018ED12DDCCCFFFC14BBAC3"]
["공구손료","인력품의 3%","식",null,{"$f":"TRUNC(SUMIF(V313:V322, RIGHTB(O322, 1), H313:H322)*U322, 2)","v":{"v":0,"d":"0.00"}},{"v":0,"d":"0.0"},{"v":0,"d":"0.00"},{"v":0,"d":"0.0"},{"v":0,"d":"0.00"},{"v":0,"d":"0.0"},{"v":0,"d":"0.00"},{"v":0,"d":"0.0"},null,"57021129730EB9B0153414911465F3","561B612975325E60133FAF268C0B001","F","F","F",1,0,0.03,{"$nulls":15},"57021129730EB9B0153414911465F3561B612975325E60133FAF268C0B001"]
[" [ 합          계 ]",{"$nulls":4},{"$f":"TRUNC(SUMIF(N313:N322, N312, F313:F322),0)","v":{"v":0,"d":"0.0"}},null,{"$f":"TRUNC(SUMIF(N313:N322, N312, H313:H322),0)","v":{"v":0,"d":"0.0"}},null,{"$f":"TRUNC(SUMIF(N313:N322, N312, J313:J322),0)","v":{"v":0,"d":"0.0"}},null,{"$f":"F323+H323+J323","v":{"v":0,"d":"0.0"}},null,"TOTAL","TOTAL"]
[]
["잡철물설치(스테인리스) -강판 가공시  간단  kg  건축 14-5   ( 호표 49 )",{"$nulls":12},"57021129730EB9B0153414900D733B"]
["스테인리스강용피복아크용접봉","스테인리스강용피복아크용접봉, Φ3.2mm, AWSE308","kg",null,{"$f":"단가대비표!O18","v":{"v":0,"d":"0.00"}},{"$f":"TRUNC(E326*D326,1)","v":{"v":0,"d":"0.0"}},{"$f":"단가대비표!P18","v":{"v":0,"d":"0.00"}},{"$f":"TRUNC(G326*D326,1)","v":{"v":0,"d":"0.0"}},{"$f":"단가대비표!V18","v":{"v":0,"d":"0.00"}},{"$f":"TRUNC(I326*D326,1)","v":{"v":0,"d":"0.0"}},{"$f":"TRUNC(E326+G326+I326,1)","v":{"v":0,"d":"0.00"}},{"$f":"TRUNC(F326+H326+J326,1)","v":{"v":0,"d":"0.0"}},null,"57021129730EB9B0153414900D733B","5031812C73EA7400155BAF1273890679308D69","F","F","T",{"$nulls":18},"57021129730EB9B0153414900D733B5031812C73EA7400155BAF1273890679308D69"]
["산소가스","기체","L",null,{"$f":"단가대비표!O14","v":{"v":2,"d":"2.00"}},{"v":0,"d":"0.0"},{"$f":"단가대비표!P14","v":{"v":0,"d":"0.00"}},{"v":0,"d":"0.0"},{"$f":"단가대비표!V14","v":{"v":0,"d":"0.00"}},{"v":0,"d":"0.0"},{"v":2,"d":"2.00"},{"v":0,"d":"0.0"},null,"57021129730EB9B0153414900D733B","50045120784057E018EBB4EBD58DAA1BA5EF39","F","F","T",{"$nulls":18},"57021129730EB9B0153414900D733B50045120784057E018EBB4EBD58DAA1BA5EF39"]
["아세틸렌가스","아세틸렌가스, kg","kg",null,{"$f":"단가대비표!O16","v":{"v":9500,"d":"9,500.00"}},{"v":0,"d":"0.0"},{"$f":"단가대비표!P16","v":{"v":0,"d":"0.00"}},{"v":0,"d":"0.0"},{"$f":"단가대비표!V16","v":{"v":0,"d":"0.00"}},{"v":0,"d":"0.0"},{"v":9500,"d":"9,500.00"},{"v":0,"d":"0.0"},null,"57021129730EB9B0153414900D733B","5004212B7404C5D0199229C98DBAF15327D1A4","F","F","T",{"$nulls":18},"57021129730EB9B0153414900D733B5004212B7404C5D0199229C98DBAF15327D1A4"]
["용접기(교류)","500Amp","HR",null,{"$f":"일위대가목록!E42","v":{"v":0,"d":"0.00"}},{"v":0,"d":"0.0"},{"$f":"일위대가목록!F42","v":{"v":0,"d":"0.00"}},{"v":0,"d":"0.0"},{"$f":"일위대가목록!G42","v":{"v":0,"d":"0.00"}},{"v":0,"d":"0.0"},{"v":0,"d":"0.00"},{"v":0,"d":"0.0"},null,"57021129730EB9B0153414900D733B","5016E12C7048EBF01E3DC3FA33389B3E21C50C39","T","F","F",{"$nulls":18},"57021129730EB9B0153414900D733B5016E12C7048EBF01E3DC3FA33389B3E21C50C39"]
["공통자재","일반경비, 전력","kwh",null,{"$f":"단가대비표!O69","v":{"v":0,"d":"0.00"}},{"v":0,"d":"0.0"},{"$f":"단가대비표!P69","v":{"v":0,"d":"0.00"}},{"v":0,"d":"0.0"},{"$f":"단가대비표!V69","v":{"v":87,"d":"87.00"}},{"v":0,"d":"0.0"},{"v":87,"d":"87.00"},{"v":0,"d":"0.0"},null,"57021129730EB9B0153414900D733B","5743612E7625F1B01AC7ED557F416E3FA36CA5","F","F","T",{"$nulls":18},"57021129730EB9B0153414900D733B5743612E7625F1B01AC7ED557F416E3FA36CA5"]
["철판공","일반공사 직종","인",null,{"$f":"단가대비표!O73","v":{"v":0,"d":"0.00"}},{"v":0,"d":"0.0"},{"$f":"단가대비표!P73","v":{"v":131821,"d":"131,821.00"}},{"v":0,"d":"0.0"},{"$f":"단가대비표!V73","v":{"v":0,"d":"0.00"}},{"v":0,"d":"0.0"},{"v":131821,"d":"131,821.00"},{"v":0,"d":"0.0"},null,"57021129730EB9B0153414900D733B","57D121207AA57E8018ED12DDCCCFFFC14BBBE6","F","F","T",{"$nulls":3},1,{"$nulls":14},"57021129730EB9B0153414900D733B57D121207AA57E8018ED12DDCCCFFFC14BBBE6"]
["보통인부","일반공사 직종","인",null,{"$f":"단가대비표!O70","v":{"v":0,"d":"0.00"}},{"v":0,"d":"0.0"},{"$f":"단가대비표!P70","v":{"v":94338,"d":"94,338.00"}},{"v":0,"d":"0.0"},{"$f":"단가대비표!V70","v":{"v":0,"d":"0.00"}},{"v":0,"d":"0.0"},{"v":94338,"d":"94,338.00"},{"v":0,"d":"0.0"},null,"57021129730EB9B0153414900D733B","57D121207AA57E8018ED12DDCCCFFFC14BBAC2","F","F","T",{"$nulls":3},1,{"$nulls":14},"57021129730EB9B0153414900D733B57D121207AA57E8018ED12DDCCCFFFC14BBAC2"]
["용접공","일반공사 직종","인",null,{"$f":"단가대비표!O74","v":{"v":0,"d":"0.00"}},{"v":0,"d":"0.0"},{"$f":"단가대비표!P74","v":{"v":143509,"d":"143,509.00"}},{"v":0,"d":"0.0"},{"$f":"단가대비표!V74","v":{"v":0,"d":"0.00"}},{"v":0,"d":"0.0"},{"v":143509,"d":"143,509.00"},{"v":0,"d":"0.0"},null,"57021129730EB9B0153414900D733B","57D121207AA57E8018ED12DDCCCFFFC14BBBE4","F","F","T",{"$nulls":3},1,{"$nulls":14},"57021129730EB9B0153414900D733B57D121207AA57E8018ED12DDCCCFFFC14BBBE4"]
["특별인부","일반공사 직종","인",null,{"$f":"단가대비표!O71","v":{"v":0,"d":"0.00"}},{"v":0,"d":"0.0"},{"$f":"단가대비표!P71","v":{"v":115272,"d":"115,272.00"}},{"v":0,"d":"0.0"},{"$f":"단가대비표!V71","v":{"v":0,"d":"0.00"}},{"v":0,"d":"0.0"},{"v":115272,"d":"115,272.00"},{"v":0,"d":"0.0"},null,"57021129730EB9B0153414900D733B","57D121207AA57E8018ED12DDCCCFFFC14BBAC3","F","F","T",{"$nulls":3},1,{"$nulls":14},"57021129730EB9B0153414900D733B57D121207AA57E8018ED12DDCCCFFFC14BBAC3"]
["공구손료","인력품의 3%","식",null,{"$f":"TRUNC(SUMIF(V326:V335, RIGHTB(O335, 1), H326:H335)*U335, 2)","v":{"v":0,"d":"0.00"}},{"v":0,"d":"0.0"},{"v":0,"d":"0.00"},{"v":0,"d":"0.0"},{"v":0,"d":"0.00"},{"v":0,"d":"0.0"},{"v":0,"d":"0.00"},{"v":0,"d":"0.0"},null,"57021129730EB9B0153414900D733B","561B612975325E60133FAF268C0B001","F","F","F",1,0,0.03,{"$nulls":15},"57021129730EB9B0153414900D733B561B612975325E60133FAF268C0B001"]
[" [ 합          계 ]",{"$nulls":4},{"$f":"TRUNC(SUMIF(N326:N335, N325, F326:F335),0)","v":{"v":0,"d":"0.0"}},null,{"$f":"TRUNC(SUMIF(N326:N335, N325, H326:H335),0)","v":{"v":0,"d":"0.0"}},null,{"$f":"TRUNC(SUMIF(N326:N335, N325, J326:J335),0)","v":{"v":0,"d":"0.0"}},null,{"$f":"F336+H336+J336","v":{"v":0,"d":"0.0"}},null,"TOTAL","TOTAL"]
[]
["잡철물제작(철재) -강판 가공시  간단  kg  건축 14-5   ( 호표 50 )",{"$nulls":12},"57021129730EB9B016DD0BDF1E556C"]
["연강용피복아크용접봉","연강용피복아크용접봉, CR-13, Φ3.2mm","kg",null,{"$f":"단가대비표!O17","v":{"v":0,"d":"0.00"}},{"$f":"TRUNC(E339*D339,1)","v":{"v":0,"d":"0.0"}},{"$f":"단가대비표!P17","v":{"v":0,"d":"0.00"}},{"$f":"TRUNC(G339*D339,1)","v":{"v":0,"d":"0.0"}},{"$f":"단가대비표!V17","v":{"v":0,"d":"0.00"}},{"$f":"TRUNC(I339*D339,1)","v":{"v":0,"d":"0.0"}},{"$f":"TRUNC(E339+G339+I339,1)","v":{"v":0,"d":"0.00"}},{"$f":"TRUNC(F339+H339+J339,1)","v":{"v":0,"d":"0.0"}},null,"57021129730EB9B016DD0BDF1E556C","5031812C73EA7400155BAF1273890679335F1E","F","F","T",{"$nulls":18},"57021129730EB9B016DD0BDF1E556C5031812C73EA7400155BAF1273890679335F1E"]
["산소가스","기체","L",null,{"$f":"단가대비표!O14","v":{"v":2,"d":"2.00"}},{"v":0,"d":"0.0"},{"$f":"단가대비표!P14","v":{"v":0,"d":"0.00"}},{"v":0,"d":"0.0"},{"$f":"단가대비표!V14","v":{"v":0,"d":"0.00"}},{"v":0,"d":"0.0"},{"v":2,"d":"2.00"},{"v":0,"d":"0.0"},null,"57021129730EB9B016DD0BDF1E556C","50045120784057E018EBB4EBD58DAA1BA5EF39","F","F","T",{"$nulls":18},"57021129730EB9B016DD0BDF1E556C50045120784057E018EBB4EBD58DAA1BA5EF39"]
["아세틸렌가스","아세틸렌가스, kg","kg",null,{"$f":"단가대비표!O16","v":{"v":9500,"d":"9,500.00"}},{"v":0,"d":"0.0"},{"$f":"단가대비표!P16","v":{"v":0,"d":"0.00"}},{"v":0,"d":"0.0"},{"$f":"단가대비표!V16","v":{"v":0,"d":"0.00"}},{"v":0,"d":"0.0"},{"v":9500,"d":"9,500.00"},{"v":0,"d":"0.0"},null,"57021129730EB9B016DD0BDF1E556C","5004212B7404C5D0199229C98DBAF15327D1A4","F","F","T",{"$nulls":18},"57021129730EB9B016DD0BDF1E556C5004212B7404C5D0199229C98DBAF15327D1A4"]
["용접기(교류)","500Amp","HR",null,{"$f":"일위대가목록!E42","v":{"v":0,"d":"0.00"}},{"v":0,"d":"0.0"},{"$f":"일위대가목록!F42","v":{"v":0,"d":"0.00"}},{"v":0,"d":"0.0"},{"$f":"일위대가목록!G42","v":{"v":0,"d":"0.00"}},{"v":0,"d":"0.0"},{"v":0,"d":"0.00"},{"v":0,"d":"0.0"},null,"57021129730EB9B016DD0BDF1E556C","5016E12C7048EBF01E3DC3FA33389B3E21C50C39","T","F","F",{"$nulls":18},"57021129730EB9B016DD0BDF1E556C5016E12C7048EBF01E3DC3FA33389B3E21C50C39"]
["공통자재","일반경비, 전력","kwh",null,{"$f":"단가대비표!O69","v":{"v":0,"d":"0.00"}},{"v":0,"d":"0.0"},{"$f":"단가대비표!P69","v":{"v":0,"d":"0.00"}},{"v":0,"d":"0.0"},{"$f":"단가대비표!V69","v":{"v":87,"d":"87.00"}},{"v":0,"d":"0.0"},{"v":87,"d":"87.00"},{"v":0,"d":"0.0"},null,"57021129730EB9B016DD0BDF1E556C","5743612E7625F1B01AC7ED557F416E3FA36CA5","F","F","T",{"$nulls":18},"57021129730EB9B016DD0BDF1E556C5743612E7625F1B01AC7ED557F416E3FA36CA5"]
["철판공","일반공사 직종","인",null,{"$f":"단가대비표!O73","v":{"v":0,"d":"0.00"}},{"v":0,"d":"0.0"},{"$f":"단가대비표!P73","v":{"v":131821,"d":"131,821.00"}},{"v":0,"d":"0.0"},{"$f":"단가대비표!V73","v":{"v":0,"d":"0.00"}},{"v":0,"d":"0.0"},{"v":131821,"d":"131,821.00"},{"v":0,"d":"0.0"},null,"57021129730EB9B016DD0BDF1E556C","57D121207AA57E8018ED12DDCCCFFFC14BBBE6","F","F","T",{"$nulls":3},1,{"$nulls":14},"57021129730EB9B016DD0BDF1E556C57D121207AA57E8018ED12DDCCCFFFC14BBBE6"]
["보통인부","일반공사 직종","인",null,{"$f":"단가대비표!O70","v":{"v":0,"d":"0.00"}},{"v":0,"d":"0.0"},{"$f":"단가대비표!P70","v":{"v":94338,"d":"94,338.00"}},{"v":0,"d":"0.0"},{"$f":"단가대비표!V70","v":{"v":0,"d":"0.00"}},{"v":0,"d":"0.0"},{"v":94338,"d":"94,338.00"},{"v":0,"d":"0.0"},null,"57021129730EB9B016DD0BDF1E556C","57D121207AA57E8018ED12DDCCCFFFC14BBAC2","F","F","T",{"$nulls":3},1,{"$nulls":14},"57021129730EB9B016DD0BDF1E556C57D121207AA57E8018ED12DDCCCFFFC14BBAC2"]
["용접공","일반공사 직종","인",null,{"$f":"단가대비표!O74","v":{"v":0,"d":"0.00"}},{"v":0,"d":"0.0"},{"$f":"단가대비표!P74","v":{"v":143509,"d":"143,509.00"}},{"v":0,"d":"0.0"},{"$f":"단가대비표!V74","v":{"v":0,"d":"0.00"}},{"v":0,"d":"0.0"},{"v":143509,"d":"143,509.00"},{"v":0,"d":"0.0"},null,"57021129730EB9B016DD0BDF1E556C","57D121207AA57E8018ED12DDCCCFFFC14BBBE4","F","F","T",{"$nulls":3},1,{"$nulls":14},"57021129730EB9B016DD0BDF1E556C57D121207AA57E8018ED12DDCCCFFFC14BBBE4"]
["특별인부","일반공사 직종","인",null,{"$f":"단가대비표!O71","v":{"v":0,"d":"0.00"}},{"v":0,"d":"0.0"},{"$f":"단가대비표!P71","v":{"v":115272,"d":"115,272.00"}},{"v":0,"d":"0.0"},{"$f":"단가대비표!V71","v":{"v":0,"d":"0.00"}},{"v":0,"d":"0.0"},{"v":115272,"d":"115,272.00"},{"v":0,"d":"0.0"},null,"57021129730EB9B016DD0BDF1E556C","57D121207AA57E8018ED12DDCCCFFFC14BBAC3","F","F","T",{"$nulls":3},1,{"$nulls":14},"57021129730EB9B016DD0BDF1E556C57D121207AA57E8018ED12DDCCCFFFC14BBAC3"]
["공구손료","인력품의 3%","식",null,{"$f":"TRUNC(SUMIF(V339:V348, RIGHTB(O348, 1), H339:H348)*U348, 2)","v":{"v":0,"d":"0.00"}},{"v":0,"d":"0.0"},{"v":0,"d":"0.00"},{"v":0,"d":"0.0"},{"v":0,"d":"0.00"},{"v":0,"d":"0.0"},{"v":0,"d":"0.00"},{"v":0,"d":"0.0"},null,"57021129730EB9B016DD0BDF1E556C","561B612975325E60133FAF268C0B001","F","F","F",1,0,0.03,{"$nulls":15},"57021129730EB9B016DD0BDF1E556C561B612975325E60133FAF268C0B001"]
[" [ 합          계 ]",{"$nulls":4},{"$f":"TRUNC(SUMIF(N339:N348, N338, F339:F348),0)","v":{"v":0,"d":"0.0"}},null,{"$f":"TRUNC(SUMIF(N339:N348, N338, H339:H348),0)","v":{"v":0,"d":"0.0"}},null,{"$f":"TRUNC(SUMIF(N339:N348, N338, J339:J348),0)","v":{"v":0,"d":"0.0"}},null,{"$f":"F349+H349+J349","v":{"v":0,"d":"0.0"}},null,"TOTAL","TOTAL"]
[]
["잡철물설치(철재) -강판 가공시  간단  kg  건축 14-5   ( 호표 51 )",{"$nulls":12},"57021129730EB9B016DD0BDE77EB1B"]
["연강용피복아크용접봉","연강용피복아크용접봉, CR-13, Φ3.2mm","kg",null,{"$f":"단가대비표!O17","v":{"v":0,"d":"0.00"}},{"$f":"TRUNC(E352*D352,1)","v":{"v":0,"d":"0.0"}},{"$f":"단가대비표!P17","v":{"v":0,"d":"0.00"}},{"$f":"TRUNC(G352*D352,1)","v":{"v":0,"d":"0.0"}},{"$f":"단가대비표!V17","v":{"v":0,"d":"0.00"}},{"$f":"TRUNC(I352*D352,1)","v":{"v":0,"d":"0.0"}},{"$f":"TRUNC(E352+G352+I352,1)","v":{"v":0,"d":"0.00"}},{"$f":"TRUNC(F352+H352+J352,1)","v":{"v":0,"d":"0.0"}},null,"57021129730EB9B016DD0BDE77EB1B","5031812C73EA7400155BAF1273890679335F1E","F","F","T",{"$nulls":18},"57021129730EB9B016DD0BDE77EB1B5031812C73EA7400155BAF1273890679335F1E"]
["산소가스","기체","L",null,{"$f":"단가대비표!O14","v":{"v":2,"d":"2.00"}},{"v":0,"d":"0.0"},{"$f":"단가대비표!P14","v":{"v":0,"d":"0.00"}},{"v":0,"d":"0.0"},{"$f":"단가대비표!V14","v":{"v":0,"d":"0.00"}},{"v":0,"d":"0.0"},{"v":2,"d":"2.00"},{"v":0,"d":"0.0"},null,"57021129730EB9B016DD0BDE77EB1B","50045120784057E018EBB4EBD58DAA1BA5EF39","F","F","T",{"$nulls":18},"57021129730EB9B016DD0BDE77EB1B50045120784057E018EBB4EBD58DAA1BA5EF39"]
["아세틸렌가스","아세틸렌가스, kg","kg",null,{"$f":"단가대비표!O16","v":{"v":9500,"d":"9,500.00"}},{"v":0,"d":"0.0"},{"$f":"단가대비표!P16","v":{"v":0,"d":"0.00"}},{"v":0,"d":"0.0"},{"$f":"단가대비표!V16","v":{"v":0,"d":"0.00"}},{"v":0,"d":"0.0"},{"v":9500,"d":"9,500.00"},{"v":0,"d":"0.0"},null,"57021129730EB9B016DD0BDE77EB1B","5004212B7404C5D0199229C98DBAF15327D1A4","F","F","T",{"$nulls":18},"57021129730EB9B016DD0BDE77EB1B5004212B7404C5D0199229C98DBAF15327D1A4"]
["용접기(교류)","500Amp","HR",null,{"$f":"일위대가목록!E42","v":{"v":0,"d":"0.00"}},{"v":0,"d":"0.0"},{"$f":"일위대가목록!F42","v":{"v":0,"d":"0.00"}},{"v":0,"d":"0.0"},{"$f":"일위대가목록!G42","v":{"v":0,"d":"0.00"}},{"v":0,"d":"0.0"},{"v":0,"d":"0.00"},{"v":0,"d":"0.0"},null,"57021129730EB9B016DD0BDE77EB1B","5016E12C7048EBF01E3DC3FA33389B3E21C50C39","T","F","F",{"$nulls":18},"57021129730EB9B016DD0BDE77EB1B5016E12C7048EBF01E3DC3FA33389B3E21C50C39"]
["공통자재","일반경비, 전력","kwh",null,{"$f":"단가대비표!O69","v":{"v":0,"d":"0.00"}},{"v":0,"d":"0.0"},{"$f":"단가대비표!P69","v":{"v":0,"d":"0.00"}},{"v":0,"d":"0.0"},{"$f":"단가대비표!V69","v":{"v":87,"d":"87.00"}},{"v":0,"d":"0.0"},{"v":87,"d":"87.00"},{"v":0,"d":"0.0"},null,"57021129730EB9B016DD0BDE77EB1B","5743612E7625F1B01AC7ED557F416E3FA36CA5","F","F","T",{"$nulls":18},"57021129730EB9B016DD0BDE77EB1B5743612E7625F1B01AC7ED557F416E3FA36CA5"]
["철판공","일반공사 직종","인",null,{"$f":"단가대비표!O73","v":{"v":0,"d":"0.00"}},{"v":0,"d":"0.0"},{"$f":"단가대비표!P73","v":{"v":131821,"d":"131,821.00"}},{"v":0,"d":"0.0"},{"$f":"단가대비표!V73","v":{"v":0,"d":"0.00"}},{"v":0,"d":"0.0"},{"v":131821,"d":"131,821.00"},{"v":0,"d":"0.0"},null,"57021129730EB9B016DD0BDE77EB1B","57D121207AA57E8018ED12DDCCCFFFC14BBBE6","F","F","T",{"$nulls":3},1,{"$nulls":14},"57021129730EB9B016DD0BDE77EB1B57D121207AA57E8018ED12DDCCCFFFC14BBBE6"]
["보통인부","일반공사 직종","인",null,{"$f":"단가대비표!O70","v":{"v":0,"d":"0.00"}},{"v":0,"d":"0.0"},{"$f":"단가대비표!P70","v":{"v":94338,"d":"94,338.00"}},{"v":0,"d":"0.0"},{"$f":"단가대비표!V70","v":{"v":0,"d":"0.00"}},{"v":0,"d":"0.0"},{"v":94338,"d":"94,338.00"},{"v":0,"d":"0.0"},null,"57021129730EB9B016DD0BDE77EB1B","57D121207AA57E8018ED12DDCCCFFFC14BBAC2","F","F","T",{"$nulls":3},1,{"$nulls":14},"57021129730EB9B016DD0BDE77EB1B57D121207AA57E8018ED12DDCCCFFFC14BBAC2"]
["용접공","일반공사 직종","인",null,{"$f":"단가대비표!O74","v":{"v":0,"d":"0.00"}},{"v":0,"d":"0.0"},{"$f":"단가대비표!P74","v":{"v":143509,"d":"143,509.00"}},{"v":0,"d":"0.0"},{"$f":"단가대비표!V74","v":{"v":0,"d":"0.00"}},{"v":0,"d":"0.0"},{"v":143509,"d":"143,509.00"},{"v":0,"d":"0.0"},null,"57021129730EB9B016DD0BDE77EB1B","57D121207AA57E8018ED12DDCCCFFFC14BBBE4","F","F","T",{"$nulls":3},1,{"$nulls":14},"57021129730EB9B016DD0BDE77EB1B57D121207AA57E8018ED12DDCCCFFFC14BBBE4"]
["특별인부","일반공사 직종","인",null,{"$f":"단가대비표!O71","v":{"v":0,"d":"0.00"}},{"v":0,"d":"0.0"},{"$f":"단가대비표!P71","v":{"v":115272,"d":"115,272.00"}},{"v":0,"d":"0.0"},{"$f":"단가대비표!V71","v":{"v":0,"d":"0.00"}},{"v":0,"d":"0.0"},{"v":115272,"d":"115,272.00"},{"v":0,"d":"0.0"},null,"57021129730EB9B016DD0BDE77EB1B","57D121207AA57E8018ED12DDCCCFFFC14BBAC3","F","F","T",{"$nulls":3},1,{"$nulls":14},"57021129730EB9B016DD0BDE77EB1B57D121207AA57E8018ED12DDCCCFFFC14BBAC3"]
["공구손료","인력품의 3%","식",null,{"$f":"TRUNC(SUMIF(V352:V361, RIGHTB(O361, 1), H352:H361)*U361, 2)","v":{"v":0,"d":"0.00"}},{"v":0,"d":"0.0"},{"v":0,"d":"0.00"},{"v":0,"d":"0.0"},{"v":0,"d":"0.00"},{"v":0,"d":"0.0"},{"v":0,"d":"0.00"},{"v":0,"d":"0.0"},null,"57021129730EB9B016DD0BDE77EB1B","561B612975325E60133FAF268C0B001","F","F","F",1,0,0.03,{"$nulls":15},"57021129730EB9B016DD0BDE77EB1B561B612975325E60133FAF268C0B001"]
[" [ 합          계 ]",{"$nulls":4},{"$f":"TRUNC(SUMIF(N352:N361, N351, F352:F361),0)","v":{"v":0,"d":"0.0"}},null,{"$f":"TRUNC(SUMIF(N352:N361, N351, H352:H361),0)","v":{"v":0,"d":"0.0"}},null,{"$f":"TRUNC(SUMIF(N352:N361, N351, J352:J361),0)","v":{"v":0,"d":"0.0"}},null,{"$f":"F362+H362+J362","v":{"v":0,"d":"0.0"}},null,"TOTAL","TOTAL"]
[]
["녹막이페인트(붓칠)  철재면, 1회, 1종  M2  건축 17-4   ( 호표 52 )",{"$nulls":12},"5702512378734F701A4BD054533C6F"]
["녹막이페인트(붓칠) - 재료비","철재면, 1회, 1종","M2",null,{"$f":"일위대가목록!E57","v":{"v":0,"d":"0.00"}},{"$f":"TRUNC(E365*D365,1)","v":{"v":0,"d":"0.0"}},{"$f":"일위대가목록!F57","v":{"v":0,"d":"0.00"}},{"$f":"TRUNC(G365*D365,1)","v":{"v":0,"d":"0.0"}},{"$f":"일위대가목록!G57","v":{"v":0,"d":"0.00"}},{"$f":"TRUNC(I365*D365,1)","v":{"v":0,"d":"0.0"}},{"$f":"TRUNC(E365+G365+I365,1)","v":{"v":0,"d":"0.00"}},{"$f":"TRUNC(F365+H365+J365,1)","v":{"v":0,"d":"0.0"}},null,"5702512378734F701A4BD054533C6F","5702512378734F701A4ACA090783D2","T","F","F",{"$nulls":18},"5702512378734F701A4BD054533C6F5702512378734F701A4ACA090783D2"]
["녹막이페인트(붓칠) - 노무비","철재면, 1회 칠","M2",null,{"$f":"일위대가목록!E58","v":{"v":0,"d":"0.00"}},{"$f":"TRUNC(E366*D366,1)","v":{"v":0,"d":"0.0"}},{"$f":"일위대가목록!F58","v":{"v":0,"d":"0.00"}},{"$f":"TRUNC(G366*D366,1)","v":{"v":0,"d":"0.0"}},{"$f":"일위대가목록!G58","v":{"v":0,"d":"0.00"}},{"$f":"TRUNC(I366*D366,1)","v":{"v":0,"d":"0.0"}},{"$f":"TRUNC(E366+G366+I366,1)","v":{"v":0,"d":"0.00"}},{"$f":"TRUNC(F366+H366+J366,1)","v":{"v":0,"d":"0.0"}},null,"5702512378734F701A4BD054533C6F","5702512378734F701A4ACB1078D38B","T","F","F",{"$nulls":18},"5702512378734F701A4BD054533C6F5702512378734F701A4ACB1078D38B"]
[" [ 합          계 ]",{"$nulls":4},{"$f":"TRUNC(SUMIF(N365:N366, N364, F365:F366),0)","v":{"v":0,"d":"0.0"}},null,{"$f":"TRUNC(SUMIF(N365:N366, N364, H365:H366),0)","v":{"v":0,"d":"0.0"}},null,{"$f":"TRUNC(SUMIF(N365:N366, N364, J365:J366),0)","v":{"v":0,"d":"0.0"}},null,{"$f":"F367+H367+J367","v":{"v":0,"d":"0.0"}},null,"TOTAL","TOTAL"]
[]
["유성페인트(붓칠)  철재면, 2회. 1급  M2  건축 17-3-1   ( 호표 53 )",{"$nulls":12},"570251237BC6A6E010050C420835F9"]
["유성페인트(붓칠) - 재료비","철재면, 2회 칠, 1급","M2",null,{"$f":"일위대가목록!E59","v":{"v":0,"d":"0.00"}},{"$f":"TRUNC(E370*D370,1)","v":{"v":0,"d":"0.0"}},{"$f":"일위대가목록!F59","v":{"v":0,"d":"0.00"}},{"$f":"TRUNC(G370*D370,1)","v":{"v":0,"d":"0.0"}},{"$f":"일위대가목록!G59","v":{"v":0,"d":"0.00"}},{"$f":"TRUNC(I370*D370,1)","v":{"v":0,"d":"0.0"}},{"$f":"TRUNC(E370+G370+I370,1)","v":{"v":0,"d":"0.00"}},{"$f":"TRUNC(F370+H370+J370,1)","v":{"v":0,"d":"0.0"}},null,"570251237BC6A6E010050C420835F9","570251237BC6A6E010050C46E19618","T","F","F",{"$nulls":18},"570251237BC6A6E010050C420835F9570251237BC6A6E010050C46E19618"]
["유성페인트(붓칠) - 노무비","철재면, 2회 칠","M2",null,{"$f":"일위대가목록!E60","v":{"v":0,"d":"0.00"}},{"$f":"TRUNC(E371*D371,1)","v":{"v":0,"d":"0.0"}},{"$f":"일위대가목록!F60","v":{"v":0,"d":"0.00"}},{"$f":"TRUNC(G371*D371,1)","v":{"v":0,"d":"0.0"}},{"$f":"일위대가목록!G60","v":{"v":0,"d":"0.00"}},{"$f":"TRUNC(I371*D371,1)","v":{"v":0,"d":"0.0"}},{"$f":"TRUNC(E371+G371+I371,1)","v":{"v":0,"d":"0.00"}},{"$f":"TRUNC(F371+H371+J371,1)","v":{"v":0,"d":"0.0"}},null,"570251237BC6A6E010050C420835F9","570251237BC6A6E010050C46E34748","T","F","F",{"$nulls":18},"570251237BC6A6E010050C420835F9570251237BC6A6E010050C46E34748"]
[" [ 합          계 ]",{"$nulls":4},{"$f":"TRUNC(SUMIF(N370:N371, N369, F370:F371),0)","v":{"v":0,"d":"0.0"}},null,{"$f":"TRUNC(SUMIF(N370:N371, N369, H370:H371),0)","v":{"v":0,"d":"0.0"}},null,{"$f":"TRUNC(SUMIF(N370:N371, N369, J370:J371),0)","v":{"v":0,"d":"0.0"}},null,{"$f":"F372+H372+J372","v":{"v":0,"d":"0.0"}},null,"TOTAL","TOTAL"]
[]
["녹막이페인트(붓칠) - 재료비  철재면, 1회, 1종  M2  건축 17-4   ( 호표 54 )",{"$nulls":12},"5702512378734F701A4ACA090783D2"]
["방청페인트","방청페인트, KSM6030-1종1류, 광명단페인트","L",null,{"$f":"단가대비표!O55","v":{"v":9040,"d":"9,040.00"}},{"$f":"TRUNC(E375*D375,1)","v":{"v":0,"d":"0.0"}},{"$f":"단가대비표!P55","v":{"v":0,"d":"0.00"}},{"$f":"TRUNC(G375*D375,1)","v":{"v":0,"d":"0.0"}},{"$f":"단가대비표!V55","v":{"v":0,"d":"0.00"}},{"$f":"TRUNC(I375*D375,1)","v":{"v":0,"d":"0.0"}},{"$f":"TRUNC(E375+G375+I375,1)","v":{"v":9040,"d":"9,040.00"}},{"v":0,"d":"0.0"},null,"5702512378734F701A4ACA090783D2","5027412279C01B401DACDD4BE20297736EB7A8","F","F","T",{"$nulls":3},1,{"$nulls":14},"5702512378734F701A4ACA090783D25027412279C01B401DACDD4BE20297736EB7A8"]
["시너","시너, KSM6060, 1종","L",null,{"$f":"단가대비표!O58","v":{"v":2433.33,"d":"2,433.33"}},{"$f":"TRUNC(E376*D376,1)","v":{"v":0,"d":"0.0"}},{"$f":"단가대비표!P58","v":{"v":0,"d":"0.00"}},{"$f":"TRUNC(G376*D376,1)","v":{"v":0,"d":"0.0"}},{"$f":"단가대비표!V58","v":{"v":0,"d":"0.00"}},{"$f":"TRUNC(I376*D376,1)","v":{"v":0,"d":"0.0"}},{"v":2433.3,"d":"2,433.30"},{"v":0,"d":"0.0"},null,"5702512378734F701A4ACA090783D2","5027412279C01B4010ED900F7CCBCBB449D6A5","F","F","T",{"$nulls":3},1,{"$nulls":14},"5702512378734F701A4ACA090783D25027412279C01B4010ED900F7CCBCBB449D6A5"]
["잡재료","주재료비의 3%","식",null,{"$f":"TRUNC(SUMIF(V375:V377, RIGHTB(O377, 1), F375:F377)*U377, 2)","v":{"v":0,"d":"0.00"}},{"$f":"TRUNC(E377*D377,1)","v":{"v":0,"d":"0.0"}},{"v":0,"d":"0.00"},{"$f":"TRUNC(G377*D377,1)","v":{"v":0,"d":"0.0"}},{"v":0,"d":"0.00"},{"$f":"TRUNC(I377*D377,1)","v":{"v":0,"d":"0.0"}},{"v":0,"d":"0.00"},{"v":0,"d":"0.0"},null,"5702512378734F701A4ACA090783D2","561B612975325E60133FAF268C0B001","F","F","F",0,0,0.03,{"$nulls":15},"5702512378734F701A4ACA090783D2561B612975325E60133FAF268C0B001"]
[" [ 합          계 ]",{"$nulls":4},{"$f":"TRUNC(SUMIF(N375:N377, N374, F375:F377),0)","v":{"v":0,"d":"0.0"}},null,{"$f":"TRUNC(SUMIF(N375:N377, N374, H375:H377),0)","v":{"v":0,"d":"0.0"}},null,{"$f":"TRUNC(SUMIF(N375:N377, N374, J375:J377),0)","v":{"v":0,"d":"0.0"}},null,{"$f":"F378+H378+J378","v":{"v":0,"d":"0.0"}},null,"TOTAL","TOTAL"]
[]
["녹막이페인트(붓칠) - 노무비  철재면, 1회 칠  M2  건축 17-4   ( 호표 55 )",{"$nulls":12},"5702512378734F701A4ACB1078D38B"]
["도장공","일반공사 직종","인",null,{"$f":"단가대비표!O80","v":{"v":0,"d":"0.00"}},{"$f":"TRUNC(E381*D381,1)","v":{"v":0,"d":"0.0"}},{"$f":"단가대비표!P80","v":{"v":132552,"d":"132,552.00"}},{"$f":"TRUNC(G381*D381,1)","v":{"v":0,"d":"0.0"}},{"$f":"단가대비표!V80","v":{"v":0,"d":"0.00"}},{"$f":"TRUNC(I381*D381,1)","v":{"v":0,"d":"0.0"}},{"$f":"TRUNC(E381+G381+I381,1)","v":{"v":132552,"d":"132,552.00"}},{"$f":"TRUNC(F381+H381+J381,1)","v":{"v":0,"d":"0.0"}},null,"5702512378734F701A4ACB1078D38B","57D121207AA57E8018ED12DDCCCFFFC14BB81B","F","F","T",{"$nulls":18},"5702512378734F701A4ACB1078D38B57D121207AA57E8018ED12DDCCCFFFC14BB81B"]
["보통인부","일반공사 직종","인",null,{"$f":"단가대비표!O70","v":{"v":0,"d":"0.00"}},{"$f":"TRUNC(E382*D382,1)","v":{"v":0,"d":"0.0"}},{"$f":"단가대비표!P70","v":{"v":94338,"d":"94,338.00"}},{"$f":"TRUNC(G382*D382,1)","v":{"v":0,"d":"0.0"}},{"$f":"단가대비표!V70","v":{"v":0,"d":"0.00"}},{"$f":"TRUNC(I382*D382,1)","v":{"v":0,"d":"0.0"}},{"$f":"TRUNC(E382+G382+I382,1)","v":{"v":94338,"d":"94,338.00"}},{"$f":"TRUNC(F382+H382+J382,1)","v":{"v":0,"d":"0.0"}},null,"5702512378734F701A4ACB1078D38B","57D121207AA57E8018ED12DDCCCFFFC14BBAC2","F","F","T",{"$nulls":18},"5702512378734F701A4ACB1078D38B57D121207AA57E8018ED12DDCCCFFFC14BBAC2"]
[" [ 합          계 ]",{"$nulls":4},{"$f":"TRUNC(SUMIF(N381:N382, N380, F381:F382),0)","v":{"v":0,"d":"0.0"}},null,{"$f":"TRUNC(SUMIF(N381:N382, N380, H381:H382),0)","v":{"v":0,"d":"0.0"}},null,{"$f":"TRUNC(SUMIF(N381:N382, N380, J381:J382),0)","v":{"v":0,"d":"0.0"}},null,{"$f":"F383+H383+J383","v":{"v":0,"d":"0.0"}},null,"TOTAL","TOTAL"]
[]
["유성페인트(붓칠) - 재료비  철재면, 2회 칠, 1급  M2  건축 17-3-1   ( 호표 56 )",{"$nulls":12},"570251237BC6A6E010050C46E19618"]
["조합페인트","조합페인트, KSM6020-1종1급, 백색","L",null,{"$f":"단가대비표!O56","v":{"v":5060,"d":"5,060.00"}},{"$f":"TRUNC(E386*D386,1)","v":{"v":0,"d":"0.0"}},{"$f":"단가대비표!P56","v":{"v":0,"d":"0.00"}},{"$f":"TRUNC(G386*D386,1)","v":{"v":0,"d":"0.0"}},{"$f":"단가대비표!V56","v":{"v":0,"d":"0.00"}},{"$f":"TRUNC(I386*D386,1)","v":{"v":0,"d":"0.0"}},{"$f":"TRUNC(E386+G386+I386,1)","v":{"v":5060,"d":"5,060.00"}},{"v":0,"d":"0.0"},null,"570251237BC6A6E010050C46E19618","5027412279C01B401DACD9ECD693FC93C90B61","F","F","T",{"$nulls":3},1,{"$nulls":14},"570251237BC6A6E010050C46E196185027412279C01B401DACD9ECD693FC93C90B61"]
["시너","시너, KSM6060, 1종","L",null,{"$f":"단가대비표!O58","v":{"v":2433.33,"d":"2,433.33"}},{"$f":"TRUNC(E387*D387,1)","v":{"v":0,"d":"0.0"}},{"$f":"단가대비표!P58","v":{"v":0,"d":"0.00"}},{"$f":"TRUNC(G387*D387,1)","v":{"v":0,"d":"0.0"}},{"$f":"단가대비표!V58","v":{"v":0,"d":"0.00"}},{"$f":"TRUNC(I387*D387,1)","v":{"v":0,"d":"0.0"}},{"v":2433.3,"d":"2,433.30"},{"v":0,"d":"0.0"},null,"570251237BC6A6E010050C46E19618","5027412279C01B4010ED900F7CCBCBB449D6A5","F","F","T",{"$nulls":3},1,{"$nulls":14},"570251237BC6A6E010050C46E196185027412279C01B4010ED900F7CCBCBB449D6A5"]
["잡재료","주재료비의 4%","식",null,{"$f":"TRUNC(SUMIF(V386:V388, RIGHTB(O388, 1), F386:F388)*U388, 2)","v":{"v":0,"d":"0.00"}},{"$f":"TRUNC(E388*D388,1)","v":{"v":0,"d":"0.0"}},{"v":0,"d":"0.00"},{"$f":"TRUNC(G388*D388,1)","v":{"v":0,"d":"0.0"}},{"v":0,"d":"0.00"},{"$f":"TRUNC(I388*D388,1)","v":{"v":0,"d":"0.0"}},{"v":0,"d":"0.00"},{"v":0,"d":"0.0"},null,"570251237BC6A6E010050C46E19618","561B612975325E60133FAF268C0B001","F","F","F",0,0,0.04,{"$nulls":15},"570251237BC6A6E010050C46E19618561B612975325E60133FAF268C0B001"]
[" [ 합          계 ]",{"$nulls":4},{"$f":"TRUNC(SUMIF(N386:N388, N385, F386:F388),0)","v":{"v":0,"d":"0.0"}},null,{"$f":"TRUNC(SUMIF(N386:N388, N385, H386:H388),0)","v":{"v":0,"d":"0.0"}},null,{"$f":"TRUNC(SUMIF(N386:N388, N385, J386:J388),0)","v":{"v":0,"d":"0.0"}},null,{"$f":"F389+H389+J389","v":{"v":0,"d":"0.0"}},null,"TOTAL","TOTAL"]
[]
["유성페인트(붓칠) - 노무비  철재면, 2회 칠  M2  건축 17-3-1   ( 호표 57 )",{"$nulls":12},"570251237BC6A6E010050C46E34748"]
["도장공","일반공사 직종","인",null,{"$f":"단가대비표!O80","v":{"v":0,"d":"0.00"}},{"$f":"TRUNC(E392*D392,1)","v":{"v":0,"d":"0.0"}},{"$f":"단가대비표!P80","v":{"v":132552,"d":"132,552.00"}},{"$f":"TRUNC(G392*D392,1)","v":{"v":0,"d":"0.0"}},{"$f":"단가대비표!V80","v":{"v":0,"d":"0.00"}},{"$f":"TRUNC(I392*D392,1)","v":{"v":0,"d":"0.0"}},{"$f":"TRUNC(E392+G392+I392,1)","v":{"v":132552,"d":"132,552.00"}},{"v":0,"d":"0.0"},null,"570251237BC6A6E010050C46E34748","57D121207AA57E8018ED12DDCCCFFFC14BB81B","F","F","T",{"$nulls":18},"570251237BC6A6E010050C46E3474857D121207AA57E8018ED12DDCCCFFFC14BB81B"]
["보통인부","일반공사 직종","인",null,{"$f":"단가대비표!O70","v":{"v":0,"d":"0.00"}},{"$f":"TRUNC(E393*D393,1)","v":{"v":0,"d":"0.0"}},{"$f":"단가대비표!P70","v":{"v":94338,"d":"94,338.00"}},{"$f":"TRUNC(G393*D393,1)","v":{"v":0,"d":"0.0"}},{"$f":"단가대비표!V70","v":{"v":0,"d":"0.00"}},{"$f":"TRUNC(I393*D393,1)","v":{"v":0,"d":"0.0"}},{"v":94338,"d":"94,338.00"},{"v":0,"d":"0.0"},null,"570251237BC6A6E010050C46E34748","57D121207AA57E8018ED12DDCCCFFFC14BBAC2","F","F","T",{"$nulls":18},"570251237BC6A6E010050C46E3474857D121207AA57E8018ED12DDCCCFFFC14BBAC2"]
["도장공","일반공사 직종","인",null,{"$f":"단가대비표!O80","v":{"v":0,"d":"0.00"}},{"$f":"TRUNC(E394*D394,1)","v":{"v":0,"d":"0.0"}},{"$f":"단가대비표!P80","v":{"v":132552,"d":"132,552.00"}},{"$f":"TRUNC(G394*D394,1)","v":{"v":0,"d":"0.0"}},{"$f":"단가대비표!V80","v":{"v":0,"d":"0.00"}},{"$f":"TRUNC(I394*D394,1)","v":{"v":0,"d":"0.0"}},{"v":132552,"d":"132,552.00"},{"v":0,"d":"0.0"},null,"570251237BC6A6E010050C46E34748","57D121207AA57E8018ED12DDCCCFFFC14BB81B","F","F","T",{"$nulls":18},"570251237BC6A6E010050C46E3474857D121207AA57E8018ED12DDCCCFFFC14BB81B"]
["보통인부","일반공사 직종","인",null,{"$f":"단가대비표!O70","v":{"v":0,"d":"0.00"}},{"$f":"TRUNC(E395*D395,1)","v":{"v":0,"d":"0.0"}},{"$f":"단가대비표!P70","v":{"v":94338,"d":"94,338.00"}},{"$f":"TRUNC(G395*D395,1)","v":{"v":0,"d":"0.0"}},{"$f":"단가대비표!V70","v":{"v":0,"d":"0.00"}},{"$f":"TRUNC(I395*D395,1)","v":{"v":0,"d":"0.0"}},{"v":94338,"d":"94,338.00"},{"v":0,"d":"0.0"},null,"570251237BC6A6E010050C46E34748","57D121207AA57E8018ED12DDCCCFFFC14BBAC2","F","F","T",{"$nulls":18},"570251237BC6A6E010050C46E3474857D121207AA57E8018ED12DDCCCFFFC14BBAC2"]
[" [ 합          계 ]",{"$nulls":4},{"$f":"TRUNC(SUMIF(N392:N395, N391, F392:F395),0)","v":{"v":0,"d":"0.0"}},null,{"$f":"TRUNC(SUMIF(N392:N395, N391, H392:H395),0)","v":{"v":0,"d":"0.0"}},null,{"$f":"TRUNC(SUMIF(N392:N395, N391, J392:J395),0)","v":{"v":0,"d":"0.0"}},null,{"$f":"F396+H396+J396","v":{"v":0,"d":"0.0"}},null,"TOTAL","TOTAL"]
[]
["창문틀 주위 충전  발포우레탄 충전  10M  건축 16-3-2   ( 호표 58 )",{"$nulls":12},"570271207101CDE01E61F47CDFBC91"]
["미장공","일반공사 직종","인",null,{"$f":"단가대비표!O79","v":{"v":0,"d":"0.00"}},{"$f":"TRUNC(E399*D399,1)","v":{"v":0,"d":"0.0"}},{"$f":"단가대비표!P79","v":{"v":149091,"d":"149,091.00"}},{"$f":"TRUNC(G399*D399,1)","v":{"v":0,"d":"0.0"}},{"$f":"단가대비표!V79","v":{"v":0,"d":"0.00"}},{"$f":"TRUNC(I399*D399,1)","v":{"v":0,"d":"0.0"}},{"$f":"TRUNC(E399+G399+I399,1)","v":{"v":149091,"d":"149,091.00"}},{"$f":"TRUNC(F399+H399+J399,1)","v":{"v":0,"d":"0.0"}},null,"570271207101CDE01E61F47CDFBC91","57D121207AA57E8018ED12DDCCCFFFC14BB815","F","F","T",{"$nulls":18},"570271207101CDE01E61F47CDFBC9157D121207AA57E8018ED12DDCCCFFFC14BB815"]
["보통인부","일반공사 직종","인",null,{"$f":"단가대비표!O70","v":{"v":0,"d":"0.00"}},{"$f":"TRUNC(E400*D400,1)","v":{"v":0,"d":"0.0"}},{"$f":"단가대비표!P70","v":{"v":94338,"d":"94,338.00"}},{"$f":"TRUNC(G400*D400,1)","v":{"v":0,"d":"0.0"}},{"$f":"단가대비표!V70","v":{"v":0,"d":"0.00"}},{"$f":"TRUNC(I400*D400,1)","v":{"v":0,"d":"0.0"}},{"$f":"TRUNC(E400+G400+I400,1)","v":{"v":94338,"d":"94,338.00"}},{"$f":"TRUNC(F400+H400+J400,1)","v":{"v":0,"d":"0.0"}},null,"570271207101CDE01E61F47CDFBC91","57D121207AA57E8018ED12DDCCCFFFC14BBAC2","F","F","T",{"$nulls":18},"570271207101CDE01E61F47CDFBC9157D121207AA57E8018ED12DDCCCFFFC14BBAC2"]
[" [ 합          계 ]",{"$nulls":4},{"$f":"TRUNC(SUMIF(N399:N400, N398, F399:F400),0)","v":{"v":0,"d":"0.0"}},null,{"$f":"TRUNC(SUMIF(N399:N400, N398, H399:H400),0)","v":{"v":0,"d":"0.0"}},null,{"$f":"TRUNC(SUMIF(N399:N400, N398, J399:J400),0)","v":{"v":0,"d":"0.0"}},null,{"$f":"F401+H401+J401","v":{"v":0,"d":"0.0"}},null,"TOTAL","TOTAL"]
[]
["수밀코킹(시공비)  재료비 별도  M  건축 12-12-1   ( 호표 59 )",{"$nulls":12},"5702312E7A1FCE601A6E955CC78BA2"]
["코킹공","기타 직종","인",null,{"$f":"단가대비표!O84","v":{"v":0,"d":"0.00"}},{"$f":"TRUNC(E404*D404,1)","v":{"v":0,"d":"0.0"}},{"$f":"단가대비표!P84","v":{"v":122525,"d":"122,525.00"}},{"$f":"TRUNC(G404*D404,1)","v":{"v":0,"d":"0.0"}},{"$f":"단가대비표!V84","v":{"v":0,"d":"0.00"}},{"$f":"TRUNC(I404*D404,1)","v":{"v":0,"d":"0.0"}},{"$f":"TRUNC(E404+G404+I404,1)","v":{"v":122525,"d":"122,525.00"}},{"$f":"TRUNC(F404+H404+J404,1)","v":{"v":0,"d":"0.0"}},null,"5702312E7A1FCE601A6E955CC78BA2","57D121207AA57E8018ED16B89C80A999620D63","F","F","T",{"$nulls":18},"5702312E7A1FCE601A6E955CC78BA257D121207AA57E8018ED16B89C80A999620D63"]
[" [ 합          계 ]",{"$nulls":4},{"$f":"TRUNC(SUMIF(N404:N404, N403, F404:F404),0)","v":{"v":0,"d":"0.0"}},null,{"$f":"TRUNC(SUMIF(N404:N404, N403, H404:H404),0)","v":{"v":0,"d":"0.0"}},null,{"$f":"TRUNC(SUMIF(N404:N404, N403, J404:J404),0)","v":{"v":0,"d":"0.0"}},null,{"$f":"F405+H405+J405","v":{"v":0,"d":"0.0"}},null,"TOTAL","TOTAL"]
[]
["방습거울설치 - 합판 12mm+STS 1.5mm  5mm, 틀 포함  M2     ( 호표 60 )",{"$nulls":12},"570271207ED9BE901F7CB41125A73B"]
["각재","각재, 미송","재",null,{"$f":"단가대비표!O23","v":{"v":1600,"d":"1,600.00"}},{"$f":"TRUNC(E408*D408,1)","v":{"v":0,"d":"0.0"}},{"$f":"단가대비표!P23","v":{"v":0,"d":"0.00"}},{"$f":"TRUNC(G408*D408,1)","v":{"v":0,"d":"0.0"}},{"$f":"단가대비표!V23","v":{"v":0,"d":"0.00"}},{"$f":"TRUNC(I408*D408,1)","v":{"v":0,"d":"0.0"}},{"$f":"TRUNC(E408+G408+I408,1)","v":{"v":1600,"d":"1,600.00"}},{"$f":"TRUNC(F408+H408+J408,1)","v":{"v":0,"d":"0.0"}},null,"570271207ED9BE901F7CB41125A73B","502751237386B360118F80A26453CBB161A156","F","F","T",{"$nulls":18},"570271207ED9BE901F7CB41125A73B502751237386B360118F80A26453CBB161A156"]
["보통합판","보통합판, 1급, 12*1220*2440mm","M2",null,{"$f":"단가대비표!O11","v":{"v":7935,"d":"7,935.00"}},{"v":0,"d":"0.0"},{"$f":"단가대비표!P11","v":{"v":0,"d":"0.00"}},{"v":0,"d":"0.0"},{"$f":"단가대비표!V11","v":{"v":0,"d":"0.00"}},{"v":0,"d":"0.0"},{"v":7935,"d":"7,935.00"},{"v":0,"d":"0.0"},null,"570271207ED9BE901F7CB41125A73B","5004612171613240151E91092DA07BE43ABA5D","F","F","T",{"$nulls":18},"570271207ED9BE901F7CB41125A73B5004612171613240151E91092DA07BE43ABA5D"]
["초산비닐계접착제","초산비닐계접착제, 일반목공용","kg",null,{"$f":"단가대비표!O50","v":{"v":1520,"d":"1,520.00"}},{"v":0,"d":"0.0"},{"$f":"단가대비표!P50","v":{"v":0,"d":"0.00"}},{"v":0,"d":"0.0"},{"$f":"단가대비표!V50","v":{"v":0,"d":"0.00"}},{"v":0,"d":"0.0"},{"v":1520,"d":"1,520.00"},{"v":0,"d":"0.0"},null,"570271207ED9BE901F7CB41125A73B","5027412279C120801A512A8E2353459368C596","F","F","T",{"$nulls":18},"570271207ED9BE901F7CB41125A73B5027412279C120801A512A8E2353459368C596"]
["건축목공","일반공사 직종","인",null,{"$f":"단가대비표!O76","v":{"v":0,"d":"0.00"}},{"v":0,"d":"0.0"},{"$f":"단가대비표!P76","v":{"v":148851,"d":"148,851.00"}},{"v":0,"d":"0.0"},{"$f":"단가대비표!V76","v":{"v":0,"d":"0.00"}},{"v":0,"d":"0.0"},{"v":148851,"d":"148,851.00"},{"v":0,"d":"0.0"},null,"570271207ED9BE901F7CB41125A73B","57D121207AA57E8018ED12DDCCCFFFC14BB811","F","F","T",{"$nulls":18},"570271207ED9BE901F7CB41125A73B57D121207AA57E8018ED12DDCCCFFFC14BB811"]
["보통인부","일반공사 직종","인",null,{"$f":"단가대비표!O70","v":{"v":0,"d":"0.00"}},{"v":0,"d":"0.0"},{"$f":"단가대비표!P70","v":{"v":94338,"d":"94,338.00"}},{"v":0,"d":"0.0"},{"$f":"단가대비표!V70","v":{"v":0,"d":"0.00"}},{"v":0,"d":"0.0"},{"v":94338,"d":"94,338.00"},{"v":0,"d":"0.0"},null,"570271207ED9BE901F7CB41125A73B","57D121207AA57E8018ED12DDCCCFFFC14BBAC2","F","F","T",{"$nulls":18},"570271207ED9BE901F7CB41125A73B57D121207AA57E8018ED12DDCCCFFFC14BBAC2"]
["스테인리스강판","스테인리스강판, STS304, 1.5mm","kg",null,{"$f":"단가대비표!O22","v":{"v":3470,"d":"3,470.00"}},{"v":0,"d":"0.0"},{"$f":"단가대비표!P22","v":{"v":0,"d":"0.00"}},{"v":0,"d":"0.0"},{"$f":"단가대비표!V22","v":{"v":0,"d":"0.00"}},{"v":0,"d":"0.0"},{"v":3470,"d":"3,470.00"},{"v":0,"d":"0.0"},null,"570271207ED9BE901F7CB41125A73B","502751237386B24013D9A94B62ADAE97312BD2","F","F","T",{"$nulls":18},"570271207ED9BE901F7CB41125A73B502751237386B24013D9A94B62ADAE97312BD2"]
["잡철물제작설치(스테인리스)-강판 가공시","간단","kg",null,{"$f":"일위대가목록!E49","v":{"v":0,"d":"0.00"}},{"v":0,"d":"0.0"},{"$f":"일위대가목록!F49","v":{"v":0,"d":"0.00"}},{"v":0,"d":"0.0"},{"$f":"일위대가목록!G49","v":{"v":0,"d":"0.00"}},{"v":0,"d":"0.0"},{"v":0,"d":"0.00"},{"v":0,"d":"0.0"},null,"570271207ED9BE901F7CB41125A73B","57021129730EB9B01537E9D5610EB8","T","F","F",{"$nulls":18},"570271207ED9BE901F7CB41125A73B57021129730EB9B01537E9D5610EB8"]
["거울","거울, 1000*1000*5mm","개",null,{"$f":"단가대비표!O63","v":{"v":20300,"d":"20,300.00"}},{"v":0,"d":"0.0"},{"$f":"단가대비표!P63","v":{"v":0,"d":"0.00"}},{"v":0,"d":"0.0"},{"$f":"단가대비표!V63","v":{"v":0,"d":"0.00"}},{"v":0,"d":"0.0"},{"v":20300,"d":"20,300.00"},{"v":0,"d":"0.0"},"A * M2단가","570271207ED9BE901F7CB41125A73B","5042412B75518350108F43725EA7633BC8E1AE","F","F","T",{"$nulls":18},"570271207ED9BE901F7CB41125A73B5042412B75518350108F43725EA7633BC8E1AE"]
["유리공","일반공사 직종","인",null,{"$f":"단가대비표!O78","v":{"v":0,"d":"0.00"}},{"v":0,"d":"0.0"},{"$f":"단가대비표!P78","v":{"v":133910,"d":"133,910.00"}},{"v":0,"d":"0.0"},{"$f":"단가대비표!V78","v":{"v":0,"d":"0.00"}},{"v":0,"d":"0.0"},{"v":133910,"d":"133,910.00"},{"v":0,"d":"0.0"},null,"570271207ED9BE901F7CB41125A73B","57D121207AA57E8018ED12DDCCCFFFC14BB817","F","F","T",{"$nulls":18},"570271207ED9BE901F7CB41125A73B57D121207AA57E8018ED12DDCCCFFFC14BB817"]
[" [ 합          계 ]",{"$nulls":4},{"$f":"TRUNC(SUMIF(N408:N416, N407, F408:F416),0)","v":{"v":0,"d":"0.0"}},null,{"$f":"TRUNC(SUMIF(N408:N416, N407, H408:H416),0)","v":{"v":0,"d":"0.0"}},null,{"$f":"TRUNC(SUMIF(N408:N416, N407, J408:J416),0)","v":{"v":0,"d":"0.0"}},null,{"$f":"F417+H417+J417","v":{"v":0,"d":"0.0"}},null,"TOTAL","TOTAL"]
[]
["대리석/테라조판붙임(습식)  벽, 자재별도(시공비)  M2  건축 9-1-1   ( 호표 61 )",{"$nulls":12},"57026122720017E0182F5C8CF18D2F"]
["석공","일반공사 직종","인",null,{"$f":"단가대비표!O82","v":{"v":0,"d":"0.00"}},{"$f":"TRUNC(E420*D420,1)","v":{"v":0,"d":"0.0"}},{"$f":"단가대비표!P82","v":{"v":151583,"d":"151,583.00"}},{"$f":"TRUNC(G420*D420,1)","v":{"v":0,"d":"0.0"}},{"$f":"단가대비표!V82","v":{"v":0,"d":"0.00"}},{"$f":"TRUNC(I420*D420,1)","v":{"v":0,"d":"0.0"}},{"$f":"TRUNC(E420+G420+I420,1)","v":{"v":151583,"d":"151,583.00"}},{"$f":"TRUNC(F420+H420+J420,1)","v":{"v":0,"d":"0.0"}},null,"57026122720017E0182F5C8CF18D2F","57D121207AA57E8018ED12DDCCCFFFC14BB93A","F","F","T",{"$nulls":18},"57026122720017E0182F5C8CF18D2F57D121207AA57E8018ED12DDCCCFFFC14BB93A"]
["보통인부","일반공사 직종","인",null,{"$f":"단가대비표!O70","v":{"v":0,"d":"0.00"}},{"$f":"TRUNC(E421*D421,1)","v":{"v":0,"d":"0.0"}},{"$f":"단가대비표!P70","v":{"v":94338,"d":"94,338.00"}},{"$f":"TRUNC(G421*D421,1)","v":{"v":0,"d":"0.0"}},{"$f":"단가대비표!V70","v":{"v":0,"d":"0.00"}},{"$f":"TRUNC(I421*D421,1)","v":{"v":0,"d":"0.0"}},{"$f":"TRUNC(E421+G421+I421,1)","v":{"v":94338,"d":"94,338.00"}},{"$f":"TRUNC(F421+H421+J421,1)","v":{"v":0,"d":"0.0"}},null,"57026122720017E0182F5C8CF18D2F","57D121207AA57E8018ED12DDCCCFFFC14BBAC2","F","F","T",{"$nulls":18},"57026122720017E0182F5C8CF18D2F57D121207AA57E8018ED12DDCCCFFFC14BBAC2"]
[" [ 합          계 ]",{"$nulls":4},{"$f":"TRUNC(SUMIF(N420:N421, N419, F420:F421),0)","v":{"v":0,"d":"0.0"}},null,{"$f":"TRUNC(SUMIF(N420:N421, N419, H420:H421),0)","v":{"v":0,"d":"0.0"}},null,{"$f":"TRUNC(SUMIF(N420:N421, N419, J420:J421),0)","v":{"v":0,"d":"0.0"}},null,{"$f":"F422+H422+J422","v":{"v":0,"d":"0.0"}},null,"TOTAL","TOTAL"]
[]
["석고판 나사 고정(바탕용) 설치비  벽, 2겹 붙임  M2  건축 11-3-1.2   ( 호표 62 )",{"$nulls":12},"5702412D70B0C2301A7422D40303B7"]
["내장공","일반공사 직종","인",null,{"$f":"단가대비표!O81","v":{"v":0,"d":"0.00"}},{"$f":"TRUNC(E425*D425,1)","v":{"v":0,"d":"0.0"}},{"$f":"단가대비표!P81","v":{"v":144150,"d":"144,150.00"}},{"$f":"TRUNC(G425*D425,1)","v":{"v":0,"d":"0.0"}},{"$f":"단가대비표!V81","v":{"v":0,"d":"0.00"}},{"$f":"TRUNC(I425*D425,1)","v":{"v":0,"d":"0.0"}},{"$f":"TRUNC(E425+G425+I425,1)","v":{"v":144150,"d":"144,150.00"}},{"v":0,"d":"0.0"},null,"5702412D70B0C2301A7422D40303B7","57D121207AA57E8018ED12DDCCCFFFC14BB939","F","F","T",{"$nulls":3},1,{"$nulls":14},"5702412D70B0C2301A7422D40303B757D121207AA57E8018ED12DDCCCFFFC14BB939"]
["보통인부","일반공사 직종","인",null,{"$f":"단가대비표!O70","v":{"v":0,"d":"0.00"}},{"$f":"TRUNC(E426*D426,1)","v":{"v":0,"d":"0.0"}},{"$f":"단가대비표!P70","v":{"v":94338,"d":"94,338.00"}},{"$f":"TRUNC(G426*D426,1)","v":{"v":0,"d":"0.0"}},{"$f":"단가대비표!V70","v":{"v":0,"d":"0.00"}},{"$f":"TRUNC(I426*D426,1)","v":{"v":0,"d":"0.0"}},{"v":94338,"d":"94,338.00"},{"v":0,"d":"0.0"},null,"5702412D70B0C2301A7422D40303B7","57D121207AA57E8018ED12DDCCCFFFC14BBAC2","F","F","T",{"$nulls":3},1,{"$nulls":14},"5702412D70B0C2301A7422D40303B757D121207AA57E8018ED12DDCCCFFFC14BBAC2"]
["공구손료","인력품의 1%","식",null,{"v":0,"d":"0.00"},{"$f":"TRUNC(E427*D427,1)","v":{"v":0,"d":"0.0"}},{"v":0,"d":"0.00"},{"$f":"TRUNC(G427*D427,1)","v":{"v":0,"d":"0.0"}},{"$f":"TRUNC(SUMIF(V425:V427, RIGHTB(O427, 1), H425:H427)*U427, 2)","v":{"v":0,"d":"0.00"}},{"$f":"TRUNC(I427*D427,1)","v":{"v":0,"d":"0.0"}},{"v":0,"d":"0.00"},{"v":0,"d":"0.0"},null,"5702412D70B0C2301A7422D40303B7","561B612975325E60133FAF268C0B001","F","F","F",1,2,0.01,{"$nulls":15},"5702412D70B0C2301A7422D40303B7561B612975325E60133FAF268C0B001"]
[" [ 합          계 ]",{"$nulls":4},{"$f":"TRUNC(SUMIF(N425:N427, N424, F425:F427),0)","v":{"v":0,"d":"0.0"}},null,{"$f":"TRUNC(SUMIF(N425:N427, N424, H425:H427),0)","v":{"v":0,"d":"0.0"}},null,{"$f":"TRUNC(SUMIF(N425:N427, N424, J425:J427),0)","v":{"v":0,"d":"0.0"}},null,{"$f":"F428+H428+J428","v":{"v":0,"d":"0.0"}},null,"TOTAL","TOTAL"]
[]
["석고판 나사 고정(바탕용) 설치비  천장, 2겹 붙임  M2  건축 11-3-1.2   ( 호표 63 )",{"$nulls":12},"5702412D70B0C230196ED746EBD97C"]
["내장공","일반공사 직종","인",null,{"$f":"단가대비표!O81","v":{"v":0,"d":"0.00"}},{"$f":"TRUNC(E431*D431,1)","v":{"v":0,"d":"0.0"}},{"$f":"단가대비표!P81","v":{"v":144150,"d":"144,150.00"}},{"$f":"TRUNC(G431*D431,1)","v":{"v":0,"d":"0.0"}},{"$f":"단가대비표!V81","v":{"v":0,"d":"0.00"}},{"$f":"TRUNC(I431*D431,1)","v":{"v":0,"d":"0.0"}},{"$f":"TRUNC(E431+G431+I431,1)","v":{"v":144150,"d":"144,150.00"}},{"v":0,"d":"0.0"},null,"5702412D70B0C230196ED746EBD97C","57D121207AA57E8018ED12DDCCCFFFC14BB939","F","F","T",{"$nulls":3},1,2,{"$nulls":13},"5702412D70B0C230196ED746EBD97C57D121207AA57E8018ED12DDCCCFFFC14BB939"]
["보통인부","일반공사 직종","인",null,{"$f":"단가대비표!O70","v":{"v":0,"d":"0.00"}},{"$f":"TRUNC(E432*D432,1)","v":{"v":0,"d":"0.0"}},{"$f":"단가대비표!P70","v":{"v":94338,"d":"94,338.00"}},{"$f":"TRUNC(G432*D432,1)","v":{"v":0,"d":"0.0"}},{"$f":"단가대비표!V70","v":{"v":0,"d":"0.00"}},{"$f":"TRUNC(I432*D432,1)","v":{"v":0,"d":"0.0"}},{"v":94338,"d":"94,338.00"},{"v":0,"d":"0.0"},null,"5702412D70B0C230196ED746EBD97C","57D121207AA57E8018ED12DDCCCFFFC14BBAC2","F","F","T",{"$nulls":3},1,2,{"$nulls":13},"5702412D70B0C230196ED746EBD97C57D121207AA57E8018ED12DDCCCFFFC14BBAC2"]
["노임할증","인력품의 30%","식",null,{"v":0,"d":"0.00"},{"$f":"TRUNC(E433*D433,1)","v":{"v":0,"d":"0.0"}},{"$f":"TRUNC(SUMIF(V431:V434, RIGHTB(O433, 1), H431:H434)*U433, 2)","v":{"v":0,"d":"0.00"}},{"$f":"TRUNC(G433*D433,1)","v":{"v":0,"d":"0.0"}},{"v":0,"d":"0.00"},{"$f":"TRUNC(I433*D433,1)","v":{"v":0,"d":"0.0"}},{"v":0,"d":"0.00"},{"v":0,"d":"0.0"},null,"5702412D70B0C230196ED746EBD97C","561B612975325E60133FAF268C0B001","F","F","F",1,1,0.3,{"$nulls":15},"5702412D70B0C230196ED746EBD97C561B612975325E60133FAF268C08002"]
["공구손료","인력품의 1%","식",null,{"v":0,"d":"0.00"},{"$f":"TRUNC(E434*D434,1)","v":{"v":0,"d":"0.0"}},{"v":0,"d":"0.00"},{"$f":"TRUNC(G434*D434,1)","v":{"v":0,"d":"0.0"}},{"$f":"TRUNC(SUMIF(W431:W434, RIGHTB(O434, 1), H431:H434)*U434, 2)","v":{"v":0,"d":"0.00"}},{"$f":"TRUNC(I434*D434,1)","v":{"v":0,"d":"0.0"}},{"v":0,"d":"0.00"},{"v":0,"d":"0.0"},null,"5702412D70B0C230196ED746EBD97C","561B612975325E60133FAF268C08002","F","F","F",1,2,0.01,{"$nulls":15},"5702412D70B0C230196ED746EBD97C561B612975325E60133FAF268C0B001"]
[" [ 합          계 ]",{"$nulls":4},{"$f":"TRUNC(SUMIF(N431:N434, N430, F431:F434),0)","v":{"v":0,"d":"0.0"}},null,{"$f":"TRUNC(SUMIF(N431:N434, N430, H431:H434),0)","v":{"v":0,"d":"0.0"}},null,{"$f":"TRUNC(SUMIF(N431:N434, N430, J431:J434),0)","v":{"v":0,"d":"0.0"}},null,{"$f":"F435+H435+J435","v":{"v":0,"d":"0.0"}},null,"TOTAL","TOTAL"]
[]
["모르타르(비빔품 제외)  배합비 1:3, 시멘트, 모래 별도  M3  건축 16-1.1   ( 호표 64 )",{"$nulls":12},"5702C128788134701EBA3CF989DBF3"]
["시멘트","시멘트(별도)","kg",null,{"$f":"단가대비표!O24","v":{"v":0,"d":"0.00"}},{"$f":"TRUNC(E438*D438,1)","v":{"v":0,"d":"0.0"}},{"$f":"단가대비표!P24","v":{"v":0,"d":"0.00"}},{"$f":"TRUNC(G438*D438,1)","v":{"v":0,"d":"0.0"}},{"$f":"단가대비표!V24","v":{"v":0,"d":"0.00"}},{"$f":"TRUNC(I438*D438,1)","v":{"v":0,"d":"0.0"}},{"$f":"TRUNC(E438+G438+I438,1)","v":{"v":0,"d":"0.00"}},{"$f":"TRUNC(F438+H438+J438,1)","v":{"v":0,"d":"0.0"}},"별도","5702C128788134701EBA3CF989DBF3","502751237387567010A622ED4498E65815FD14","F","F","T",{"$nulls":18},"5702C128788134701EBA3CF989DBF3502751237387567010A622ED4498E65815FD14"]
["모래","(별도)","M3",null,{"$f":"단가대비표!O8","v":{"v":0,"d":"0.00"}},{"$f":"TRUNC(E439*D439,1)","v":{"v":0,"d":"0.0"}},{"$f":"단가대비표!P8","v":{"v":0,"d":"0.00"}},{"$f":"TRUNC(G439*D439,1)","v":{"v":0,"d":"0.0"}},{"$f":"단가대비표!V8","v":{"v":0,"d":"0.00"}},{"$f":"TRUNC(I439*D439,1)","v":{"v":0,"d":"0.0"}},{"$f":"TRUNC(E439+G439+I439,1)","v":{"v":0,"d":"0.00"}},{"$f":"TRUNC(F439+H439+J439,1)","v":{"v":0,"d":"0.0"}},"별도","5702C128788134701EBA3CF989DBF3","500461217162D6301DA7B7B5F8B9FAE8279DCE","F","F","T",{"$nulls":18},"5702C128788134701EBA3CF989DBF3500461217162D6301DA7B7B5F8B9FAE8279DCE"]
[" [ 합          계 ]",{"$nulls":4},{"$f":"TRUNC(SUMIF(N438:N439, N437, F438:F439),0)","v":{"v":0,"d":"0.0"}},null,{"$f":"TRUNC(SUMIF(N438:N439, N437, H438:H439),0)","v":{"v":0,"d":"0.0"}},null,{"$f":"TRUNC(SUMIF(N438:N439, N437, J438:J439),0)","v":{"v":0,"d":"0.0"}},null,{"$f":"F440+H440+J440","v":{"v":0,"d":"0.0"}},null,"TOTAL","TOTAL"]
[]
["바탕고르기  바닥, 24mm 이하 기준  M2  건축 10-1   ( 호표 65 )",{"$nulls":12},"57026122717B70B011412C1A2B5AE4"]
["미장공","일반공사 직종","인",null,{"$f":"단가대비표!O79","v":{"v":0,"d":"0.00"}},{"$f":"TRUNC(E443*D443,1)","v":{"v":0,"d":"0.0"}},{"$f":"단가대비표!P79","v":{"v":149091,"d":"149,091.00"}},{"$f":"TRUNC(G443*D443,1)","v":{"v":0,"d":"0.0"}},{"$f":"단가대비표!V79","v":{"v":0,"d":"0.00"}},{"$f":"TRUNC(I443*D443,1)","v":{"v":0,"d":"0.0"}},{"$f":"TRUNC(E443+G443+I443,1)","v":{"v":149091,"d":"149,091.00"}},{"$f":"TRUNC(F443+H443+J443,1)","v":{"v":0,"d":"0.0"}},null,"57026122717B70B011412C1A2B5AE4","57D121207AA57E8018ED12DDCCCFFFC14BB815","F","F","T",{"$nulls":18},"57026122717B70B011412C1A2B5AE457D121207AA57E8018ED12DDCCCFFFC14BB815"]
["보통인부","일반공사 직종","인",null,{"$f":"단가대비표!O70","v":{"v":0,"d":"0.00"}},{"$f":"TRUNC(E444*D444,1)","v":{"v":0,"d":"0.0"}},{"$f":"단가대비표!P70","v":{"v":94338,"d":"94,338.00"}},{"$f":"TRUNC(G444*D444,1)","v":{"v":0,"d":"0.0"}},{"$f":"단가대비표!V70","v":{"v":0,"d":"0.00"}},{"$f":"TRUNC(I444*D444,1)","v":{"v":0,"d":"0.0"}},{"$f":"TRUNC(E444+G444+I444,1)","v":{"v":94338,"d":"94,338.00"}},{"$f":"TRUNC(F444+H444+J444,1)","v":{"v":0,"d":"0.0"}},null,"57026122717B70B011412C1A2B5AE4","57D121207AA57E8018ED12DDCCCFFFC14BBAC2","F","F","T",{"$nulls":18},"57026122717B70B011412C1A2B5AE457D121207AA57E8018ED12DDCCCFFFC14BBAC2"]
[" [ 합          계 ]",{"$nulls":4},{"$f":"TRUNC(SUMIF(N443:N444, N442, F443:F444),0)","v":{"v":0,"d":"0.0"}},null,{"$f":"TRUNC(SUMIF(N443:N444, N442, H443:H444),0)","v":{"v":0,"d":"0.0"}},null,{"$f":"TRUNC(SUMIF(N443:N444, N442, J443:J444),0)","v":{"v":0,"d":"0.0"}},null,{"$f":"F445+H445+J445","v":{"v":0,"d":"0.0"}},null,"TOTAL","TOTAL"]
[]
["페이브먼트 브레이커  25.0kg(55#)  HR  토목 9-44-16   ( 호표 66 )",{"$nulls":12},"5016E12C7048E9C018EAE1E70E00E023383D2FA8"]
["페이브먼트 브레이커","25.0kg(55#)","대",null,{"$f":"단가대비표!O6","v":{"v":0,"d":"0.00"}},{"$f":"TRUNC(E448*D448,1)","v":{"v":0,"d":"0.0"}},{"$f":"단가대비표!P6","v":{"v":0,"d":"0.00"}},{"$f":"TRUNC(G448*D448,1)","v":{"v":0,"d":"0.0"}},{"$f":"단가대비표!V6","v":{"v":1668,"d":"1,668.00"}},{"$f":"TRUNC(I448*D448,1)","v":{"v":0,"d":"0.0"}},{"$f":"TRUNC(E448+G448+I448,1)","v":{"v":1668,"d":"1,668.00"}},{"$f":"TRUNC(F448+H448+J448,1)","v":{"v":0,"d":"0.0"}},"천원","5016E12C7048E9C018EAE1E70E00E023383D2FA8","5016E12C7048E9C018EAE1E70E00E023383D2F","F","F","T",{"$nulls":18},"5016E12C7048E9C018EAE1E70E00E023383D2FA85016E12C7048E9C018EAE1E70E00E023383D2F"]
[" [ 합          계 ]",{"$nulls":4},{"$f":"TRUNC(SUMIF(N448:N448, N447, F448:F448),0)","v":{"v":0,"d":"0.0"}},null,{"$f":"TRUNC(SUMIF(N448:N448, N447, H448:H448),0)","v":{"v":0,"d":"0.0"}},null,{"$f":"TRUNC(SUMIF(N448:N448, N447, J448:J448),0)","v":{"v":0,"d":"0.0"}},null,{"$f":"F449+H449+J449","v":{"v":0,"d":"0.0"}},null,"TOTAL","TOTAL"]
[]
["공기압축기(이동식)  3.5㎥/min  HR  토목 9-44-15   ( 호표 67 )",{"$nulls":12},"5016E12C7048E9C018EB8DD2B2438D9E9CAD705D"]
["공기압축기(이동식)","3.5㎥/min","대",null,{"$f":"단가대비표!O5","v":{"v":0,"d":"0.00"}},{"$f":"TRUNC(E452*D452,1)","v":{"v":0,"d":"0.0"}},{"$f":"단가대비표!P5","v":{"v":0,"d":"0.00"}},{"$f":"TRUNC(G452*D452,1)","v":{"v":0,"d":"0.0"}},{"$f":"단가대비표!V5","v":{"v":12599,"d":"12,599.00"}},{"$f":"TRUNC(I452*D452,1)","v":{"v":0,"d":"0.0"}},{"$f":"TRUNC(E452+G452+I452,1)","v":{"v":12599,"d":"12,599.00"}},{"v":0,"d":"0.0"},"천원","5016E12C7048E9C018EB8DD2B2438D9E9CAD705D","5016E12C7048E9C018EB8DD2B2438D9E9CAD70","F","F","T",{"$nulls":18},"5016E12C7048E9C018EB8DD2B2438D9E9CAD705D5016E12C7048E9C018EB8DD2B2438D9E9CAD70"]
["경유","경유, 저유황","L",null,{"$f":"단가대비표!O15","v":{"v":997,"d":"997.00"}},{"$f":"TRUNC(E453*D453,1)","v":{"v":0,"d":"0.0"}},{"$f":"단가대비표!P15","v":{"v":0,"d":"0.00"}},{"$f":"TRUNC(G453*D453,1)","v":{"v":0,"d":"0.0"}},{"$f":"단가대비표!V15","v":{"v":0,"d":"0.00"}},{"$f":"TRUNC(I453*D453,1)","v":{"v":0,"d":"0.0"}},{"v":997,"d":"997.00"},{"v":0,"d":"0.0"},null,"5016E12C7048E9C018EB8DD2B2438D9E9CAD705D","5004212B7405EBD01A5CAEC87D4CA68EDF88F3","F","F","T",{"$nulls":3},1,{"$nulls":14},"5016E12C7048E9C018EB8DD2B2438D9E9CAD705D5004212B7405EBD01A5CAEC87D4CA68EDF88F3"]
["잡재료","주연료비의 16%","식",null,{"$f":"TRUNC(SUMIF(V452:V455, RIGHTB(O454, 1), F452:F455)*U454, 2)","v":{"v":0,"d":"0.00"}},{"$f":"TRUNC(E454*D454,1)","v":{"v":0,"d":"0.0"}},{"v":0,"d":"0.00"},{"$f":"TRUNC(G454*D454,1)","v":{"v":0,"d":"0.0"}},{"v":0,"d":"0.00"},{"$f":"TRUNC(I454*D454,1)","v":{"v":0,"d":"0.0"}},{"v":0,"d":"0.00"},{"v":0,"d":"0.0"},null,"5016E12C7048E9C018EB8DD2B2438D9E9CAD705D","561B612975325E60133FAF268C0B001","F","F","F",0,0,0.16,{"$nulls":15},"5016E12C7048E9C018EB8DD2B2438D9E9CAD705D561B612975325E60133FAF268C0B001"]
["건설기계운전사","일반공사 직종","인",null,{"$f":"TRUNC(단가대비표!O83*1/8*16/12*25/20, 1)","v":{"v":0,"d":"0.00"}},{"$f":"TRUNC(E455*D455,1)","v":{"v":0,"d":"0.0"}},{"$f":"TRUNC(단가대비표!P83*1/8*16/12*25/20, 1)","v":{"v":28259.1,"d":"28,259.10"}},{"$f":"TRUNC(G455*D455,1)","v":{"v":0,"d":"0.0"}},{"$f":"TRUNC(단가대비표!V83*1/8*16/12*25/20, 1)","v":{"v":0,"d":"0.00"}},{"$f":"TRUNC(I455*D455,1)","v":{"v":0,"d":"0.0"}},{"v":28259.1,"d":"28,259.10"},{"v":0,"d":"0.0"},null,"5016E12C7048E9C018EB8DD2B2438D9E9CAD705D","57D121207AA57E8018ED12DDCCCFFFC14BBEB3","F","F","T",{"$nulls":18},"5016E12C7048E9C018EB8DD2B2438D9E9CAD705D57D121207AA57E8018ED12DDCCCFFFC14BBEB3","T"]
[" [ 합          계 ]",{"$nulls":4},{"$f":"TRUNC(SUMIF(N452:N455, N451, F452:F455),0)","v":{"v":0,"d":"0.0"}},null,{"$f":"TRUNC(SUMIF(N452:N455, N451, H452:H455),0)","v":{"v":0,"d":"0.0"}},null,{"$f":"TRUNC(SUMIF(N452:N455, N451, J452:J455),0)","v":{"v":0,"d":"0.0"}},null,{"$f":"F456+H456+J456","v":{"v":0,"d":"0.0"}},null,"TOTAL","TOTAL"]

{"sheet":"중기단가목록","index":7,"n_rows":3,"n_cols":11,"rows_kept":3,"merged":[[0,0,0,9],[1,0,1,9]]}
["중 기 단 가 목 록"]
["[ 본원식당 시설개선 공사 ]"]
["코  드","품      명","규      격","단위","재 료 비","노 무 비","경    비","합    계","번  호","비    고","START"]

{"sheet":"중기단가산출서","index":8,"n_rows":6,"n_cols":12,"rows_kept":6,"merged":[[0,0,0,5],[1,0,1,5]]}
["중 기 단 가 산 출 서"]
["[ 본원식당 시설개선 공사 ]"]
["산    출    내    역","재 료 비","노 무 비","경    비","합    계","비    고","START","코드","품명","규격","단위","수량"]
["        (  ) "]
[]
["  총  계",{"$nulls":3},0]

{"sheet":"단가대비표","index":9,"n_rows":87,"n_cols":28,"rows_kept":87,"merged":[[0,0,0,23],[1,0,1,23],[2,0,3,0],[2,1,3,1],[2,2,3,2],[2,3,3,3],[2,4,2,14],[2,15,3,15],[2,16,2,21],[2,22,3,22],[2,23,3,23],[2,24,3,24],[2,25,3,25],[2,26,3,26],[2,27,3,27]]}
["단 가 대 비 표"]
["[ 본원식당 시설개선 공사 ]"]
["코  드","품      명","규격","단위","재  료  비",{"$nulls":10},"노 무 비","경    비",{"$nulls":5},"번  호","비  고","품목구분","노임구분","소수점처리","자재구분"]
[{"$nulls":4},"가격정보","PAGE","거래가격","PAGE","유통물가","PAGE","물가자료","PAGE","조사가격2","PAGE","적용단가",null,"가격정보","거래가격","유통물가","물가자료","조사가격2","적용단가"]
["5016E12C7048E9C018EB8DD2B2438D9E9CAD70","공기압축기(이동식)","3.5㎥/min","대",0,null,0,null,0,null,0,null,0,null,0,0,0,0,0,0,{"v":12599,"d":"12,599.00"},{"$f":"SMALL(Q5:U5,COUNTIF(Q5:U5,0)+1)","v":{"v":12599,"d":"12,599.00"}},"자재 1","천원"]
["5016E12C7048E9C018EAE1E70E00E023383D2F","페이브먼트 브레이커","25.0kg(55#)","대",0,null,0,null,0,null,0,null,0,null,0,0,0,0,0,0,{"v":1668,"d":"1,668.00"},{"$f":"SMALL(Q6:U6,COUNTIF(Q6:U6,0)+1)","v":{"v":1668,"d":"1,668.00"}},"자재 2","천원"]
["5016E12C7048EBF01E3DC3FA33389B3E21C50C","용접기(교류)","500Amp","대",0,null,0,null,0,null,0,null,0,null,0,0,0,0,0,0,{"v":544,"d":"544.00"},{"$f":"SMALL(Q7:U7,COUNTIF(Q7:U7,0)+1)","v":{"v":544,"d":"544.00"}},"자재 3","천원"]
["500461217162D6301DA7B7B5F8B9FAE8279DCE","모래","(별도)","M3",0,null,0,null,0,null,0,null,0,null,0,0,0,0,0,0,0,0,"자재 4","별도"]
["500461217162D6301DA7B7B5F8B9FAE8279C25","모래","도착도","M3",0,null,{"v":26000,"d":"26,000.00"},"92",{"v":25000,"d":"25,000.00"},"61",0,null,0,null,{"$f":"SMALL(E9:M9,COUNTIF(E9:M9,0)+1)","v":{"v":25000,"d":"25,000.00"}},0,0,0,0,0,0,0,"자재 5"]
["5004612171613240151E91092DA07BE43ABA5F","보통합판","보통합판, 1급, 8.5*1220*2440mm","M2",{"v":6317,"d":"6,317.00"},null,{"v":7188.92,"d":"7,188.92"},"621",{"v":6819.4,"d":"6,819.40"},"408",0,null,0,null,{"v":6317,"d":"6,317.00"},0,0,0,0,0,0,0,"자재 6"]
["5004612171613240151E91092DA07BE43ABA5D","보통합판","보통합판, 1급, 12*1220*2440mm","M2",{"v":7935,"d":"7,935.00"},null,{"v":8902.17,"d":"8,902.17"},"621",{"v":8465.46,"d":"8,465.46"},"408",0,null,0,null,{"v":7935,"d":"7,935.00"},0,0,0,0,0,0,0,"자재 7"]
["50046121716A2DF01C4A19AD1D60668AA8A217","철강설","철강설, 고철, 작업설부산물","kg",{"v":210,"d":"210.00"},null,{"v":130,"d":"130.00"},"1440",0,null,0,null,0,null,{"v":130,"d":"130.00"},0,0,0,0,0,0,0,"자재 8","수집상차도"]
["50046121716A2DF01C4A19AD1D60668AA8A33D","철강설","철강설, 스텐레스, 작업설부산물","kg",{"v":1250,"d":"1,250.00"},null,{"v":1250,"d":"1,250.00"},"1440",{"v":1000,"d":"1,000.00"},"1246",0,null,0,null,{"v":1000,"d":"1,000.00"},0,0,0,0,0,0,0,"자재 9","수집상차도"]
["50045120784057E018EBB4EBD58DAA1BA5EF39","산소가스","기체","L",{"v":2,"d":"2.00"},null,2.16,"1419",2.33,"1238",0,null,0,null,{"v":2,"d":"2.00"},0,0,0,0,0,0,0,"자재 10"]
["5004212B7405EBD01A5CAEC87D4CA68EDF88F3","경유","경유, 저유황","L",0,null,{"v":1062.72,"d":"1,062.72"},"1419",{"v":1092.72,"d":"1,092.72"},"1237",0,null,{"v":997,"d":"997.00"},null,{"v":997,"d":"997.00"},0,0,0,0,0,0,0,"자재 11"]
["5004212B7404C5D0199229C98DBAF15327D1A4","아세틸렌가스","아세틸렌가스, kg","kg",{"v":9500,"d":"9,500.00"},null,{"v":10000,"d":"10,000.00"},"1419",{"v":11000,"d":"11,000.00"},"1238",0,null,0,null,{"v":9500,"d":"9,500.00"},0,0,0,0,0,0,0,"자재 12"]
["5031812C73EA7400155BAF1273890679335F1E","연강용피복아크용접봉","연강용피복아크용접봉, CR-13, Φ3.2mm","kg",0,null,0,null,0,null,0,null,0,null,0,0,0,0,0,0,0,0,"자재 13"]
["5031812C73EA7400155BAF1273890679308D69","스테인리스강용피복아크용접봉","스테인리스강용피복아크용접봉, Φ3.2mm, AWSE308","kg",0,null,0,null,0,null,0,null,0,null,0,0,0,0,0,0,0,0,"자재 14"]
["502751237386B24013D9A8A01DCC86B30AA434","일반구조용압연강판","일반구조용압연강판, 1.6mm","kg",{"v":870,"d":"870.00"},null,{"v":1075.9,"d":"1,075.90"},"45",{"v":984,"d":"984.00"},"26",0,null,0,null,{"$f":"SMALL(E19:M19,COUNTIF(E19:M19,0)+1)","v":{"v":870,"d":"870.00"}},0,0,0,0,0,0,0,"자재 15"]
["502751237386B24013D9A8A01DCC86B30AA433","일반구조용압연강판","일반구조용압연강판, 2.3mm","kg",0,null,{"v":1064,"d":"1,064.00"},"45",{"v":958,"d":"958.00"},"26",0,null,0,null,{"$f":"SMALL(E20:M20,COUNTIF(E20:M20,0)+1)","v":{"v":958,"d":"958.00"}},0,0,0,0,0,0,0,"자재 16"]
["502751237386B24013D9A8A01DCC86BC654973","합금화용융아연도금강판","합금화용융아연도금강판, 갈바륨, 1.20mm","kg",0,null,{"v":1271,"d":"1,271.00"},"48",{"v":1511.5,"d":"1,511.50"},"30",0,null,0,null,{"$f":"SMALL(E21:M21,COUNTIF(E21:M21,0)+1)","v":{"v":1271,"d":"1,271.00"}},0,0,0,0,0,0,0,"자재 17"]
["502751237386B24013D9A94B62ADAE97312BD2","스테인리스강판","스테인리스강판, STS304, 1.5mm","kg",{"v":3470,"d":"3,470.00"},null,{"v":3752,"d":"3,752.00"},"59",{"v":3550,"d":"3,550.00"},"36",0,null,0,null,{"$f":"SMALL(E22:M22,COUNTIF(E22:M22,0)+1)","v":{"v":3470,"d":"3,470.00"}},0,0,0,0,0,0,0,"자재 18"]
["502751237386B360118F80A26453CBB161A156","각재","각재, 미송","재",{"v":1685,"d":"1,685.00"},null,{"v":1810,"d":"1,810.00"},"114",{"v":1600,"d":"1,600.00"},"73",0,null,0,null,{"$f":"SMALL(E23:M23,COUNTIF(E23:M23,0)+1)","v":{"v":1600,"d":"1,600.00"}},0,0,0,0,0,0,0,"자재 19"]
["502751237387567010A622ED4498E65815FD14","시멘트","시멘트(별도)","kg",0,null,0,null,0,null,0,null,0,null,0,0,0,0,0,0,0,0,"자재 20","별도"]
["502751237387567010A622ED4498E65815FD10","시멘트","40KG","포",0,null,{"v":4181.81,"d":"4,181.81"},"93",{"v":5000,"d":"5,000.00"},"62",0,null,0,null,{"$f":"SMALL(E25:M25,COUNTIF(E25:M25,0)+1)","v":{"v":4181.81,"d":"4,181.81"}},0,0,0,0,0,0,0,"자재 21"]
["50275123738029501040845230CD02FF7D3F4E","인테리어필름","04*1.22, 시공비포함","M2",0,null,{"v":26500,"d":"26,500.00"},"644",0,null,0,null,0,null,{"v":26500,"d":"26,500.00"},0,0,0,0,0,0,0,"자재 22"]
["5027512373802950104088CA03990BB21C213E","석고보드","석고보드, 평보드, 9.5*900*1800mm(㎡)","M2",{"v":1830,"d":"1,830.00"},null,{"v":2283.95,"d":"2,283.95"},"625",{"v":2037.03,"d":"2,037.03"},"409",0,null,0,null,{"v":1830,"d":"1,830.00"},0,0,0,0,0,0,0,"자재 23"]
["502751237380295013147BD07FBE1D76591FAB","경량철골천장틀","경량철골천장틀, M-BAR더블, 50*19*0.5mm","M",0,null,{"v":930,"d":"930.00"},"688",{"v":620,"d":"620.00"},"417",0,null,0,null,{"v":620,"d":"620.00"},0,0,0,0,0,0,0,"자재 24"]
["502751237380295013147BD07FBE1D76591867","경량철골천장틀","경량철골천장틀, 달대볼트, 상6*1000mm","개",0,null,{"v":690,"d":"690.00"},"688",{"v":690,"d":"690.00"},"419",0,null,0,null,{"v":690,"d":"690.00"},0,0,0,0,0,0,0,"자재 25"]
["502751237380295013147BD07FBE1D76591B34","경량철골천장틀","경량철골천장틀, 캐링찬넬, 38*12*1.2mm","M",0,null,{"v":1250,"d":"1,250.00"},"688",{"v":1250,"d":"1,250.00"},"419",0,null,0,null,{"v":1250,"d":"1,250.00"},0,0,0,0,0,0,0,"자재 26"]
["502751237380295013147BD07FBE1D76591B35","경량철골천장틀","경량철골천장틀, 마이너찬넬, 19*10*1.2mm","M",0,null,{"v":780,"d":"780.00"},"688",{"v":780,"d":"780.00"},"419",0,null,0,null,{"v":780,"d":"780.00"},0,0,0,0,0,0,0,"자재 27"]
["502751237380295013147BD07FBE1D76591B36","경량철골천장틀","경량철골천장틀, 행가및핀, 110*23*18*2.3mm","조",0,null,0,null,{"v":250,"d":"250.00"},"419",0,null,0,null,{"v":250,"d":"250.00"},0,0,0,0,0,0,0,"자재 28"]
["502751237380295013147BD07FBE1D76591B37","경량철골천장틀","경량철골천장틀, 찬넬크립, 37*30*10*1.2mm","조",0,null,0,null,0,null,0,null,{"v":111,"d":"111.00"},null,{"v":111,"d":"111.00"},0,0,0,0,0,0,0,"자재 29"]
["502751237380295013147BD07FBE1D76591B30","경량철골천장틀","경량철골천장틀, 캐링조인트, 90*40*13*0.5mm","조",0,null,0,null,0,null,0,null,{"v":107,"d":"107.00"},null,{"v":107,"d":"107.00"},0,0,0,0,0,0,0,"자재 30"]
["502751237380295013147BD07FBE1D76591B31","경량철골천장틀","경량철골천장틀, BAR크립, 더블","개",0,null,0,null,0,null,0,null,{"v":60,"d":"60.00"},null,{"v":60,"d":"60.00"},0,0,0,0,0,0,0,"자재 31"]
["502751237380295013147BD07FBE1D76591B33","경량철골천장틀","경량철골천장틀, BAR조인트, 더블","개",0,null,0,null,0,null,0,null,{"v":80,"d":"80.00"},null,{"v":80,"d":"80.00"},0,0,0,0,0,0,0,"자재 32"]
["502751237380295013147BD07FBE1D76591A2A","경량철골천장틀","( 경량철골천장틀, 피스, 3*16mm )","개",0,null,0,null,0,null,0,null,0,null,0,0,0,0,0,0,0,0,"자재 33","필요시 계상"]
["5027512373802950120E16774BD3283BC8CC00","플로어링보드","플로어링보드, 15mm, 삼겹적층플로어링, 도장제품(UV)","M2",{"v":39060,"d":"39,060.00"},null,0,null,0,null,0,null,0,null,{"$f":"SMALL(E38:M38,COUNTIF(E38:M38,0)+1)","v":{"v":39060,"d":"39,060.00"}},0,0,0,0,0,0,0,"자재 34"]
["5027512373802950120E129BD49A7FA9669EBD","인조대리석","인조대리석, 400*400*20mm, 글로톤, GP/MJ/SK/MA","M2",0,null,0,null,{"v":41000,"d":"41,000.00"},"371",0,null,0,null,{"v":41000,"d":"41,000.00"},0,0,0,0,0,0,0,"자재 35"]
["502751237381CFF01DB37F8F92CE73759C7731","갈바고정창호/분체도장","1.2MM, 120mm","M2",0,null,0,null,0,null,{"v":114000,"d":"114,000.00"},"573",0,null,{"v":114000,"d":"114,000.00"},0,0,0,0,0,0,0,"자재 36"]
["502751237381CFF01DB37EE44D679307B13C42","강화유리문(세이프)","투명,손보호,12mm*1.0*2.1m,고무2면","개",0,null,0,null,{"v":250000,"d":"250,000.00"},"439",0,null,0,null,{"v":250000,"d":"250,000.00"},0,0,0,0,0,0,0,"자재 37"]
["502751237381CFF01DB37EE44D679307B13C43","강화유리문(세이프)","투명,손보호,12mm*0.9*3.0m,고무2면","개",0,null,0,null,{"v":300000,"d":"300,000.00"},"439",0,null,0,null,{"v":300000,"d":"300,000.00"},0,0,0,0,0,0,0,"자재 38"]
["502751237381CFF01DB37EE44F18C3B0C8C1C0","강화유리문손잡이",null,"개",0,null,0,null,0,null,{"v":48000,"d":"48,000.00"},null,0,null,{"v":48000,"d":"48,000.00"},0,0,0,0,0,0,0,"자재 39"]
["502751237381CFF01DBBBCFE195E0F48FEF6D1","점검구","AL(백색), 650*650mm","조",0,null,0,null,0,null,0,null,{"v":18080,"d":"18,080.00"},null,{"v":18080,"d":"18,080.00"},0,0,0,0,0,0,0,"자재 40"]
["502751237381CFF01F61DD0066D94C1B0EC079","강화유리","강화유리, 투명, 12mm","M2",{"v":37800,"d":"37,800.00"},null,{"v":39000,"d":"39,000.00"},"617",{"v":38000,"d":"38,000.00"},"468",0,null,0,null,{"v":37800,"d":"37,800.00"},0,0,0,0,0,0,0,"자재 41"]
["502741227AE1991015186ABB5A18A8680D7CBC","플로어힌지","KS3호, 105kg, 강화유리문(K-8300)","조",{"v":57200,"d":"57,200.00"},null,{"v":70000,"d":"70,000.00"},"611",{"v":77000,"d":"77,000.00"},"459",0,null,0,null,{"v":57200,"d":"57,200.00"},0,0,0,0,0,0,0,"자재 42"]
["502741227AE1991019F3FAFB0863305F89AAC5","인서트","인서트, 주물, Φ6mm","개",0,null,0,null,0,null,0,null,{"v":180,"d":"180.00"},null,{"v":180,"d":"180.00"},0,0,0,0,0,0,0,"자재 43"]
["502741227AEE52301723DDC2087C4A138990BA","연마지","연마지, #120~180, 230*280mm","장",{"v":200,"d":"200.00"},null,{"v":230,"d":"230.00"},"1305",{"v":275,"d":"275.00"},"1216",0,null,0,null,{"v":200,"d":"200.00"},0,0,0,0,0,0,0,"자재 44"]
["502741227AEE52301723D588EE5A416B72AF6D","우레탄폼",null,"M3",0,null,{"v":250000,"d":"250,000.00"},"676",0,null,0,null,0,null,{"v":250000,"d":"250,000.00"},0,0,0,0,0,0,0,"자재 45"]
["5027412279C120801A512A8E2353459368C596","초산비닐계접착제","초산비닐계접착제, 일반목공용","kg",{"v":1520,"d":"1,520.00"},null,0,null,0,null,0,null,0,null,{"v":1520,"d":"1,520.00"},0,0,0,0,0,0,0,"자재 46"]
["5027412279C120801A512E6518534BE0E60961","퍼티","퍼티, 친환경, 내부","kg",0,null,{"v":1044.44,"d":"1,044.44"},"577",0,null,0,null,0,null,{"v":1044.44,"d":"1,044.44"},0,0,0,0,0,0,0,"자재 47"]
["5027412279C120801A512E6518534BE0E45AFD","F-Tape","W:35~100mm","M",0,null,0,null,0,null,0,null,{"v":73,"d":"73.00"},null,{"v":73,"d":"73.00"},0,0,0,0,0,0,0,"자재 48"]
["5027412279C120801A512E6518534BE0E45B86","휠러",null,"kg",0,null,0,null,0,null,0,null,{"v":1150,"d":"1,150.00"},null,{"v":1150,"d":"1,150.00"},0,0,0,0,0,0,0,"자재 49"]
["5027412279C120801A512CBB18828B90D17DC1","에폭시접착제","에폭시접착제, 석재용","kg",{"v":2550,"d":"2,550.00"},null,{"v":5000,"d":"5,000.00"},"143",0,null,0,null,0,null,{"v":2550,"d":"2,550.00"},0,0,0,0,0,0,0,"자재 50"]
["5027412279C01B401DACDD4BE20297736EB7A8","방청페인트","방청페인트, KSM6030-1종1류, 광명단페인트","L",{"v":9040,"d":"9,040.00"},null,{"v":17655.55,"d":"17,655.55"},"572",{"v":17683.33,"d":"17,683.33"},"473",0,null,0,null,{"v":9040,"d":"9,040.00"},0,0,0,0,0,0,0,"자재 51"]
["5027412279C01B401DACD9ECD693FC93C90B61","조합페인트","조합페인트, KSM6020-1종1급, 백색","L",{"v":5060,"d":"5,060.00"},null,{"v":7988.88,"d":"7,988.88"},"572",{"v":8305.55,"d":"8,305.55"},"473",0,null,0,null,{"v":5060,"d":"5,060.00"},0,0,0,0,0,0,0,"자재 52"]
["5027412279C01B401F5267F666D7158758EA81","실링재","실링재, 실리콘, 비초산, 유리용, 창호주위","L",{"v":9310,"d":"9,310.00"},null,{"v":9999,"d":"9,999.00"},"561",{"v":10645.16,"d":"10,645.16"},"384",0,null,0,null,{"v":9310,"d":"9,310.00"},0,0,0,0,0,0,0,"자재 53"]
["5027412279C01B4010ED900F7CCBCBB449D6A5","시너","시너, KSM6060, 1종","L",0,null,{"v":3483.33,"d":"3,483.33"},"572",{"v":2433.33,"d":"2,433.33"},"477",0,null,0,null,{"v":2433.33,"d":"2,433.33"},0,0,0,0,0,0,0,"자재 54"]
["505C912371FC3970186CA8D1C4C714BD20C248","일반구조용각형강관","일반구조용각형강관, 각형강관, 30*20*1.6mm","M",{"v":870,"d":"870.00"},null,0,null,0,null,0,null,0,null,{"v":870,"d":"870.00"},0,0,0,0,0,0,0,"자재 55"]
["505C912371FC3970186CA8D1C4C714BD20C242","일반구조용각형강관","일반구조용각형강관, 각형강관, 30*30*2.1mm","M",0,null,{"v":1850,"d":"1,850.00"},"56",{"v":1989,"d":"1,989.00"},"33",0,null,0,null,{"v":1850,"d":"1,850.00"},0,0,0,0,0,0,0,"자재 56"]
["505C912371FC3970186CA8D1C4C714BD277AD7","일반구조용각형강관","일반구조용각형강관, 각형강관, 40*40*2.1mm","M",0,null,{"v":2400,"d":"2,400.00"},"56",{"v":2685,"d":"2,685.00"},"33",0,null,0,null,{"v":2400,"d":"2,400.00"},0,0,0,0,0,0,0,"자재 57"]
["505C912371FC3970186CA7CE4CB8950E2DDC5B","알루미늄각관","ㅁ-45*120","M",0,null,0,null,0,null,0,null,{"v":10920,"d":"10,920.00"},null,{"v":10920,"d":"10,920.00"},0,0,0,0,0,0,0,"자재 58"]
["5042412B75518350108F43725EA7633BC8E1AE","거울","거울, 1000*1000*5mm","개",0,null,{"v":20300,"d":"20,300.00"},"619",0,null,0,null,0,null,{"v":20300,"d":"20,300.00"},0,0,0,0,0,0,0,"자재 59","A * M2단가"]
["5702A12B7F8F56C0162190A0EF7042","건설폐기물처리비-중간","혼합건설폐기물","TON",0,null,0,null,0,null,0,null,0,null,0,0,0,0,0,0,{"v":94250,"d":"94,250.00"},{"$f":"SMALL(Q64:U64,COUNTIF(Q64:U64,0)+1)","v":{"v":94250,"d":"94,250.00"}},"자재 60"]
["5702A12B7F8F56C017C732CDB089DF","건설폐기물상차비 - 불연성","15톤덤프트럭(10m3)","TON",0,null,0,null,0,null,0,null,0,null,0,0,0,0,0,{"v":1820,"d":"1,820.00"},0,{"$f":"SMALL(Q65:U65,COUNTIF(Q65:U65,0)+1)","v":{"v":1820,"d":"1,820.00"}},"자재 61"]
["5702A12B7F8F56C017C732CF63E67A","건설폐기물운반비 - 불연성","15톤덤프트럭 - 30km","TON",0,null,0,null,0,null,0,null,0,null,0,0,0,0,0,{"v":11840,"d":"11,840.00"},0,{"$f":"SMALL(Q66:U66,COUNTIF(Q66:U66,0)+1)","v":{"v":11840,"d":"11,840.00"}},"자재 62"]
["570251237A23DB8019A5DC2725B045","비닐페인트","내벽3회","㎡",{"v":4100,"d":"4,100.00"},null,0,null,0,null,0,null,0,null,{"$f":"SMALL(E67:M67,COUNTIF(E67:M67,0)+1)","v":{"v":4100,"d":"4,100.00"}},{"v":6990,"d":"6,990.00"},0,0,0,0,0,0,"자재 63",null,"2"]
["570251237A23DB80189FF142B2C4D7","비닐페인트","내천정3회","㎡",{"v":4250,"d":"4,250.00"},null,0,null,0,null,0,null,0,null,{"$f":"SMALL(E68:M68,COUNTIF(E68:M68,0)+1)","v":{"v":4250,"d":"4,250.00"}},{"v":7430,"d":"7,430.00"},0,0,0,0,0,0,"자재 64",null,"2"]
["5743612E7625F1B01AC7ED557F416E3FA36CA5","공통자재","일반경비, 전력","kwh",0,null,0,null,0,null,0,null,0,null,0,0,{"v":87,"d":"87.00"},0,0,0,0,{"$f":"SMALL(Q69:U69,COUNTIF(Q69:U69,0)+1)","v":{"v":87,"d":"87.00"}},"자재 65"]
["57D121207AA57E8018ED12DDCCCFFFC14BBAC2","보통인부","일반공사 직종","인",0,null,0,null,0,null,0,null,0,null,0,{"v":94338,"d":"94,338.00"},0,0,0,0,0,0,"노임 1",null,"B"]
["57D121207AA57E8018ED12DDCCCFFFC14BBAC3","특별인부","일반공사 직종","인",0,null,0,null,0,null,0,null,0,null,0,{"v":115272,"d":"115,272.00"},0,0,0,0,0,0,"노임 2",null,"B"]
["57D121207AA57E8018ED12DDCCCFFFC14BBAC9","철공","일반공사 직종","인",0,null,0,null,0,null,0,null,0,null,0,{"v":146509,"d":"146,509.00"},0,0,0,0,0,0,"노임 3",null,"B"]
["57D121207AA57E8018ED12DDCCCFFFC14BBBE6","철판공","일반공사 직종","인",0,null,0,null,0,null,0,null,0,null,0,{"v":131821,"d":"131,821.00"},0,0,0,0,0,0,"노임 4",null,"B"]
["57D121207AA57E8018ED12DDCCCFFFC14BBBE4","용접공","일반공사 직종","인",0,null,0,null,0,null,0,null,0,null,0,{"v":143509,"d":"143,509.00"},0,0,0,0,0,0,"노임 5",null,"B"]
["57D121207AA57E8018ED12DDCCCFFFC14BBBE3","착암공","일반공사 직종","인",0,null,0,null,0,null,0,null,0,null,0,{"v":113289,"d":"113,289.00"},0,0,0,0,0,0,"노임 6",null,"B"]
["57D121207AA57E8018ED12DDCCCFFFC14BB811","건축목공","일반공사 직종","인",0,null,0,null,0,null,0,null,0,null,0,{"v":148851,"d":"148,851.00"},0,0,0,0,0,0,"노임 7",null,"B"]
["57D121207AA57E8018ED12DDCCCFFFC14BB816","창호공","일반공사 직종","인",0,null,0,null,0,null,0,null,0,null,0,{"v":139607,"d":"139,607.00"},0,0,0,0,0,0,"노임 8",null,"B"]
["57D121207AA57E8018ED12DDCCCFFFC14BB817","유리공","일반공사 직종","인",0,null,0,null,0,null,0,null,0,null,0,{"v":133910,"d":"133,910.00"},0,0,0,0,0,0,"노임 9",null,"B"]
["57D121207AA57E8018ED12DDCCCFFFC14BB815","미장공","일반공사 직종","인",0,null,0,null,0,null,0,null,0,null,0,{"v":149091,"d":"149,091.00"},0,0,0,0,0,0,"노임 10",null,"B"]
["57D121207AA57E8018ED12DDCCCFFFC14BB81B","도장공","일반공사 직종","인",0,null,0,null,0,null,0,null,0,null,0,{"v":132552,"d":"132,552.00"},0,0,0,0,0,0,"노임 11",null,"B"]
["57D121207AA57E8018ED12DDCCCFFFC14BB939","내장공","일반공사 직종","인",0,null,0,null,0,null,0,null,0,null,0,{"v":144150,"d":"144,150.00"},0,0,0,0,0,0,"노임 12",null,"B"]
["57D121207AA57E8018ED12DDCCCFFFC14BB93A","석공","일반공사 직종","인",0,null,0,null,0,null,0,null,0,null,0,{"v":151583,"d":"151,583.00"},0,0,0,0,0,0,"노임 13",null,"B"]
["57D121207AA57E8018ED12DDCCCFFFC14BBEB3","건설기계운전사","일반공사 직종","인",0,null,0,null,0,null,0,null,0,null,0,{"v":135644,"d":"135,644.00"},0,0,0,0,0,0,"노임 14",null,"B"]
["57D121207AA57E8018ED16B89C80A999620D63","코킹공","기타 직종","인",0,null,0,null,0,null,0,null,0,null,0,{"v":122525,"d":"122,525.00"},0,0,0,0,0,0,"노임 15",null,"B"]
["56BA812F7146E22011C03552E73DA1060155A8","EZM-5693 의자","H705/블랙","EA",0,null,0,null,0,null,0,null,{"v":220000,"d":"220,000.00"},null,{"$f":"SMALL(E85:M85,COUNTIF(E85:M85,0)+1)","v":{"v":220000,"d":"220,000.00"}},0,0,0,0,0,0,0,"자재 66"]
["56BA812F7146E22011C03552E73DA1060155A0","이미지파티션공사","800*1800","EA",0,null,0,null,0,null,0,null,{"v":296000,"d":"296,000.00"},null,{"$f":"SMALL(E86:M86,COUNTIF(E86:M86,0)+1)","v":{"v":296000,"d":"296,000.00"}},0,0,0,0,0,0,0,"자재 67"]
["56BA812F7146E22011C03552E73DA106015482","기계설비공사",null,"식",0,null,0,null,0,null,0,null,{"v":140702,"d":"140,702.00"},null,{"$f":"SMALL(E87:M87,COUNTIF(E87:M87,0)+1)","v":{"v":140702,"d":"140,702.00"}},{"v":1045089,"d":"1,045,089.00"},0,0,0,0,0,0,"자재 68"]

{"sheet":"단가대비표(기계)","index":10,"n_rows":20,"n_cols":28,"rows_kept":20,"merged":[[0,0,0,23],[1,0,1,23],[2,0,3,0],[2,1,3,1],[2,2,3,2],[2,3,3,3],[2,4,2,14],[2,15,3,15],[2,16,2,21],[2,22,3,22],[2,23,3,23],[2,24,3,24],[2,25,3,25],[2,26,3,26],[2,27,3,27]]}
["단 가 대 비 표"]
["[ 본원식당 시설개선 공사-기계 ]"]
["코  드","품      명","규격","단위","재  료  비",{"$nulls":10},"노 무 비","경    비",{"$nulls":5},"번  호","비  고","품목구분","노임구분","소수점처리","자재구분"]
[{"$nulls":4},"가격정보","PAGE","거래가격","PAGE","유통물가","PAGE","조사가격2","PAGE","조사가격1","PAGE","적용단가",null,"가격정보","거래가격","유통물가","조사가격2","조사가격1","적용단가"]
["50B521480459D1250DF563874DA0BC7C62D78F","AL 밴드","0.3*30W","M",{"v":300,"d":"300.00"},null,0,null,{"v":360,"d":"360.00"},"711",0,null,0,null,{"$f":"SMALL(E5:M5,COUNTIF(E5:M5,0)+1)","v":{"v":300,"d":"300.00"}},0,0,0,0,0,0,0,"자재 1"]
["50C7A14B025DBB4560FE6E05DFB38075D90993","디퓨저","디퓨저, 원형, Φ150mm, 알루미늄","개",{"v":17550,"d":"17,550.00"},null,0,null,0,null,0,null,0,null,{"$f":"SMALL(E6:M6,COUNTIF(E6:M6,0)+1)","v":{"v":17550,"d":"17,550.00"}},0,0,0,0,0,0,0,"자재 2"]
["50C7A14B0259DEC5CB7A601C3E3FBAAD6BDD39","공조덕트","공조덕트, 플렉시블, 알루미늄, Φ150mm","m",0,null,{"v":4800,"d":"4,800.00"},"920",{"v":4800,"d":"4,800.00"},"776",0,null,0,null,{"$f":"SMALL(E7:M7,COUNTIF(E7:M7,0)+1)","v":{"v":4800,"d":"4,800.00"}},0,0,0,0,0,0,0,"자재 3"]
["574381438B594EB5183A6594207984BFFC4720","덕트공","일반공사 직종","인",0,null,0,null,0,null,0,null,0,null,0,{"v":116121,"d":"116,121.00"},0,0,0,0,0,0,"노임 1",null,"B"]
["5604D14F5B5394852FCE6196ED650837839DAF","싱글형","냉방13.0/난방15.0kW","대",{"v":1673000,"d":"1,673,000.00"},null,0,null,0,null,0,null,0,null,{"$f":"SMALL(E9:M9,COUNTIF(E9:M9,0)+1)","v":{"v":1673000,"d":"1,673,000.00"}},0,0,0,0,0,0,0,"자재 4"]
["5604D14F5B5394852FCE6196ED650837839DAE","부품","싱글형실외기받침대","대",{"v":26100,"d":"26,100.00"},null,0,null,0,null,0,null,0,null,{"v":26100,"d":"26,100.00"},0,0,0,0,0,0,0,"자재 5"]
["5604D14F5B5394852FCE6196ED650837839DA9","4-WAY","냉방13.0/난방15.0kW, 4방향천장형","대",{"v":487000,"d":"487,000.00"},null,0,null,0,null,0,null,0,null,{"v":487000,"d":"487,000.00"},0,0,0,0,0,0,0,"자재 6"]
["5604D14F5B5394852FCE6196ED650837839DA8","부품","룸컨트롤러","개",{"v":48500,"d":"48,500.00"},null,0,null,0,null,0,null,0,null,{"v":48500,"d":"48,500.00"},0,0,0,0,0,0,0,"자재 7"]
["5604D14F5B5394852FCE6196ED650837839DA4","기본설치","냉난방공조공사, 가변형히트펌프냉난방기설치, 기본(냉매배관제외)","식",{"v":588700,"d":"588,700.00"},null,0,null,0,null,0,null,0,null,{"v":588700,"d":"588,700.00"},0,0,0,0,0,0,0,"자재 8"]
["5604D14F5B5394852FCE6196ED650837839C86","설치옵션","냉난방공조공사, 냉매관및설치, 평균Φ12.7mm, 커버없음, 1m당","m",{"v":6000,"d":"6,000.00"},null,0,null,0,null,0,null,0,null,{"v":6000,"d":"6,000.00"},0,0,0,0,0,0,0,"자재 9"]
["5604D14F5B5394852FCE6196ED650837839C87","설치옵션","냉난방공조공사, 냉매관및설치, 평균Φ15.88mm,커버없음, 1m당","m",{"v":7080,"d":"7,080.00"},null,0,null,0,null,0,null,0,null,{"v":7080,"d":"7,080.00"},0,0,0,0,0,0,0,"자재 10"]
["5604D14F5B5394852FCE6196ED650837839C82","설치옵션","냉난방공조공사, 냉난방기용PVC드레인관설치, Φ32mm","m",{"v":6000,"d":"6,000.00"},null,0,null,0,null,0,null,0,null,{"v":6000,"d":"6,000.00"},0,0,0,0,0,0,0,"자재 11"]
["5604D14F5B5394852FCE6196ED650837839C83","설치옵션","냉난방공조공사, 냉난방기용STS냉매배관커버설치","㎡",{"v":42300,"d":"42,300.00"},null,0,null,0,null,0,null,0,null,{"v":42300,"d":"42,300.00"},0,0,0,0,0,0,0,"자재 12"]
["5604D14F5B5394852FCE6196ED650837839C81","설치옵션","냉난방공조공사, 룸컨트롤러세트용전선및전선관설치, 커버없음","m",{"v":6400,"d":"6,400.00"},null,0,null,0,null,0,null,0,null,{"v":6400,"d":"6,400.00"},0,0,0,0,0,0,0,"자재 13"]
["5604D14F5B5394852FCE6196ED650837839C8E","설치옵션","냉난방공조공사, 실내기실외기간 통신용케이블 및 CD관설치","m",{"v":6400,"d":"6,400.00"},null,0,null,0,null,0,null,0,null,{"v":6400,"d":"6,400.00"},0,0,0,0,0,0,0,"자재 14"]
["5628D14C9B53E045BAA4632B2064023F15ECEB","조달수수료","주재료비의 0.54%","식",{"v":20140,"d":"20,140.00"},null,0,null,0,null,0,null,0,null,{"v":20140,"d":"20,140.00"},0,0,0,0,0,0,0,"자재 15"]

{"sheet":" 공사설정 ","index":11,"n_rows":30,"n_cols":13,"rows_kept":30}
["이 Sheet는 수정하지 마십시요"]
["공사구분","A"]
["확정내역","원내역"]
["자재단가적용",5]
["경비단가적용",5]
["품목코드형식","XXXX-XXXX-XXXXXXXXX"]
["내역금액소수점처리","C","T"]
["일위대가내역소수점처리","C",2]
["단가명","가격정보","거래가격","유통물가","물가자료","조사가격2","TTTTT"]
["환율",1172,0,0]
["시간당작업량","R",4]
["1회 사이클시간","R",4]
["시간당 작업사이클","R",3]
["일반변수","C",5]
["시간당 노임산출 계수","A","1/8*16/12*25/20","1/8*16/12*25/20","1/8*16/12*25/20",1]
["재료비 할증 계수",1.11,1.12]
["노무비 할증 계수",1,1.5,1.16,1.6,1.6,1.6,1.94,1.94,1.94,1,1,1]
["경비 할증 계수",1.25,1.071]
["내역,일위대가 품명,규격,단위 따로적용"]
[]
["코드","공종구분명","원가비목코드"]
[1,"작 업 부 산 물","A3"]
[2,"운    반    비","C1"]
[3,"관 급 자 재 비","DJ"]
[4,"사 급 자 재 비","D3"]
[5,"외    자    재"]
[6,"건설폐기물처리비","D4"]
[7,"..."]
[8,"..."]
[9,"..."]

{"sheet":"Sheet1","index":12,"n_rows":0,"n_cols":0,"rows_kept":0}